BEGIN:VCALENDAR
VERSION:2.0
PRODID:-//SK Kojetín 201679188//NONSGML kigkonsult.se iCalcreator 2.41.80//
CALSCALE:GREGORIAN
UID:33383562-6339-4431-a563-333662646334
BEGIN:VEVENT
UID:36306634-6237-4935-b034-333764323138
DTSTAMP:20260422T075523Z
DESCRIPTION:2/6 Kojetín - V. Meziříčí 3:1 (-24\,19\,13\,16)
DTSTART;TZID=Europe/Berlin:20221002T090000
DTEND;TZID=Europe/Berlin:20221002T110000
LOCATION:Baluo\, U Letiště 976 Olomouc - Neředín
SUMMARY:EX-U20M-1C: Kojetín-V. Meziříčí
END:VEVENT
BEGIN:VEVENT
UID:63343364-6365-4633-a261-343365643530
DTSTAMP:20260422T075523Z
DESCRIPTION:1/1 Olomouc - Kojetín 1:3 (-12\,20\,-22\,-16)
DTSTART;TZID=Europe/Berlin:20221001T100000
DTEND;TZID=Europe/Berlin:20221001T120000
LOCATION:Baluo\, U Letiště 976 Olomouc - Neředín
SUMMARY:EX-U20M-1C: Olomouc-Kojetín
END:VEVENT
BEGIN:VEVENT
UID:31376633-3338-4961-a134-303862393530
DTSTAMP:20260422T075523Z
DESCRIPTION:1/3 Kolín - Kojetín 0:3 (-16\,-20\,-20)
DTSTART;TZID=Europe/Berlin:20221001T140000
DTEND;TZID=Europe/Berlin:20221001T160000
LOCATION:Baluo\, U Letiště 976 Olomouc - Neředín
SUMMARY:EX-U20M-1C: Kolín-Kojetín
END:VEVENT
BEGIN:VEVENT
UID:30366336-6638-4534-a230-396333366664
DTSTAMP:20260422T075523Z
DESCRIPTION:2/8 Zlín - Kojetín 0:3 (-21\,-20\,-12)
DTSTART;TZID=Europe/Berlin:20221002T130000
DTEND;TZID=Europe/Berlin:20221002T150000
LOCATION:Baluo\, U Letiště 976 Olomouc - Neředín
SUMMARY:EX-U20M-1C: Zlín-Kojetín
END:VEVENT
BEGIN:VEVENT
UID:38326237-6335-4034-b131-663735343732
DTSTAMP:20260422T075523Z
DESCRIPTION:2/6 Kojetín - Blue Ostrava 1:3 (-23\,21\,-19\,-17)
DTSTART;TZID=Europe/Berlin:20221106T090000
DTEND;TZID=Europe/Berlin:20221106T110000
LOCATION:Sportovní gymnázium Ludvíka Daňka\, Botanická 63 Brno - Ponava
SUMMARY:EX-U20M-2A: Kojetín-Blue Ostrava
END:VEVENT
BEGIN:VEVENT
UID:38336333-3739-4061-a562-633736636161
DTSTAMP:20260422T075523Z
DESCRIPTION:1/1 Brno - Kojetín 3:1 (-23\,17\,19\,18)
DTSTART;TZID=Europe/Berlin:20221105T100000
DTEND;TZID=Europe/Berlin:20221105T120000
LOCATION:Sportovní gymnázium Ludvíka Daňka\, Botanická 63 Brno - Ponava
SUMMARY:EX-U20M-2A: Brno-Kojetín
END:VEVENT
BEGIN:VEVENT
UID:33386536-3032-4564-b533-616235303536
DTSTAMP:20260422T075523Z
DESCRIPTION:1/3 Č. Budějovice - Kojetín 3:0 (18\,20\,19)
DTSTART;TZID=Europe/Berlin:20221105T140000
DTEND;TZID=Europe/Berlin:20221105T160000
LOCATION:Sportovní gymnázium Ludvíka Daňka\, Botanická 63 Brno - Ponava
SUMMARY:EX-U20M-2A: Č. Budějovice-Kojetín
END:VEVENT
BEGIN:VEVENT
UID:65383233-6562-4039-b662-616562656331
DTSTAMP:20260422T075523Z
DESCRIPTION:2/8 H. Králové - Kojetín 1:3 (-21\,14\,-24\,-16)
DTSTART;TZID=Europe/Berlin:20221106T130000
DTEND;TZID=Europe/Berlin:20221106T150000
LOCATION:Sportovní gymnázium Ludvíka Daňka\, Botanická 63 Brno - Ponava
SUMMARY:EX-U20M-2A: H. Králové-Kojetín
END:VEVENT
BEGIN:VEVENT
UID:61373835-3632-4866-b666-346232356139
DTSTAMP:20260422T075523Z
DESCRIPTION:1/1 Kojetín - Olomouc 3:2 (-22\,18\,22\,-19\,10)
DTSTART;TZID=Europe/Berlin:20221203T100000
DTEND;TZID=Europe/Berlin:20221203T120000
LOCATION:Městská sportovní hala\, Hanusíkova 1476 Kojetín - Kojetín I-Město
SUMMARY:EX-U20M-3B: Kojetín-Olomouc
END:VEVENT
BEGIN:VEVENT
UID:65323061-3131-4135-a464-373866663562
DTSTAMP:20260422T075523Z
DESCRIPTION:1/4 Kojetín - H. Králové 3:0 (16\,23\,16)
DTSTART;TZID=Europe/Berlin:20221203T160000
DTEND;TZID=Europe/Berlin:20221203T180000
LOCATION:Městská sportovní hala\, Hanusíkova 1476 Kojetín - Kojetín I-Město
SUMMARY:EX-U20M-3B: Kojetín-H. Králové
END:VEVENT
BEGIN:VEVENT
UID:37353563-3739-4137-a661-623134353362
DTSTAMP:20260422T075523Z
DESCRIPTION:2/7 Kojetín - Liberec 3:0 (17\,23\,15)
DTSTART;TZID=Europe/Berlin:20221204T110000
DTEND;TZID=Europe/Berlin:20221204T130000
LOCATION:Městská sportovní hala\, Hanusíkova 1476 Kojetín - Kojetín I-Město
SUMMARY:EX-U20M-3B: Kojetín-Liberec
END:VEVENT
BEGIN:VEVENT
UID:62656435-3163-4532-a336-353164393432
DTSTAMP:20260422T075523Z
DESCRIPTION:2/10 Zlín - Kojetín 0:3 (-20\,-10\,-15)
DTSTART;TZID=Europe/Berlin:20221204T170000
DTEND;TZID=Europe/Berlin:20221204T190000
LOCATION:Městská sportovní hala\, Hanusíkova 1476 Kojetín - Kojetín I-Město
SUMMARY:EX-U20M-3B: Zlín-Kojetín
END:VEVENT
BEGIN:VEVENT
UID:66626366-3561-4531-b335-633764646237
DTSTAMP:20260422T075523Z
DESCRIPTION:2/8 Kojetín - Brno 0:3 (-22\,-23\,-21)
DTSTART;TZID=Europe/Berlin:20230212T130000
DTEND;TZID=Europe/Berlin:20230212T150000
LOCATION:Sportovní hala Lužiny\, Bellušova 1877 Praha - Stodůlky
SUMMARY:EX-U20M-4A: Kojetín-Brno
END:VEVENT
BEGIN:VEVENT
UID:37343531-3761-4438-a331-653033636163
DTSTAMP:20260422T075523Z
DESCRIPTION:2/10 Kojetín - Lvi 1:3 (-20\,22\,-18\,-23)
DTSTART;TZID=Europe/Berlin:20230212T170000
DTEND;TZID=Europe/Berlin:20230212T190000
LOCATION:Sportovní hala Lužiny\, Bellušova 1877 Praha - Stodůlky
SUMMARY:EX-U20M-4A: Kojetín-Lvi
END:VEVENT
BEGIN:VEVENT
UID:61356634-3662-4462-a339-323639386364
DTSTAMP:20260422T075523Z
DESCRIPTION:1/2 Olomouc - Kojetín 3:1 (-18\,25\,25\,18)
DTSTART;TZID=Europe/Berlin:20230211T120000
DTEND;TZID=Europe/Berlin:20230211T140000
LOCATION:Sportovní hala Lužiny\, Bellušova 1877 Praha - Stodůlky
SUMMARY:EX-U20M-4A: Olomouc-Kojetín
END:VEVENT
BEGIN:VEVENT
UID:66366661-3765-4164-a339-386138616465
DTSTAMP:20260422T075523Z
DESCRIPTION:1/5 Blue Ostrava - Kojetín 3:1 (22\,21\,-25\,22)
DTSTART;TZID=Europe/Berlin:20230211T180000
DTEND;TZID=Europe/Berlin:20230211T200000
LOCATION:Sportovní hala Lužiny\, Bellušova 1877 Praha - Stodůlky
SUMMARY:EX-U20M-4A: Blue Ostrava-Kojetín
END:VEVENT
BEGIN:VEVENT
UID:31633230-6132-4964-a437-666635323233
DTSTAMP:20260422T075523Z
DESCRIPTION:1/2 Kojetín - Liberec 3:1 (22\,-22\,16\,17)
DTSTART;TZID=Europe/Berlin:20230304T120000
DTEND;TZID=Europe/Berlin:20230304T140000
LOCATION:Hala BIOS\, Jana Palacha 1840 Kladno
SUMMARY:EX-U20M-5B: Kojetín-Liberec
END:VEVENT
BEGIN:VEVENT
UID:61343433-3462-4139-b432-646162373639
DTSTAMP:20260422T075523Z
DESCRIPTION:2/9 Kojetín - Olomouc 2:3 (-26\,23\,-14\,15\,-10)
DTSTART;TZID=Europe/Berlin:20230305T150000
DTEND;TZID=Europe/Berlin:20230305T170000
LOCATION:Hala BIOS\, Jana Palacha 1840 Kladno
SUMMARY:EX-U20M-5B: Kojetín-Olomouc
END:VEVENT
BEGIN:VEVENT
UID:32653465-3764-4463-a664-643436613038
DTSTAMP:20260422T075523Z
DESCRIPTION:1/4 Kladno - Kojetín 3:0 (16\,23\,21)
DTSTART;TZID=Europe/Berlin:20230304T160000
DTEND;TZID=Europe/Berlin:20230304T180000
LOCATION:Hala BIOS\, Jana Palacha 1840 Kladno
SUMMARY:EX-U20M-5B: Kladno-Kojetín
END:VEVENT
BEGIN:VEVENT
UID:30383734-6431-4137-b962-383934616361
DTSTAMP:20260422T075523Z
DESCRIPTION:2/6 Prosek - Kojetín 1:3 (-20\,-27\,18\,-14)
DTSTART;TZID=Europe/Berlin:20230305T090000
DTEND;TZID=Europe/Berlin:20230305T110000
LOCATION:Hala BIOS\, Jana Palacha 1840 Kladno
SUMMARY:EX-U20M-5B: Prosek-Kojetín
END:VEVENT
BEGIN:VEVENT
UID:38623538-3061-4766-b033-666666656437
DTSTAMP:20260422T075523Z
DESCRIPTION:1/1 Kojetín - Olomouc 3:0 (21\,21\,21)
DTSTART;TZID=Europe/Berlin:20230429T100000
DTEND;TZID=Europe/Berlin:20230429T120000
LOCATION:Městská sportovní hala\, Hanusíkova 1476 Kojetín - Kojetín I-Město
SUMMARY:EX-U20M-6B: Kojetín-Olomouc
END:VEVENT
BEGIN:VEVENT
UID:36373861-6562-4462-a361-663839643465
DTSTAMP:20260422T075523Z
DESCRIPTION:1/4 Kojetín - VK Ostrava 2:3 (24\,-26\,-22\,19\,-11)
DTSTART;TZID=Europe/Berlin:20230429T160000
DTEND;TZID=Europe/Berlin:20230429T180000
LOCATION:Městská sportovní hala\, Hanusíkova 1476 Kojetín - Kojetín I-Město
SUMMARY:EX-U20M-6B: Kojetín-VK Ostrava
END:VEVENT
BEGIN:VEVENT
UID:38356665-3565-4565-b330-633032303866
DTSTAMP:20260422T075523Z
DESCRIPTION:2/7 Kojetín - Liberec 1:3 (-22\,-22\,21\,-19)
DTSTART;TZID=Europe/Berlin:20230430T110000
DTEND;TZID=Europe/Berlin:20230430T130000
LOCATION:Městská sportovní hala\, Hanusíkova 1476 Kojetín - Kojetín I-Město
SUMMARY:EX-U20M-6B: Kojetín-Liberec
END:VEVENT
BEGIN:VEVENT
UID:39353837-3661-4935-b039-363864653235
DTSTAMP:20260422T075523Z
DESCRIPTION:2/10 Zlín - Kojetín 1:3 (19\,-16\,-21\,-21)
DTSTART;TZID=Europe/Berlin:20230430T170000
DTEND;TZID=Europe/Berlin:20230430T190000
LOCATION:Městská sportovní hala\, Hanusíkova 1476 Kojetín - Kojetín I-Město
SUMMARY:EX-U20M-6B: Zlín-Kojetín
END:VEVENT
BEGIN:VEVENT
UID:63313433-6330-4138-b133-326466323934
DTSTAMP:20260422T075523Z
DESCRIPTION:1/2 Olomouc - Kojetín 1:3 (15\,-16\,-12\,-16)\n3F2-4F1
DTSTART;TZID=Europe/Berlin:20230603T120000
DTEND;TZID=Europe/Berlin:20230603T140000
LOCATION:Baluo\, U Letiště 976 Olomouc - Neředín
SUMMARY:EX-U20M-F: Olomouc-Kojetín
END:VEVENT
BEGIN:VEVENT
UID:33663965-3830-4362-b633-386161313363
DTSTAMP:20260422T075523Z
DESCRIPTION:2/6 Brno - Kojetín 3:2 (-16\,-21\,19\,22\,12)\no 5.-6. místo
DTSTART;TZID=Europe/Berlin:20230604T110000
DTEND;TZID=Europe/Berlin:20230604T130000
LOCATION:Sportovní gymnázium Ludvíka Daňka\, Botanická 63 Brno - Ponava
SUMMARY:EX-U20M-F: Brno-Kojetín
END:VEVENT
BEGIN:VEVENT
UID:34336266-6633-4432-a434-343439326330
DTSTAMP:20260422T075523Z
DESCRIPTION:2/7 Kojetín - Lvi 0:3 (-16\,-10\,-21)
DTSTART;TZID=Europe/Berlin:20230602T120000
DTEND;TZID=Europe/Berlin:20230602T140000
LOCATION:Sportovní hala\, Stromovka 1216 České Budějovice - České Budějovic
 e 2
SUMMARY:EX-U20M-F1: Kojetín-Lvi
END:VEVENT
BEGIN:VEVENT
UID:66663132-3730-4561-b733-316537323837
DTSTAMP:20260422T075523Z
DESCRIPTION:2/9 Kojetín - Liberec 0:3 (-19\,-14\,-17)
DTSTART;TZID=Europe/Berlin:20230602T150000
DTEND;TZID=Europe/Berlin:20230602T170000
LOCATION:Sportovní hala\, Stromovka 1216 České Budějovice - České Budějovic
 e 2
SUMMARY:EX-U20M-F1: Kojetín-Liberec
END:VEVENT
BEGIN:VEVENT
UID:30323430-3731-4433-a433-303836666561
DTSTAMP:20260422T075523Z
DESCRIPTION:1/3 Brno - Kojetín 3:1 (16\,19\,-19\,19)
DTSTART;TZID=Europe/Berlin:20230601T170000
DTEND;TZID=Europe/Berlin:20230601T190000
LOCATION:Sportovní hala\, Stromovka 1216 České Budějovice - České Budějovic
 e 2
SUMMARY:EX-U20M-F1: Brno-Kojetín
END:VEVENT
END:VCALENDAR
