BEGIN:VCALENDAR
VERSION:2.0
PRODID:-//VO TJ Lanškroun79198//NONSGML kigkonsult.se iCalcreator 2.41.80//
CALSCALE:GREGORIAN
UID:61313736-3865-4536-b832-323061376461
BEGIN:VEVENT
UID:30353633-6431-4134-a638-613662333739
DTSTAMP:20260421T145539Z
DESCRIPTION:6/6 Lanškroun - Kr. Pole 1:3 (-11\,-20\,17\,-14)
DTSTART;TZID=Europe/Berlin:20220925T120000
DTEND;TZID=Europe/Berlin:20220925T140000
LOCATION:Sportovní gymnázium Ludvíka Daňka\, Botanická 63 Brno - Ponava
SUMMARY:EX-U20Z-1A: Lanškroun-Kr. Pole
END:VEVENT
BEGIN:VEVENT
UID:38613161-3636-4434-a164-353063323165
DTSTAMP:20260421T145539Z
DESCRIPTION:2/2 Plzeň - Lanškroun 3:1 (18\,-26\,21\,16)
DTSTART;TZID=Europe/Berlin:20220924T123000
DTEND;TZID=Europe/Berlin:20220924T143000
LOCATION:Sportovní gymnázium Ludvíka Daňka\, Botanická 63 Brno - Ponava
SUMMARY:EX-U20Z-1A: Plzeň-Lanškroun
END:VEVENT
BEGIN:VEVENT
UID:35303738-6237-4534-a165-313561383830
DTSTAMP:20260421T145539Z
DESCRIPTION:3/3 Frýdek - Místek - Lanškroun 3:0 (16\,21\,23)
DTSTART;TZID=Europe/Berlin:20220924T160000
DTEND;TZID=Europe/Berlin:20220924T180000
LOCATION:Sportovní gymnázium Ludvíka Daňka\, Botanická 63 Brno - Ponava
SUMMARY:EX-U20Z-1A: Frýdek - Místek-Lanškroun
END:VEVENT
BEGIN:VEVENT
UID:39303437-3233-4365-b438-376638666331
DTSTAMP:20260421T145539Z
DESCRIPTION:12/6 Lanškroun - Přerov 0:3 (-19\,-9\,-22)
DTSTART;TZID=Europe/Berlin:20221009T120000
DTEND;TZID=Europe/Berlin:20221009T140000
LOCATION:Městská sportovní hala\, Petřivalského 2884 Přerov - Přerov I-Měst
 o
SUMMARY:EX-U20Z-2C: Lanškroun-Přerov
END:VEVENT
BEGIN:VEVENT
UID:32316433-3030-4137-b934-343566616433
DTSTAMP:20260421T145539Z
DESCRIPTION:8/2 Střešovice - Lanškroun 3:1 (13\,12\,-18\,20)
DTSTART;TZID=Europe/Berlin:20221008T120000
DTEND;TZID=Europe/Berlin:20221008T140000
LOCATION:Městská sportovní hala\, Petřivalského 2884 Přerov - Přerov I-Měst
 o
SUMMARY:EX-U20Z-2C: Střešovice-Lanškroun
END:VEVENT
BEGIN:VEVENT
UID:33316238-3664-4131-a130-373531653962
DTSTAMP:20260421T145539Z
DESCRIPTION:9/3 Šternberk - Lanškroun 0:3 (-21\,-9\,-18)
DTSTART;TZID=Europe/Berlin:20221008T160000
DTEND;TZID=Europe/Berlin:20221008T180000
LOCATION:Městská sportovní hala\, Petřivalského 2884 Přerov - Přerov I-Měst
 o
SUMMARY:EX-U20Z-2C: Šternberk-Lanškroun
END:VEVENT
BEGIN:VEVENT
UID:62356134-3664-4331-b535-353439356432
DTSTAMP:20260421T145539Z
DESCRIPTION:14/2 Lanškroun - Šternberk 1:3 (-14\,-22\,15\,-18)
DTSTART;TZID=Europe/Berlin:20221112T120000
DTEND;TZID=Europe/Berlin:20221112T140000
LOCATION:Sportovní hala Meteor\, Jana Kollára 1742 České Budějovice - České
  Budějovice 7
SUMMARY:EX-U20Z-3C: Lanškroun-Šternberk
END:VEVENT
BEGIN:VEVENT
UID:37303638-6266-4561-a465-396662323634
DTSTAMP:20260421T145539Z
DESCRIPTION:17/5 Lanškroun - Střešovice 3:0 (24\,25\,26)
DTSTART;TZID=Europe/Berlin:20221113T100000
DTEND;TZID=Europe/Berlin:20221113T120000
LOCATION:Sportovní hala Meteor\, Jana Kollára 1742 České Budějovice - České
  Budějovice 7
SUMMARY:EX-U20Z-3C: Lanškroun-Střešovice
END:VEVENT
BEGIN:VEVENT
UID:32666135-6162-4963-a564-333064316332
DTSTAMP:20260421T145539Z
DESCRIPTION:16/4 Č. Budějovice - Lanškroun 3:0 (20\,18\,15)
DTSTART;TZID=Europe/Berlin:20221112T180000
DTEND;TZID=Europe/Berlin:20221112T200000
LOCATION:Sportovní hala Meteor\, Jana Kollára 1742 České Budějovice - České
  Budějovice 7
SUMMARY:EX-U20Z-3C: Č. Budějovice-Lanškroun
END:VEVENT
BEGIN:VEVENT
UID:64383366-6566-4965-a434-326164333134
DTSTAMP:20260421T145539Z
DESCRIPTION:19/1 Lanškroun - Šternberk 3:0 (23\,14\,14)
DTSTART;TZID=Europe/Berlin:20221210T100000
DTEND;TZID=Europe/Berlin:20221210T120000
LOCATION:SOŠ a SOU Lanškroun\, Sokolská 288 Lanškroun - Ostrovské Předměstí
SUMMARY:EX-U20Z-4C: Lanškroun-Šternberk
END:VEVENT
BEGIN:VEVENT
UID:39353563-3536-4736-b864-396331303937
DTSTAMP:20260421T145540Z
DESCRIPTION:22/4 Lanškroun - Přerov 1:3 (21\,-13\,-15\,-20)
DTSTART;TZID=Europe/Berlin:20221210T180000
DTEND;TZID=Europe/Berlin:20221210T200000
LOCATION:SOŠ a SOU Lanškroun\, Sokolská 288 Lanškroun - Ostrovské Předměstí
SUMMARY:EX-U20Z-4C: Lanškroun-Přerov
END:VEVENT
BEGIN:VEVENT
UID:61303636-3936-4365-b261-333636643932
DTSTAMP:20260421T145540Z
DESCRIPTION:24/6 Střešovice - Lanškroun 3:2 (21\,-22\,23\,-18\,10)
DTSTART;TZID=Europe/Berlin:20221211T100000
DTEND;TZID=Europe/Berlin:20221211T120000
LOCATION:SOŠ a SOU Lanškroun\, Sokolská 288 Lanškroun - Ostrovské Předměstí
SUMMARY:EX-U20Z-4C: Střešovice-Lanškroun
END:VEVENT
BEGIN:VEVENT
UID:30333163-6139-4537-b666-636534366331
DTSTAMP:20260421T145540Z
DESCRIPTION:27/3 Lanškroun - Ostrava 1:3 (-23\,-10\,21\,-17)
DTSTART;TZID=Europe/Berlin:20230107T160000
DTEND;TZID=Europe/Berlin:20230107T180000
LOCATION:TJ Tatran Střešovice\, Sibeliova 368 Praha - Střešovice
SUMMARY:EX-U20Z-5C: Lanškroun-Ostrava
END:VEVENT
BEGIN:VEVENT
UID:66373362-6261-4231-a334-373332306339
DTSTAMP:20260421T145540Z
DESCRIPTION:25/1 Střešovice - Lanškroun 3:1 (21\,20\,-20\,14)
DTSTART;TZID=Europe/Berlin:20230107T100000
DTEND;TZID=Europe/Berlin:20230107T120000
LOCATION:TJ Tatran Střešovice\, Sibeliova 368 Praha - Střešovice
SUMMARY:EX-U20Z-5C: Střešovice-Lanškroun
END:VEVENT
BEGIN:VEVENT
UID:63623238-3431-4735-a162-303263333138
DTSTAMP:20260421T145540Z
DESCRIPTION:29/5 Šternberk - Lanškroun 0:3 (-23\,-14\,-19)\nNH: ZŠ Praha Ru
 zyně
DTSTART;TZID=Europe/Berlin:20230108T100000
DTEND;TZID=Europe/Berlin:20230108T120000
LOCATION:TJ Tatran Střešovice\, Sibeliova 368 Praha - Střešovice
SUMMARY:EX-U20Z-5C: Šternberk-Lanškroun
END:VEVENT
BEGIN:VEVENT
UID:35313938-3939-4266-b665-656364373136
DTSTAMP:20260421T145540Z
DESCRIPTION:36/6 Lanškroun - Přerov 1:3 (-21\,13\,-16\,-16)
DTSTART;TZID=Europe/Berlin:20230212T120000
DTEND;TZID=Europe/Berlin:20230212T140000
LOCATION:Městská sportovní hala\, Petřivalského 2884 Přerov - Přerov I-Měst
 o
SUMMARY:EX-U20Z-6C: Lanškroun-Přerov
END:VEVENT
BEGIN:VEVENT
UID:37636364-6361-4537-b236-393032643163
DTSTAMP:20260421T145540Z
DESCRIPTION:32/2 Střešovice - Lanškroun 3:0 (11\,20\,20)
DTSTART;TZID=Europe/Berlin:20230211T120000
DTEND;TZID=Europe/Berlin:20230211T140000
LOCATION:Městská sportovní hala\, Petřivalského 2884 Přerov - Přerov I-Měst
 o
SUMMARY:EX-U20Z-6C: Střešovice-Lanškroun
END:VEVENT
BEGIN:VEVENT
UID:39666637-3261-4331-b638-653561343835
DTSTAMP:20260421T145540Z
DESCRIPTION:33/3 Šternberk - Lanškroun 3:2 (22\,9\,-13\,-25\,10)
DTSTART;TZID=Europe/Berlin:20230211T160000
DTEND;TZID=Europe/Berlin:20230211T180000
LOCATION:Městská sportovní hala\, Petřivalského 2884 Přerov - Přerov I-Měst
 o
SUMMARY:EX-U20Z-6C: Šternberk-Lanškroun
END:VEVENT
BEGIN:VEVENT
UID:38383765-3035-4734-b162-313032396364
DTSTAMP:20260421T145540Z
DESCRIPTION:39/3 Lanškroun - Plzeň 0:3 (-20\,-13\,-18)
DTSTART;TZID=Europe/Berlin:20230311T160000
DTEND;TZID=Europe/Berlin:20230311T180000
LOCATION:Hala ZŠ Dr. Hrubého\, Dr. Hrubého 319 Šternberk
SUMMARY:EX-U20Z-7C: Lanškroun-Plzeň
END:VEVENT
BEGIN:VEVENT
UID:33626662-3363-4635-a438-383631626137
DTSTAMP:20260421T145540Z
DESCRIPTION:37/1 Šternberk - Lanškroun 1:3 (15\,-17\,-22\,-23)
DTSTART;TZID=Europe/Berlin:20230311T100000
DTEND;TZID=Europe/Berlin:20230311T120000
LOCATION:Hala ZŠ Dr. Hrubého\, Dr. Hrubého 319 Šternberk
SUMMARY:EX-U20Z-7C: Šternberk-Lanškroun
END:VEVENT
BEGIN:VEVENT
UID:61393032-3562-4663-b231-326632333465
DTSTAMP:20260421T145540Z
DESCRIPTION:41/5 Střešovice - Lanškroun 1:3 (-15\,21\,-18\,-12)
DTSTART;TZID=Europe/Berlin:20230312T100000
DTEND;TZID=Europe/Berlin:20230312T120000
LOCATION:Hala ZŠ Dr. Hrubého\, Dr. Hrubého 319 Šternberk
SUMMARY:EX-U20Z-7C: Střešovice-Lanškroun
END:VEVENT
BEGIN:VEVENT
UID:65393563-3436-4638-b638-653532323932
DTSTAMP:20260421T145540Z
DESCRIPTION:45/3 Lanškroun - Šternberk 3:0 (13\,20\,18)
DTSTART;TZID=Europe/Berlin:20230407T160000
DTEND;TZID=Europe/Berlin:20230407T180000
LOCATION:Sportovní hala ZŠ\, náměstí Českého povstání 511 Praha - Ruzyně
SUMMARY:EX-U20Z-8C: Lanškroun-Šternberk
END:VEVENT
BEGIN:VEVENT
UID:30663832-3266-4930-a561-366361356639
DTSTAMP:20260421T145540Z
DESCRIPTION:47/5 Lanškroun - Přerov 3:1 (23\,-21\,20\,18)\nHráno v Lanškrou
 ně
DTSTART;TZID=Europe/Berlin:20230405T170000
DTEND;TZID=Europe/Berlin:20230405T190000
LOCATION:Sportovní hala ZŠ\, náměstí Českého povstání 511 Praha - Ruzyně
SUMMARY:EX-U20Z-8C: Lanškroun-Přerov
END:VEVENT
BEGIN:VEVENT
UID:30633961-3131-4433-b032-626537643932
DTSTAMP:20260421T145540Z
DESCRIPTION:43/1 Střešovice - Lanškroun 3:1 (19\,23\,-15\,23)
DTSTART;TZID=Europe/Berlin:20230407T100000
DTEND;TZID=Europe/Berlin:20230407T120000
LOCATION:Sportovní hala ZŠ\, náměstí Českého povstání 511 Praha - Ruzyně
SUMMARY:EX-U20Z-8C: Střešovice-Lanškroun
END:VEVENT
END:VCALENDAR
