BEGIN:VCALENDAR
VERSION:2.0
PRODID:-//Volejbal Plzeň79200//NONSGML kigkonsult.se iCalcreator 2.41.80//
CALSCALE:GREGORIAN
UID:32653431-3133-4239-a331-346336313063
BEGIN:VEVENT
UID:36643461-3364-4433-a638-666664626337
DTSTAMP:20260421T151508Z
DESCRIPTION:2/2 Plzeň - Lanškroun 3:1 (18\,-26\,21\,16)
DTSTART;TZID=Europe/Berlin:20220924T123000
DTEND;TZID=Europe/Berlin:20220924T143000
LOCATION:Sportovní gymnázium Ludvíka Daňka\, Botanická 63 Brno - Ponava
SUMMARY:EX-U20Z-1A: Plzeň-Lanškroun
END:VEVENT
BEGIN:VEVENT
UID:39396363-6663-4465-b762-306539386563
DTSTAMP:20260421T151508Z
DESCRIPTION:5/5 Plzeň - Frýdek - Místek 3:0 (23\,15\,18)
DTSTART;TZID=Europe/Berlin:20220925T100000
DTEND;TZID=Europe/Berlin:20220925T120000
LOCATION:Sportovní gymnázium Ludvíka Daňka\, Botanická 63 Brno - Ponava
SUMMARY:EX-U20Z-1A: Plzeň-Frýdek - Místek
END:VEVENT
BEGIN:VEVENT
UID:30303937-6162-4832-b261-306562633036
DTSTAMP:20260421T151508Z
DESCRIPTION:4/4 Kr. Pole - Plzeň 3:0 (21\,21\,16)
DTSTART;TZID=Europe/Berlin:20220924T180000
DTEND;TZID=Europe/Berlin:20220924T200000
LOCATION:Sportovní gymnázium Ludvíka Daňka\, Botanická 63 Brno - Ponava
SUMMARY:EX-U20Z-1A: Kr. Pole-Plzeň
END:VEVENT
BEGIN:VEVENT
UID:61393361-3162-4231-a137-613264343639
DTSTAMP:20260421T151508Z
DESCRIPTION:7/1 Plzeň - Č. Budějovice 2:3 (16\,-15\,23\,-25\,-14)
DTSTART;TZID=Europe/Berlin:20221008T100000
DTEND;TZID=Europe/Berlin:20221008T120000
LOCATION:Sportovní hala - SG Plzeň\, Vejprnická 663 Plzeň - Skvrňany
SUMMARY:EX-U20Z-2B: Plzeň-Č. Budějovice
END:VEVENT
BEGIN:VEVENT
UID:30393830-6131-4136-b635-636164306539
DTSTAMP:20260421T151508Z
DESCRIPTION:10/4 Plzeň - Ostrava 3:0 (21\,15\,24)
DTSTART;TZID=Europe/Berlin:20221008T173000
DTEND;TZID=Europe/Berlin:20221008T193000
LOCATION:Sportovní hala - SG Plzeň\, Vejprnická 663 Plzeň - Skvrňany
SUMMARY:EX-U20Z-2B: Plzeň-Ostrava
END:VEVENT
BEGIN:VEVENT
UID:32366239-6262-4462-a234-366632343630
DTSTAMP:20260421T151508Z
DESCRIPTION:12/6 Frýdek - Místek - Plzeň 0:3 (-15\,-19\,-22)
DTSTART;TZID=Europe/Berlin:20221009T123000
DTEND;TZID=Europe/Berlin:20221009T143000
LOCATION:Sportovní hala - SG Plzeň\, Vejprnická 663 Plzeň - Skvrňany
SUMMARY:EX-U20Z-2B: Frýdek - Místek-Plzeň
END:VEVENT
BEGIN:VEVENT
UID:36623265-3562-4137-a664-313332636361
DTSTAMP:20260421T151508Z
DESCRIPTION:18/6 Plzeň - Liberec 0:3 (-14\,-19\,-14)
DTSTART;TZID=Europe/Berlin:20221113T120000
DTEND;TZID=Europe/Berlin:20221113T140000
LOCATION:Sokolovna Jablonec nad Nisou\, Fügnerova 1054 Jablonec nad Nisou
SUMMARY:EX-U20Z-3A: Plzeň-Liberec
END:VEVENT
BEGIN:VEVENT
UID:37323662-3364-4438-b334-613536653533
DTSTAMP:20260421T151508Z
DESCRIPTION:14/2 Kr. Pole - Plzeň 2:3 (-21\,-19\,17\,18\,-10)
DTSTART;TZID=Europe/Berlin:20221112T120000
DTEND;TZID=Europe/Berlin:20221112T140000
LOCATION:Sokolovna Jablonec nad Nisou\, Fügnerova 1054 Jablonec nad Nisou
SUMMARY:EX-U20Z-3A: Kr. Pole-Plzeň
END:VEVENT
BEGIN:VEVENT
UID:34633962-6233-4961-b334-633366663166
DTSTAMP:20260421T151508Z
DESCRIPTION:15/3 Olymp - Plzeň 3:0 (22\,19\,23)
DTSTART;TZID=Europe/Berlin:20221112T160000
DTEND;TZID=Europe/Berlin:20221112T180000
LOCATION:Sokolovna Jablonec nad Nisou\, Fügnerova 1054 Jablonec nad Nisou
SUMMARY:EX-U20Z-3A: Olymp-Plzeň
END:VEVENT
BEGIN:VEVENT
UID:64356638-6637-4061-b033-383034616131
DTSTAMP:20260421T151508Z
DESCRIPTION:24/6 Plzeň - Frýdek - Místek 3:1 (19\,14\,-19\,25)\nNH: 1. máje
  Frýdek Místek
DTSTART;TZID=Europe/Berlin:20221211T120000
DTEND;TZID=Europe/Berlin:20221211T140000
LOCATION:ZŠ Pionýrů 400 Frýdek-Místek\, Pionýrů 400 Frýdek-Místek - Místek
SUMMARY:EX-U20Z-4B: Plzeň-Frýdek - Místek
END:VEVENT
BEGIN:VEVENT
UID:66396264-3430-4263-b162-366263313931
DTSTAMP:20260421T151508Z
DESCRIPTION:20/2 Č. Budějovice - Plzeň 2:3 (-17\,21\,14\,-20\,-9)
DTSTART;TZID=Europe/Berlin:20221210T120000
DTEND;TZID=Europe/Berlin:20221210T140000
LOCATION:ZŠ Pionýrů 400 Frýdek-Místek\, Pionýrů 400 Frýdek-Místek - Místek
SUMMARY:EX-U20Z-4B: Č. Budějovice-Plzeň
END:VEVENT
BEGIN:VEVENT
UID:34323038-6631-4862-a165-383736336134
DTSTAMP:20260421T151508Z
DESCRIPTION:21/3 Ostrava - Plzeň 1:3 (-12\,20\,-22\,-19)\nNH: 1. máje Frýde
 k Místek
DTSTART;TZID=Europe/Berlin:20221210T160000
DTEND;TZID=Europe/Berlin:20221210T180000
LOCATION:ZŠ Pionýrů 400 Frýdek-Místek\, Pionýrů 400 Frýdek-Místek - Místek
SUMMARY:EX-U20Z-4B: Ostrava-Plzeň
END:VEVENT
BEGIN:VEVENT
UID:31646462-3265-4062-b661-396165643339
DTSTAMP:20260421T151508Z
DESCRIPTION:30/6 Plzeň - Olymp 0:3 (-19\,-21\,-14)
DTSTART;TZID=Europe/Berlin:20230108T120000
DTEND;TZID=Europe/Berlin:20230108T140000
LOCATION:PVK Olymp Praha\, Přípotoční 300 Praha - Vršovice
SUMMARY:EX-U20Z-5A: Plzeň-Olymp
END:VEVENT
BEGIN:VEVENT
UID:36373261-3861-4233-b635-613564323037
DTSTAMP:20260421T151508Z
DESCRIPTION:26/2 Prostějov - Plzeň 3:2 (14\,-19\,21\,-22\,6)
DTSTART;TZID=Europe/Berlin:20230107T120000
DTEND;TZID=Europe/Berlin:20230107T140000
LOCATION:PVK Olymp Praha\, Přípotoční 300 Praha - Vršovice
SUMMARY:EX-U20Z-5A: Prostějov-Plzeň
END:VEVENT
BEGIN:VEVENT
UID:35333066-3839-4666-b739-373332616330
DTSTAMP:20260421T151508Z
DESCRIPTION:27/3 Liberec - Plzeň 3:0 (11\,19\,14)
DTSTART;TZID=Europe/Berlin:20230107T160000
DTEND;TZID=Europe/Berlin:20230107T180000
LOCATION:PVK Olymp Praha\, Přípotoční 300 Praha - Vršovice
SUMMARY:EX-U20Z-5A: Liberec-Plzeň
END:VEVENT
BEGIN:VEVENT
UID:30333566-6361-4633-b534-643430616139
DTSTAMP:20260421T151508Z
DESCRIPTION:31/1 Plzeň - Č. Budějovice 2:3 (-18\,19\,20\,-9\,-10)
DTSTART;TZID=Europe/Berlin:20230211T100000
DTEND;TZID=Europe/Berlin:20230211T120000
LOCATION:Sportovní hala - SG Plzeň\, Vejprnická 663 Plzeň - Skvrňany
SUMMARY:EX-U20Z-6B: Plzeň-Č. Budějovice
END:VEVENT
BEGIN:VEVENT
UID:65323263-6531-4235-b134-313938333435
DTSTAMP:20260421T151508Z
DESCRIPTION:34/4 Plzeň - Kr. Pole 0:3 (-14\,-12\,-15)
DTSTART;TZID=Europe/Berlin:20230211T180000
DTEND;TZID=Europe/Berlin:20230211T200000
LOCATION:Sportovní hala - SG Plzeň\, Vejprnická 663 Plzeň - Skvrňany
SUMMARY:EX-U20Z-6B: Plzeň-Kr. Pole
END:VEVENT
BEGIN:VEVENT
UID:32326165-6535-4832-b733-326566396566
DTSTAMP:20260421T151508Z
DESCRIPTION:36/6 Ostrava - Plzeň 2:3 (-23\,25\,23\,-23\,-16)
DTSTART;TZID=Europe/Berlin:20230212T120000
DTEND;TZID=Europe/Berlin:20230212T140000
LOCATION:Sportovní hala - SG Plzeň\, Vejprnická 663 Plzeň - Skvrňany
SUMMARY:EX-U20Z-6B: Ostrava-Plzeň
END:VEVENT
BEGIN:VEVENT
UID:33623164-6333-4233-a266-316630323363
DTSTAMP:20260421T151508Z
DESCRIPTION:42/6 Plzeň - Šternberk 1:3 (21\,-16\,-22\,-16)
DTSTART;TZID=Europe/Berlin:20230312T120000
DTEND;TZID=Europe/Berlin:20230312T140000
LOCATION:Hala ZŠ Dr. Hrubého\, Dr. Hrubého 319 Šternberk
SUMMARY:EX-U20Z-7C: Plzeň-Šternberk
END:VEVENT
BEGIN:VEVENT
UID:38396635-3763-4166-b063-303831663937
DTSTAMP:20260421T151508Z
DESCRIPTION:38/2 Střešovice - Plzeň 0:3 (-22\,-19\,-22)
DTSTART;TZID=Europe/Berlin:20230311T120000
DTEND;TZID=Europe/Berlin:20230311T140000
LOCATION:Hala ZŠ Dr. Hrubého\, Dr. Hrubého 319 Šternberk
SUMMARY:EX-U20Z-7C: Střešovice-Plzeň
END:VEVENT
BEGIN:VEVENT
UID:63656632-3365-4530-b436-373630383138
DTSTAMP:20260421T151508Z
DESCRIPTION:39/3 Lanškroun - Plzeň 0:3 (-20\,-13\,-18)
DTSTART;TZID=Europe/Berlin:20230311T160000
DTEND;TZID=Europe/Berlin:20230311T180000
LOCATION:Hala ZŠ Dr. Hrubého\, Dr. Hrubého 319 Šternberk
SUMMARY:EX-U20Z-7C: Lanškroun-Plzeň
END:VEVENT
BEGIN:VEVENT
UID:62626531-3362-4565-b632-643261333533
DTSTAMP:20260421T151508Z
DESCRIPTION:44/2 Plzeň - Č. Budějovice 0:3 (-23\,-23\,-9)
DTSTART;TZID=Europe/Berlin:20230406T120000
DTEND;TZID=Europe/Berlin:20230406T140000
LOCATION:ZŠ 1.máje 1700 Frýdek-Místek\, 1. máje 1700 Frýdek-Místek - Místek
SUMMARY:EX-U20Z-8B: Plzeň-Č. Budějovice
END:VEVENT
BEGIN:VEVENT
UID:32623934-3234-4338-a166-396162326231
DTSTAMP:20260421T151508Z
DESCRIPTION:47/5 Plzeň - Prostějov 1:3 (-17\,22\,-11\,-16)
DTSTART;TZID=Europe/Berlin:20230407T100000
DTEND;TZID=Europe/Berlin:20230407T120000
LOCATION:ZŠ 1.máje 1700 Frýdek-Místek\, 1. máje 1700 Frýdek-Místek - Místek
SUMMARY:EX-U20Z-8B: Plzeň-Prostějov
END:VEVENT
BEGIN:VEVENT
UID:34303736-6332-4034-a564-373738323931
DTSTAMP:20260421T151508Z
DESCRIPTION:46/4 Frýdek - Místek - Plzeň 3:2 (25\,-23\,16\,-22\,11)
DTSTART;TZID=Europe/Berlin:20230406T180000
DTEND;TZID=Europe/Berlin:20230406T200000
LOCATION:ZŠ 1.máje 1700 Frýdek-Místek\, 1. máje 1700 Frýdek-Místek - Místek
SUMMARY:EX-U20Z-8B: Frýdek - Místek-Plzeň
END:VEVENT
BEGIN:VEVENT
UID:61636232-3364-4661-b266-366166643865
DTSTAMP:20260421T151508Z
DESCRIPTION:2/3 Plzeň - Kr. Pole 0:3 (-18\,-15\,-26)
DTSTART;TZID=Europe/Berlin:20230421T100000
DTEND;TZID=Europe/Berlin:20230421T120000
LOCATION:Hala míčových sportů\, Varenská 3098 Ostrava - Moravská Ostrava
SUMMARY:EX-U20Z-F2: Plzeň-Kr. Pole
END:VEVENT
BEGIN:VEVENT
UID:65383831-3631-4564-a430-343430336361
DTSTAMP:20260421T151508Z
DESCRIPTION:1/1 Olymp - Plzeň 3:0 (12\,13\,22)
DTSTART;TZID=Europe/Berlin:20230420T150000
DTEND;TZID=Europe/Berlin:20230420T170000
LOCATION:Hala míčových sportů\, Varenská 3098 Ostrava - Moravská Ostrava
SUMMARY:EX-U20Z-F2: Olymp-Plzeň
END:VEVENT
BEGIN:VEVENT
UID:64653837-3339-4231-b564-313438376534
DTSTAMP:20260421T151508Z
DESCRIPTION:2/5 Ostrava - Plzeň 3:0 (17\,21\,19)
DTSTART;TZID=Europe/Berlin:20230421T150000
DTEND;TZID=Europe/Berlin:20230421T170000
LOCATION:Hala míčových sportů\, Varenská 3098 Ostrava - Moravská Ostrava
SUMMARY:EX-U20Z-F2: Ostrava-Plzeň
END:VEVENT
BEGIN:VEVENT
UID:36663434-6430-4334-b630-656538366437
DTSTAMP:20260421T151508Z
DESCRIPTION:2/5 Plzeň - Kr. Pole 1:3 (19\,-17\,-18\,-21)\no 7.-8. místo
DTSTART;TZID=Europe/Berlin:20230423T090000
DTEND;TZID=Europe/Berlin:20230423T110000
LOCATION:Sportovní hala - SG Plzeň\, Vejprnická 663 Plzeň - Skvrňany
SUMMARY:EX-U20Z-F: Plzeň-Kr. Pole
END:VEVENT
BEGIN:VEVENT
UID:35313530-6331-4337-b833-626532613037
DTSTAMP:20260421T151508Z
DESCRIPTION:1/1 Č. Budějovice - Plzeň 3:0 (23\,17\,22)\n3F1-4F2
DTSTART;TZID=Europe/Berlin:20230422T100000
DTEND;TZID=Europe/Berlin:20230422T120000
LOCATION:Sportovní hala\, Stromovka 1216 České Budějovice - České Budějovic
 e 2
SUMMARY:EX-U20Z-F: Č. Budějovice-Plzeň
END:VEVENT
END:VCALENDAR
