BEGIN:VCALENDAR
VERSION:2.0
PRODID:-//TJ Žichlínek79224//NONSGML kigkonsult.se iCalcreator 2.41.80//
CALSCALE:GREGORIAN
UID:31336131-3461-4432-b331-656665316634
BEGIN:VEVENT
UID:64643962-6232-4666-b731-643437356332
DTSTAMP:20260422T164514Z
DESCRIPTION:1/3 Žichlínek - Svitavy 3:1 (-19\,23\,13\,20)
DTSTART;TZID=Europe/Berlin:20220924T090000
DTEND;TZID=Europe/Berlin:20220924T110000
LOCATION:ZŠ Tatenice\,  Tatenice149
SUMMARY:2-U20Z-D: Žichlínek-Svitavy
END:VEVENT
BEGIN:VEVENT
UID:63323733-6339-4336-a332-636231313931
DTSTAMP:20260422T164514Z
DESCRIPTION:2/6 Žichlínek - Svitavy 3:0 (20\,15\,13)
DTSTART;TZID=Europe/Berlin:20220924T130000
DTEND;TZID=Europe/Berlin:20220924T150000
LOCATION:ZŠ Tatenice\,  Tatenice149
SUMMARY:2-U20Z-D: Žichlínek-Svitavy
END:VEVENT
BEGIN:VEVENT
UID:32366137-3030-4432-b661-343262613266
DTSTAMP:20260422T164514Z
DESCRIPTION:5/14 Žichlínek - Polička 3:2 (18\,18\,-21\,-20\,6)
DTSTART;TZID=Europe/Berlin:20221009T100000
DTEND;TZID=Europe/Berlin:20221009T120000
LOCATION:ZŠ Tatenice\,  Tatenice149
SUMMARY:2-U20Z-D: Žichlínek-Polička
END:VEVENT
BEGIN:VEVENT
UID:36396164-3564-4131-b431-356634383632
DTSTAMP:20260422T164514Z
DESCRIPTION:6/17 Žichlínek - Polička 3:1 (16\,-21\,22\,26)
DTSTART;TZID=Europe/Berlin:20221009T140000
DTEND;TZID=Europe/Berlin:20221009T160000
LOCATION:ZŠ Tatenice\,  Tatenice149
SUMMARY:2-U20Z-D: Žichlínek-Polička
END:VEVENT
BEGIN:VEVENT
UID:38333538-3036-4366-b766-633639333530
DTSTAMP:20260422T164514Z
DESCRIPTION:9/25 Žichlínek - Žďár n. S. 0:3 (-19\,-19\,-16)
DTSTART;TZID=Europe/Berlin:20221112T100000
DTEND;TZID=Europe/Berlin:20221112T120000
LOCATION:ZŠ Tatenice\,  Tatenice149
SUMMARY:2-U20Z-D: Žichlínek-Žďár n. S.
END:VEVENT
BEGIN:VEVENT
UID:30313138-3561-4964-a435-393035373338
DTSTAMP:20260422T164514Z
DESCRIPTION:10/28 Žichlínek - Žďár n. S. 1:3 (-18\,23\,-19\,-9)
DTSTART;TZID=Europe/Berlin:20221112T140000
DTEND;TZID=Europe/Berlin:20221112T160000
LOCATION:ZŠ Tatenice\,  Tatenice149
SUMMARY:2-U20Z-D: Žichlínek-Žďár n. S.
END:VEVENT
BEGIN:VEVENT
UID:34663839-3230-4964-b632-323661623034
DTSTAMP:20260422T164514Z
DESCRIPTION:13/38 Žichlínek - Pardubice 3:1 (15\,-19\,17\,20)
DTSTART;TZID=Europe/Berlin:20221029T100000
DTEND;TZID=Europe/Berlin:20221029T120000
LOCATION:ZŠ Tatenice\,  Tatenice149
SUMMARY:2-U20Z-D: Žichlínek-Pardubice
END:VEVENT
BEGIN:VEVENT
UID:65323066-6238-4539-b564-633232656539
DTSTAMP:20260422T164514Z
DESCRIPTION:14/41 Žichlínek - Pardubice 3:2 (-12\,-18\,12\,21\,8)
DTSTART;TZID=Europe/Berlin:20221029T140000
DTEND;TZID=Europe/Berlin:20221029T160000
LOCATION:ZŠ Tatenice\,  Tatenice149
SUMMARY:2-U20Z-D: Žichlínek-Pardubice
END:VEVENT
BEGIN:VEVENT
UID:34346632-3338-4433-a632-646437656566
DTSTAMP:20260422T164514Z
DESCRIPTION:3/8 Pardubice - Žichlínek 3:0 (20\,20\,13)
DTSTART;TZID=Europe/Berlin:20221117T100000
DTEND;TZID=Europe/Berlin:20221117T120000
LOCATION:Sokolovna\, Jiráskova 29 Pardubice - Zelené Předměstí
SUMMARY:2-U20Z-D: Pardubice-Žichlínek
END:VEVENT
BEGIN:VEVENT
UID:37633966-3534-4339-a362-366132646134
DTSTAMP:20260422T164514Z
DESCRIPTION:4/11 Pardubice - Žichlínek 3:1 (22\,17\,-24\,20)
DTSTART;TZID=Europe/Berlin:20221117T140000
DTEND;TZID=Europe/Berlin:20221117T160000
LOCATION:Sokolovna\, Jiráskova 29 Pardubice - Zelené Předměstí
SUMMARY:2-U20Z-D: Pardubice-Žichlínek
END:VEVENT
BEGIN:VEVENT
UID:34323333-3832-4165-a532-633938373232
DTSTAMP:20260422T164514Z
DESCRIPTION:11/33 Svitavy - Žichlínek 0:3 (-17\,-18\,-21)
DTSTART;TZID=Europe/Berlin:20221113T100000
DTEND;TZID=Europe/Berlin:20221113T120000
LOCATION:Sportovní hala Na Střelnici\, Pražská 2162 Svitavy - Předměstí
SUMMARY:2-U20Z-D: Svitavy-Žichlínek
END:VEVENT
BEGIN:VEVENT
UID:63373932-6630-4535-a436-646635623363
DTSTAMP:20260422T164514Z
DESCRIPTION:12/36 Svitavy - Žichlínek 3:2 (10\,17\,-20\,-21\,17)
DTSTART;TZID=Europe/Berlin:20221113T140000
DTEND;TZID=Europe/Berlin:20221113T160000
LOCATION:Sportovní hala Na Střelnici\, Pražská 2162 Svitavy - Předměstí
SUMMARY:2-U20Z-D: Svitavy-Žichlínek
END:VEVENT
BEGIN:VEVENT
UID:38626265-3738-4063-b465-393930363230
DTSTAMP:20260422T164514Z
DESCRIPTION:15/44 Polička - Žichlínek 0:3 (-24\,-15\,-23)
DTSTART;TZID=Europe/Berlin:20221211T100000
DTEND;TZID=Europe/Berlin:20221211T120000
LOCATION:TJ Spartak Polička\, z.s. \, nábř. Svobody 447 Polička - Horní Pře
 dměstí
SUMMARY:2-U20Z-D: Polička-Žichlínek
END:VEVENT
BEGIN:VEVENT
UID:38663135-6432-4531-b133-616663656164
DTSTAMP:20260422T164514Z
DESCRIPTION:16/47 Polička - Žichlínek 2:3 (18\,-22\,-25\,23\,-14)
DTSTART;TZID=Europe/Berlin:20221211T140000
DTEND;TZID=Europe/Berlin:20221211T160000
LOCATION:TJ Spartak Polička\, z.s. \, nábř. Svobody 447 Polička - Horní Pře
 dměstí
SUMMARY:2-U20Z-D: Polička-Žichlínek
END:VEVENT
BEGIN:VEVENT
UID:36343562-3863-4733-a261-643137663535
DTSTAMP:20260422T164514Z
DESCRIPTION:19/55 Žďár n. S. - Žichlínek 3:1 (-27\,16\,23\,18)
DTSTART;TZID=Europe/Berlin:20230115T100000
DTEND;TZID=Europe/Berlin:20230115T120000
LOCATION:Sportovní hala na Bouchalkách\, Jungmannova 1495 Žďár nad Sázavou 
 - Žďár nad Sázavou 1
SUMMARY:2-U20Z-D: Žďár n. S.-Žichlínek
END:VEVENT
BEGIN:VEVENT
UID:39316636-3138-4330-b337-396133636331
DTSTAMP:20260422T164514Z
DESCRIPTION:20/58 Žďár n. S. - Žichlínek 3:0 (17\,22\,25)
DTSTART;TZID=Europe/Berlin:20230115T140000
DTEND;TZID=Europe/Berlin:20230115T160000
LOCATION:Sportovní hala na Bouchalkách\, Jungmannova 1495 Žďár nad Sázavou 
 - Žďár nad Sázavou 1
SUMMARY:2-U20Z-D: Žďár n. S.-Žichlínek
END:VEVENT
BEGIN:VEVENT
UID:66656263-3362-4566-b564-313631393263
DTSTAMP:20260422T164514Z
DESCRIPTION:3/7 Žichlínek - Nymburk 0:3 (-10\,-14\,-7)
DTSTART;TZID=Europe/Berlin:20230205T100000
DTEND;TZID=Europe/Berlin:20230205T120000
LOCATION:ZŠ Tatenice\,  Tatenice149
SUMMARY:2-U20Z-II: Žichlínek-Nymburk
END:VEVENT
BEGIN:VEVENT
UID:63323535-6363-4734-b565-346435666465
DTSTAMP:20260422T164514Z
DESCRIPTION:4/10 Žichlínek - Nymburk 0:3 (-18\,-8\,-10)
DTSTART;TZID=Europe/Berlin:20230205T140000
DTEND;TZID=Europe/Berlin:20230205T160000
LOCATION:ZŠ Tatenice\,  Tatenice149
SUMMARY:2-U20Z-II: Žichlínek-Nymburk
END:VEVENT
BEGIN:VEVENT
UID:38306632-3263-4661-b364-323234656366
DTSTAMP:20260422T164514Z
DESCRIPTION:7/20 Žichlínek - Meteor 3:2 (21\,-19\,18\,-22\,13)
DTSTART;TZID=Europe/Berlin:20230304T090000
DTEND;TZID=Europe/Berlin:20230304T110000
LOCATION:ZŠ Tatenice\,  Tatenice149
SUMMARY:2-U20Z-II: Žichlínek-Meteor
END:VEVENT
BEGIN:VEVENT
UID:30366138-6633-4437-b762-633631353762
DTSTAMP:20260422T164514Z
DESCRIPTION:8/23 Žichlínek - Meteor 0:3 (-12\,-24\,-23)
DTSTART;TZID=Europe/Berlin:20230304T130000
DTEND;TZID=Europe/Berlin:20230304T150000
LOCATION:ZŠ Tatenice\,  Tatenice149
SUMMARY:2-U20Z-II: Žichlínek-Meteor
END:VEVENT
BEGIN:VEVENT
UID:62356438-3664-4365-b235-653233303638
DTSTAMP:20260422T164514Z
DESCRIPTION:11/33 Žichlínek - Kolín 3:2 (-15\,21\,26\,-16\,11)
DTSTART;TZID=Europe/Berlin:20230211T100000
DTEND;TZID=Europe/Berlin:20230211T120000
LOCATION:ZŠ Tatenice\,  Tatenice149
SUMMARY:2-U20Z-II: Žichlínek-Kolín
END:VEVENT
BEGIN:VEVENT
UID:32623030-3337-4365-b135-313065376531
DTSTAMP:20260422T164514Z
DESCRIPTION:12/36 Žichlínek - Kolín 2:3 (12\,-24\,19\,-20\,-13)
DTSTART;TZID=Europe/Berlin:20230211T140000
DTEND;TZID=Europe/Berlin:20230211T160000
LOCATION:ZŠ Tatenice\,  Tatenice149
SUMMARY:2-U20Z-II: Žichlínek-Kolín
END:VEVENT
BEGIN:VEVENT
UID:39353561-6163-4738-a331-376133386138
DTSTAMP:20260422T164514Z
DESCRIPTION:1/2 Meteor - Žichlínek 3:0 (19\,14\,13)
DTSTART;TZID=Europe/Berlin:20230129T110000
DTEND;TZID=Europe/Berlin:20230129T130000
LOCATION:ZŠ Žernosecká\, Žernosecká 1597 Praha - Kobylisy
SUMMARY:2-U20Z-II: Meteor-Žichlínek
END:VEVENT
BEGIN:VEVENT
UID:38323431-6338-4738-a335-366635336431
DTSTAMP:20260422T164514Z
DESCRIPTION:2/5 Meteor - Žichlínek 3:1 (-12\,17\,17\,10)
DTSTART;TZID=Europe/Berlin:20230129T150000
DTEND;TZID=Europe/Berlin:20230129T170000
LOCATION:ZŠ Žernosecká\, Žernosecká 1597 Praha - Kobylisy
SUMMARY:2-U20Z-II: Meteor-Žichlínek
END:VEVENT
BEGIN:VEVENT
UID:66313230-3037-4463-b336-333932363266
DTSTAMP:20260422T164514Z
DESCRIPTION:5/15 Kolín - Žichlínek 1:3 (17\,-14\,-23\,-20)
DTSTART;TZID=Europe/Berlin:20230402T100000
DTEND;TZID=Europe/Berlin:20230402T120000
LOCATION:hala STAV\, SOŠ Kolín\, Brankovická 1417 Kolín - Kolín V
SUMMARY:2-U20Z-II: Kolín-Žichlínek
END:VEVENT
BEGIN:VEVENT
UID:37343032-3939-4466-b964-373763313738
DTSTAMP:20260422T164514Z
DESCRIPTION:6/18 Kolín - Žichlínek 3:0 (14\,14\,14)
DTSTART;TZID=Europe/Berlin:20230402T140000
DTEND;TZID=Europe/Berlin:20230402T160000
LOCATION:hala STAV\, SOŠ Kolín\, Brankovická 1417 Kolín - Kolín V
SUMMARY:2-U20Z-II: Kolín-Žichlínek
END:VEVENT
BEGIN:VEVENT
UID:31383137-3761-4531-a532-363037643832
DTSTAMP:20260422T164514Z
DESCRIPTION:9/25 Nymburk - Žichlínek 3:0 (11\,21\,13)
DTSTART;TZID=Europe/Berlin:20230312T100000
DTEND;TZID=Europe/Berlin:20230312T120000
LOCATION:Zimní stadion\, U Stadionu 12 Nymburk
SUMMARY:2-U20Z-II: Nymburk-Žichlínek
END:VEVENT
BEGIN:VEVENT
UID:62376538-3765-4237-a138-306334646130
DTSTAMP:20260422T164514Z
DESCRIPTION:10/28 Nymburk - Žichlínek 3:0 (13\,15\,13)
DTSTART;TZID=Europe/Berlin:20230312T140000
DTEND;TZID=Europe/Berlin:20230312T160000
LOCATION:Zimní stadion\, U Stadionu 12 Nymburk
SUMMARY:2-U20Z-II: Nymburk-Žichlínek
END:VEVENT
END:VCALENDAR
