BEGIN:VCALENDAR
VERSION:2.0
PRODID:-//Kladno volejbal cz79225//NONSGML kigkonsult.se iCalcreator 2.41.80//
CALSCALE:GREGORIAN
UID:62643662-6537-4561-b630-313065663438
BEGIN:VEVENT
UID:36383735-3665-4236-b339-623430343039
DTSTAMP:20260422T203424Z
DESCRIPTION:3/8 Kladno - Vejprnice 3:1 (14\,14\,-23\,21)
DTSTART;TZID=Europe/Berlin:20221002T100000
DTEND;TZID=Europe/Berlin:20221002T120000
LOCATION:Kladenská sportovní hala\, Sportovců 817 Kladno - Rozdělov
SUMMARY:2-U20Z-A: Kladno-Vejprnice
END:VEVENT
BEGIN:VEVENT
UID:39643930-3133-4365-a166-326238643635
DTSTAMP:20260422T203424Z
DESCRIPTION:4/11 Kladno - Vejprnice 3:0 (15\,21\,20)
DTSTART;TZID=Europe/Berlin:20221002T140000
DTEND;TZID=Europe/Berlin:20221002T160000
LOCATION:Kladenská sportovní hala\, Sportovců 817 Kladno - Rozdělov
SUMMARY:2-U20Z-A: Kladno-Vejprnice
END:VEVENT
BEGIN:VEVENT
UID:34383034-3966-4739-a230-383631316465
DTSTAMP:20260422T203424Z
DESCRIPTION:9/27 Kladno - Plzeň B 3:2 (16\,-20\,-21\,17\,13)
DTSTART;TZID=Europe/Berlin:20221106T100000
DTEND;TZID=Europe/Berlin:20221106T120000
LOCATION:Sportovní hala Bios\, Hokejových legend 3368 Kladno
SUMMARY:2-U20Z-A: Kladno-Plzeň B
END:VEVENT
BEGIN:VEVENT
UID:31373365-3061-4631-b831-356163646532
DTSTAMP:20260422T203424Z
DESCRIPTION:10/30 Kladno - Plzeň B 3:0 (15\,20\,24)
DTSTART;TZID=Europe/Berlin:20221106T140000
DTEND;TZID=Europe/Berlin:20221106T160000
LOCATION:Sportovní hala Bios\, Hokejových legend 3368 Kladno
SUMMARY:2-U20Z-A: Kladno-Plzeň B
END:VEVENT
BEGIN:VEVENT
UID:64373433-3237-4732-b739-636266326462
DTSTAMP:20260422T203424Z
DESCRIPTION:11/32 Kladno - Teplice 3:1 (-22\,12\,22\,19)
DTSTART;TZID=Europe/Berlin:20220918T100000
DTEND;TZID=Europe/Berlin:20220918T120000
LOCATION:Kladenská sportovní hala\, Sportovců 817 Kladno - Rozdělov
SUMMARY:2-U20Z-A: Kladno-Teplice
END:VEVENT
BEGIN:VEVENT
UID:63353335-3830-4662-a365-616439623330
DTSTAMP:20260422T203424Z
DESCRIPTION:12/35 Kladno - Teplice 3:0 (17\,17\,21)
DTSTART;TZID=Europe/Berlin:20220918T140000
DTEND;TZID=Europe/Berlin:20220918T160000
LOCATION:Kladenská sportovní hala\, Sportovců 817 Kladno - Rozdělov
SUMMARY:2-U20Z-A: Kladno-Teplice
END:VEVENT
BEGIN:VEVENT
UID:61616338-6564-4332-b132-386461623932
DTSTAMP:20260422T203424Z
DESCRIPTION:15/45 Kladno - Jirkov 3:1 (19\,-19\,22\,17)
DTSTART;TZID=Europe/Berlin:20221211T100000
DTEND;TZID=Europe/Berlin:20221211T120000
LOCATION:Kladenská sportovní hala\, Sportovců 817 Kladno - Rozdělov
SUMMARY:2-U20Z-A: Kladno-Jirkov
END:VEVENT
BEGIN:VEVENT
UID:30326566-6264-4530-b936-396661326635
DTSTAMP:20260422T203424Z
DESCRIPTION:16/48 Kladno - Jirkov 1:3 (-20\,-19\,20\,-13)
DTSTART;TZID=Europe/Berlin:20221211T140000
DTEND;TZID=Europe/Berlin:20221211T160000
LOCATION:Kladenská sportovní hala\, Sportovců 817 Kladno - Rozdělov
SUMMARY:2-U20Z-A: Kladno-Jirkov
END:VEVENT
BEGIN:VEVENT
UID:64306539-3530-4331-a465-666664633837
DTSTAMP:20260422T203424Z
DESCRIPTION:17/49 Kladno - Karlovy Vary 1:3 (-20\,18\,-19\,-20)
DTSTART;TZID=Europe/Berlin:20221120T100000
DTEND;TZID=Europe/Berlin:20221120T120000
LOCATION:Kladenská sportovní hala\, Sportovců 817 Kladno - Rozdělov
SUMMARY:2-U20Z-A: Kladno-Karlovy Vary
END:VEVENT
BEGIN:VEVENT
UID:62613534-3265-4661-b930-316364313465
DTSTAMP:20260422T203424Z
DESCRIPTION:18/52 Kladno - Karlovy Vary 1:3 (-21\,-21\,22\,-18)
DTSTART;TZID=Europe/Berlin:20221120T140000
DTEND;TZID=Europe/Berlin:20221120T160000
LOCATION:Kladenská sportovní hala\, Sportovců 817 Kladno - Rozdělov
SUMMARY:2-U20Z-A: Kladno-Karlovy Vary
END:VEVENT
BEGIN:VEVENT
UID:32383134-6265-4134-b437-306439623232
DTSTAMP:20260422T203424Z
DESCRIPTION:1/2 Teplice - Kladno 1:3 (-21\,14\,-22\,-19)
DTSTART;TZID=Europe/Berlin:20221113T100000
DTEND;TZID=Europe/Berlin:20221113T120000
LOCATION:Hotelová škola\, Smetanovo náměstí 786 Teplice - Trnovany
SUMMARY:2-U20Z-A: Teplice-Kladno
END:VEVENT
BEGIN:VEVENT
UID:31623034-3664-4939-a437-323563333232
DTSTAMP:20260422T203424Z
DESCRIPTION:2/5 Teplice - Kladno 3:1 (20\,-21\,24\,24)
DTSTART;TZID=Europe/Berlin:20221113T140000
DTEND;TZID=Europe/Berlin:20221113T160000
LOCATION:Hotelová škola\, Smetanovo náměstí 786 Teplice - Trnovany
SUMMARY:2-U20Z-A: Teplice-Kladno
END:VEVENT
BEGIN:VEVENT
UID:64363936-3863-4432-b236-343538646235
DTSTAMP:20260422T203424Z
DESCRIPTION:5/15 Jirkov - Kladno 3:0 (22\,21\,20)
DTSTART;TZID=Europe/Berlin:20221009T100000
DTEND;TZID=Europe/Berlin:20221009T120000
LOCATION:Sportovní hala MG a ZŠ Jirkov\, Krušnohorská 1675 Jirkov
SUMMARY:2-U20Z-A: Jirkov-Kladno
END:VEVENT
BEGIN:VEVENT
UID:35313232-3636-4338-b431-623431336332
DTSTAMP:20260422T203424Z
DESCRIPTION:6/18 Jirkov - Kladno 3:0 (20\,14\,21)
DTSTART;TZID=Europe/Berlin:20221009T140000
DTEND;TZID=Europe/Berlin:20221009T160000
LOCATION:Sportovní hala MG a ZŠ Jirkov\, Krušnohorská 1675 Jirkov
SUMMARY:2-U20Z-A: Jirkov-Kladno
END:VEVENT
BEGIN:VEVENT
UID:65663164-3235-4537-a163-623032666462
DTSTAMP:20260422T203424Z
DESCRIPTION:7/19 Karlovy Vary - Kladno 1:3 (23\,-20\,-18\,-22)
DTSTART;TZID=Europe/Berlin:20221023T100000
DTEND;TZID=Europe/Berlin:20221023T120000
LOCATION:Mattoni Arena Hala míčových sportů\, Západní 1812 Karlovy Vary
SUMMARY:2-U20Z-A: Karlovy Vary-Kladno
END:VEVENT
BEGIN:VEVENT
UID:37623564-6266-4164-a330-343031376330
DTSTAMP:20260422T203424Z
DESCRIPTION:8/22 Karlovy Vary - Kladno 3:1 (-21\,22\,22\,21)
DTSTART;TZID=Europe/Berlin:20221023T130000
DTEND;TZID=Europe/Berlin:20221023T150000
LOCATION:Mattoni Arena Hala míčových sportů\, Západní 1812 Karlovy Vary
SUMMARY:2-U20Z-A: Karlovy Vary-Kladno
END:VEVENT
BEGIN:VEVENT
UID:34396337-3461-4939-b062-386535643039
DTSTAMP:20260422T203424Z
DESCRIPTION:13/38 Vejprnice - Kladno 3:X
DTSTART;TZID=Europe/Berlin:20221204T100000
DTEND;TZID=Europe/Berlin:20221204T120000
LOCATION:Tělocvična ZŠ Vejprnice\, Jakuba Husníka 527 Vejprnice
SUMMARY:2-U20Z-A: Vejprnice-Kladno
END:VEVENT
BEGIN:VEVENT
UID:31346635-6233-4736-a131-333864366266
DTSTAMP:20260422T203424Z
DESCRIPTION:14/41 Vejprnice - Kladno 3:X
DTSTART;TZID=Europe/Berlin:20221204T140000
DTEND;TZID=Europe/Berlin:20221204T160000
LOCATION:Tělocvična ZŠ Vejprnice\, Jakuba Husníka 527 Vejprnice
SUMMARY:2-U20Z-A: Vejprnice-Kladno
END:VEVENT
BEGIN:VEVENT
UID:32356338-3032-4331-a432-643038346165
DTSTAMP:20260422T203424Z
DESCRIPTION:19/57 Plzeň B - Kladno 2:3 (-21\,23\,19\,-21\,-8)
DTSTART;TZID=Europe/Berlin:20230108T100000
DTEND;TZID=Europe/Berlin:20230108T120000
LOCATION:Sportovní hala - SG Plzeň\, Vejprnická 663 Plzeň - Skvrňany
SUMMARY:2-U20Z-A: Plzeň B-Kladno
END:VEVENT
BEGIN:VEVENT
UID:32313863-3934-4435-b266-373933353531
DTSTAMP:20260422T203424Z
DESCRIPTION:20/60 Plzeň B - Kladno 2:3 (13\,-16\,-17\,23\,-5)
DTSTART;TZID=Europe/Berlin:20230108T140000
DTEND;TZID=Europe/Berlin:20230108T160000
LOCATION:Sportovní hala - SG Plzeň\, Vejprnická 663 Plzeň - Skvrňany
SUMMARY:2-U20Z-A: Plzeň B-Kladno
END:VEVENT
BEGIN:VEVENT
UID:34646236-3264-4463-a539-646361663261
DTSTAMP:20260422T203424Z
DESCRIPTION:5/13 Kladno - Příbram 2:3 (-23\,20\,-24\,21\,-8)
DTSTART;TZID=Europe/Berlin:20230212T100000
DTEND;TZID=Europe/Berlin:20230212T120000
LOCATION:Kladenská sportovní hala\, Sportovců 817 Kladno - Rozdělov
SUMMARY:2-U20Z-N: Kladno-Příbram
END:VEVENT
BEGIN:VEVENT
UID:37376130-3634-4334-b964-623031656232
DTSTAMP:20260422T203424Z
DESCRIPTION:6/16 Kladno - Příbram 3:1 (24\,-16\,9\,22)
DTSTART;TZID=Europe/Berlin:20230212T140000
DTEND;TZID=Europe/Berlin:20230212T160000
LOCATION:Kladenská sportovní hala\, Sportovců 817 Kladno - Rozdělov
SUMMARY:2-U20Z-N: Kladno-Příbram
END:VEVENT
BEGIN:VEVENT
UID:37626433-3533-4938-b865-373232626231
DTSTAMP:20260422T203424Z
DESCRIPTION:9/25 Kladno - Tábor 3:1 (-10\,16\,24\,16)
DTSTART;TZID=Europe/Berlin:20230312T100000
DTEND;TZID=Europe/Berlin:20230312T120000
LOCATION:Přetlaková sportovní hala Brjanská\, Severní 3127 Kladno
SUMMARY:2-U20Z-N: Kladno-Tábor
END:VEVENT
BEGIN:VEVENT
UID:37363930-3564-4539-a237-363762343662
DTSTAMP:20260422T203424Z
DESCRIPTION:10/28 Kladno - Tábor 3:2 (-12\,18\,-23\,16\,8)
DTSTART;TZID=Europe/Berlin:20230312T140000
DTEND;TZID=Europe/Berlin:20230312T160000
LOCATION:Přetlaková sportovní hala Brjanská\, Severní 3127 Kladno
SUMMARY:2-U20Z-N: Kladno-Tábor
END:VEVENT
BEGIN:VEVENT
UID:34386264-3738-4561-a631-396335383363
DTSTAMP:20260422T203424Z
DESCRIPTION:3/7 Tábor - Kladno 0:3 (-14\,-26\,-21)
DTSTART;TZID=Europe/Berlin:20230205T100000
DTEND;TZID=Europe/Berlin:20230205T120000
LOCATION:Sportovní hala Kvapilova\, Kvapilova 2419 Tábor
SUMMARY:2-U20Z-N: Tábor-Kladno
END:VEVENT
BEGIN:VEVENT
UID:63643237-6531-4264-b239-353266623863
DTSTAMP:20260422T203424Z
DESCRIPTION:4/10 Tábor - Kladno 0:3 (-12\,-21\,-23)
DTSTART;TZID=Europe/Berlin:20230205T140000
DTEND;TZID=Europe/Berlin:20230205T160000
LOCATION:Sportovní hala Kvapilova\, Kvapilova 2419 Tábor
SUMMARY:2-U20Z-N: Tábor-Kladno
END:VEVENT
BEGIN:VEVENT
UID:66396630-3664-4266-b031-313938346330
DTSTAMP:20260422T203424Z
DESCRIPTION:11/31 Příbram - Kladno 3:1 (-22\,19\,16\,12)
DTSTART;TZID=Europe/Berlin:20230401T100000
DTEND;TZID=Europe/Berlin:20230401T120000
LOCATION:Tělocvična ZŠ Balbínova\, Balbínova 328 Příbram - Příbram II
SUMMARY:2-U20Z-N: Příbram-Kladno
END:VEVENT
BEGIN:VEVENT
UID:62623739-6330-4837-a261-653362383037
DTSTAMP:20260422T203424Z
DESCRIPTION:12/34 Příbram - Kladno 3:1 (17\,6\,-22\,21)
DTSTART;TZID=Europe/Berlin:20230401T140000
DTEND;TZID=Europe/Berlin:20230401T160000
LOCATION:Tělocvična ZŠ Balbínova\, Balbínova 328 Příbram - Příbram II
SUMMARY:2-U20Z-N: Příbram-Kladno
END:VEVENT
END:VCALENDAR
