BEGIN:VCALENDAR
VERSION:2.0
PRODID:-//Volejbal Tábor79226//NONSGML kigkonsult.se iCalcreator 2.41.80//
CALSCALE:GREGORIAN
UID:66353935-6238-4461-b638-376362353530
BEGIN:VEVENT
UID:36306233-3939-4966-a561-616137663463
DTSTAMP:20260423T075023Z
DESCRIPTION:5/13 Tábor - Třebín 3:2 (-16\,20\,-24\,9\,12)
DTSTART;TZID=Europe/Berlin:20221008T100000
DTEND;TZID=Europe/Berlin:20221008T120000
LOCATION:Sportovní hala Kvapilova\, Kvapilova 2419 Tábor
SUMMARY:2-U20Z-B: Tábor-Třebín
END:VEVENT
BEGIN:VEVENT
UID:34636566-6261-4034-b034-623463353438
DTSTAMP:20260423T075023Z
DESCRIPTION:6/16 Tábor - Třebín 2:3 (25\,22\,-23\,-13\,-12)
DTSTART;TZID=Europe/Berlin:20221008T140000
DTEND;TZID=Europe/Berlin:20221008T160000
LOCATION:Sportovní hala Kvapilova\, Kvapilova 2419 Tábor
SUMMARY:2-U20Z-B: Tábor-Třebín
END:VEVENT
BEGIN:VEVENT
UID:39396137-6539-4238-b863-343662646563
DTSTAMP:20260423T075023Z
DESCRIPTION:7/21 Tábor - Slavia 3:0 (18\,15\,20)
DTSTART;TZID=Europe/Berlin:20221030T100000
DTEND;TZID=Europe/Berlin:20221030T120000
LOCATION:Sportovní Hala Mír\, U Stadionu Míru 1579 Tábor
SUMMARY:2-U20Z-B: Tábor-Slavia
END:VEVENT
BEGIN:VEVENT
UID:63333261-6639-4432-a561-373835623635
DTSTAMP:20260423T075023Z
DESCRIPTION:8/24 Tábor - Slavia 1:3 (-20\,17\,-21\,-18)
DTSTART;TZID=Europe/Berlin:20221030T140000
DTEND;TZID=Europe/Berlin:20221030T160000
LOCATION:Sportovní Hala Mír\, U Stadionu Míru 1579 Tábor
SUMMARY:2-U20Z-B: Tábor-Slavia
END:VEVENT
BEGIN:VEVENT
UID:34353439-3662-4161-b936-316333623336
DTSTAMP:20260423T075023Z
DESCRIPTION:13/39 Tábor - Č. Budějovice B 2:3 (-20\,20\,18\,-22\,-9)
DTSTART;TZID=Europe/Berlin:20221204T100000
DTEND;TZID=Europe/Berlin:20221204T120000
LOCATION:Sportovní Hala Mír\, U Stadionu Míru 1579 Tábor
SUMMARY:2-U20Z-B: Tábor-Č. Budějovice B
END:VEVENT
BEGIN:VEVENT
UID:30373939-3330-4036-b939-393936323266
DTSTAMP:20260423T075023Z
DESCRIPTION:14/42 Tábor - Č. Budějovice B 1:3 (-19\,-18\,15\,-21)
DTSTART;TZID=Europe/Berlin:20221204T140000
DTEND;TZID=Europe/Berlin:20221204T160000
LOCATION:Sportovní Hala Mír\, U Stadionu Míru 1579 Tábor
SUMMARY:2-U20Z-B: Tábor-Č. Budějovice B
END:VEVENT
BEGIN:VEVENT
UID:65386437-3864-4732-b530-303833303039
DTSTAMP:20260423T075023Z
DESCRIPTION:19/56 Tábor - Příbram 0:3 (-22\,-21\,-16)
DTSTART;TZID=Europe/Berlin:20230115T100000
DTEND;TZID=Europe/Berlin:20230115T120000
LOCATION:Sportovní hala Kvapilova\, Kvapilova 2419 Tábor
SUMMARY:2-U20Z-B: Tábor-Příbram
END:VEVENT
BEGIN:VEVENT
UID:66373933-3632-4730-b732-303338353962
DTSTAMP:20260423T075023Z
DESCRIPTION:20/59 Tábor - Příbram 3:1 (19\,13\,-22\,17)
DTSTART;TZID=Europe/Berlin:20230115T140000
DTEND;TZID=Europe/Berlin:20230115T160000
LOCATION:Sportovní hala Kvapilova\, Kvapilova 2419 Tábor
SUMMARY:2-U20Z-B: Tábor-Příbram
END:VEVENT
BEGIN:VEVENT
UID:36633965-3835-4765-a664-336432366438
DTSTAMP:20260423T075023Z
DESCRIPTION:3/9 Č. Budějovice B - Tábor 2:3 (15\,-16\,-20\,20\,-7)
DTSTART;TZID=Europe/Berlin:20221016T100000
DTEND;TZID=Europe/Berlin:20221016T120000
LOCATION:Sportovní hala\, Stromovka 1216 České Budějovice - České Budějovic
 e 2
SUMMARY:2-U20Z-B: Č. Budějovice B-Tábor
END:VEVENT
BEGIN:VEVENT
UID:32363230-3263-4662-a339-366130626563
DTSTAMP:20260423T075023Z
DESCRIPTION:4/12 Č. Budějovice B - Tábor 3:0 (24\,23\,16)
DTSTART;TZID=Europe/Berlin:20221016T140000
DTEND;TZID=Europe/Berlin:20221016T160000
LOCATION:Sportovní hala\, Stromovka 1216 České Budějovice - České Budějovic
 e 2
SUMMARY:2-U20Z-B: Č. Budějovice B-Tábor
END:VEVENT
BEGIN:VEVENT
UID:38633762-3035-4130-b531-316363643837
DTSTAMP:20260423T075023Z
DESCRIPTION:9/26 Příbram - Tábor 0:3 (-18\,-21\,-24)
DTSTART;TZID=Europe/Berlin:20221106T100000
DTEND;TZID=Europe/Berlin:20221106T120000
LOCATION:Tělocvična ZŠ Balbínova\, Balbínova 328 Příbram - Příbram II
SUMMARY:2-U20Z-B: Příbram-Tábor
END:VEVENT
BEGIN:VEVENT
UID:37663938-3761-4161-b265-363664663062
DTSTAMP:20260423T075023Z
DESCRIPTION:10/29 Příbram - Tábor 3:2 (10\,-21\,15\,-25\,13)
DTSTART;TZID=Europe/Berlin:20221106T140000
DTEND;TZID=Europe/Berlin:20221106T160000
LOCATION:Tělocvična ZŠ Balbínova\, Balbínova 328 Příbram - Příbram II
SUMMARY:2-U20Z-B: Příbram-Tábor
END:VEVENT
BEGIN:VEVENT
UID:39383036-3832-4438-a235-316437313133
DTSTAMP:20260423T075023Z
DESCRIPTION:15/43 Třebín - Tábor 3:0 (17\,12\,26)
DTSTART;TZID=Europe/Berlin:20221210T100000
DTEND;TZID=Europe/Berlin:20221210T120000
LOCATION:ZŠ Hluboká\, Karla Čapka 800 Hluboká nad Vltavou
SUMMARY:2-U20Z-B: Třebín-Tábor
END:VEVENT
BEGIN:VEVENT
UID:30393632-3032-4334-a531-313863393731
DTSTAMP:20260423T075023Z
DESCRIPTION:16/46 Třebín - Tábor 3:0 (21\,19\,20)
DTSTART;TZID=Europe/Berlin:20221210T140000
DTEND;TZID=Europe/Berlin:20221210T160000
LOCATION:ZŠ Hluboká\, Karla Čapka 800 Hluboká nad Vltavou
SUMMARY:2-U20Z-B: Třebín-Tábor
END:VEVENT
BEGIN:VEVENT
UID:37333866-6262-4132-a331-373334313666
DTSTAMP:20260423T075023Z
DESCRIPTION:17/51 Slavia - Tábor 1:3 (-20\,-18\,25\,-14)
DTSTART;TZID=Europe/Berlin:20221218T100000
DTEND;TZID=Europe/Berlin:20221218T120000
LOCATION:Jana\, Vladivostocká 1460 Praha - Vršovice
SUMMARY:2-U20Z-B: Slavia-Tábor
END:VEVENT
BEGIN:VEVENT
UID:32393363-6464-4638-b332-633064656361
DTSTAMP:20260423T075023Z
DESCRIPTION:18/54 Slavia - Tábor 3:2 (19\,18\,-13\,-21\,10)
DTSTART;TZID=Europe/Berlin:20221218T140000
DTEND;TZID=Europe/Berlin:20221218T160000
LOCATION:Jana\, Vladivostocká 1460 Praha - Vršovice
SUMMARY:2-U20Z-B: Slavia-Tábor
END:VEVENT
BEGIN:VEVENT
UID:62343938-6239-4234-b638-623939626535
DTSTAMP:20260423T075023Z
DESCRIPTION:3/7 Tábor - Kladno 0:3 (-14\,-26\,-21)
DTSTART;TZID=Europe/Berlin:20230205T100000
DTEND;TZID=Europe/Berlin:20230205T120000
LOCATION:Sportovní hala Kvapilova\, Kvapilova 2419 Tábor
SUMMARY:2-U20Z-N: Tábor-Kladno
END:VEVENT
BEGIN:VEVENT
UID:64653030-3033-4134-b266-663834393032
DTSTAMP:20260423T075023Z
DESCRIPTION:4/10 Tábor - Kladno 0:3 (-12\,-21\,-23)
DTSTART;TZID=Europe/Berlin:20230205T140000
DTEND;TZID=Europe/Berlin:20230205T160000
LOCATION:Sportovní hala Kvapilova\, Kvapilova 2419 Tábor
SUMMARY:2-U20Z-N: Tábor-Kladno
END:VEVENT
BEGIN:VEVENT
UID:66316337-3939-4634-b333-646639633264
DTSTAMP:20260423T075023Z
DESCRIPTION:7/20 Tábor - Teplice 3:0 (12\,14\,11)
DTSTART;TZID=Europe/Berlin:20230305T100000
DTEND;TZID=Europe/Berlin:20230305T120000
LOCATION:Sportovní hala Kvapilova\, Kvapilova 2419 Tábor
SUMMARY:2-U20Z-N: Tábor-Teplice
END:VEVENT
BEGIN:VEVENT
UID:34323863-3534-4134-b432-343536333464
DTSTAMP:20260423T075023Z
DESCRIPTION:8/23 Tábor - Teplice 3:0 (11\,19\,15)
DTSTART;TZID=Europe/Berlin:20230305T140000
DTEND;TZID=Europe/Berlin:20230305T160000
LOCATION:Sportovní hala Kvapilova\, Kvapilova 2419 Tábor
SUMMARY:2-U20Z-N: Tábor-Teplice
END:VEVENT
BEGIN:VEVENT
UID:30646464-3130-4338-a663-343036386661
DTSTAMP:20260423T075023Z
DESCRIPTION:11/33 Tábor - Plzeň B 3:0 (22\,14\,9)
DTSTART;TZID=Europe/Berlin:20230402T100000
DTEND;TZID=Europe/Berlin:20230402T120000
LOCATION:Sportovní hala Kvapilova\, Kvapilova 2419 Tábor
SUMMARY:2-U20Z-N: Tábor-Plzeň B
END:VEVENT
BEGIN:VEVENT
UID:36646538-6237-4534-b138-386337323533
DTSTAMP:20260423T075023Z
DESCRIPTION:12/36 Tábor - Plzeň B 3:0 (22\,27\,23)
DTSTART;TZID=Europe/Berlin:20230402T140000
DTEND;TZID=Europe/Berlin:20230402T160000
LOCATION:Sportovní hala Kvapilova\, Kvapilova 2419 Tábor
SUMMARY:2-U20Z-N: Tábor-Plzeň B
END:VEVENT
BEGIN:VEVENT
UID:39393832-3234-4933-b664-363038326539
DTSTAMP:20260423T075023Z
DESCRIPTION:1/2 Teplice - Tábor 1:3 (24\,-21\,-19\,-24)
DTSTART;TZID=Europe/Berlin:20230129T100000
DTEND;TZID=Europe/Berlin:20230129T120000
LOCATION:Hotelová škola\, Smetanovo náměstí 786 Teplice - Trnovany
SUMMARY:2-U20Z-N: Teplice-Tábor
END:VEVENT
BEGIN:VEVENT
UID:35373437-6235-4334-b839-336566303665
DTSTAMP:20260423T075023Z
DESCRIPTION:2/5 Teplice - Tábor 1:3 (-19\,-25\,15\,-18)
DTSTART;TZID=Europe/Berlin:20230129T140000
DTEND;TZID=Europe/Berlin:20230129T160000
LOCATION:Hotelová škola\, Smetanovo náměstí 786 Teplice - Trnovany
SUMMARY:2-U20Z-N: Teplice-Tábor
END:VEVENT
BEGIN:VEVENT
UID:31343637-3834-4136-b631-623736343464
DTSTAMP:20260423T075023Z
DESCRIPTION:5/15 Plzeň B - Tábor 2:3 (-12\,23\,23\,-13\,-9)
DTSTART;TZID=Europe/Berlin:20230212T100000
DTEND;TZID=Europe/Berlin:20230212T120000
LOCATION:Městská sportovní hala  -  hala 2\, Úslavská 2357 Plzeň - Východní
  Předměstí
SUMMARY:2-U20Z-N: Plzeň B-Tábor
END:VEVENT
BEGIN:VEVENT
UID:62343465-6338-4061-b236-613835316531
DTSTAMP:20260423T075023Z
DESCRIPTION:6/18 Plzeň B - Tábor 2:3 (-13\,11\,23\,-19\,-8)
DTSTART;TZID=Europe/Berlin:20230212T140000
DTEND;TZID=Europe/Berlin:20230212T160000
LOCATION:Městská sportovní hala  -  hala 2\, Úslavská 2357 Plzeň - Východní
  Předměstí
SUMMARY:2-U20Z-N: Plzeň B-Tábor
END:VEVENT
BEGIN:VEVENT
UID:31376331-6236-4132-a465-663831633335
DTSTAMP:20260423T075023Z
DESCRIPTION:9/25 Kladno - Tábor 3:1 (-10\,16\,24\,16)
DTSTART;TZID=Europe/Berlin:20230312T100000
DTEND;TZID=Europe/Berlin:20230312T120000
LOCATION:Přetlaková sportovní hala Brjanská\, Severní 3127 Kladno
SUMMARY:2-U20Z-N: Kladno-Tábor
END:VEVENT
BEGIN:VEVENT
UID:31366438-3533-4864-b465-663439653236
DTSTAMP:20260423T075023Z
DESCRIPTION:10/28 Kladno - Tábor 3:2 (-12\,18\,-23\,16\,8)
DTSTART;TZID=Europe/Berlin:20230312T140000
DTEND;TZID=Europe/Berlin:20230312T160000
LOCATION:Přetlaková sportovní hala Brjanská\, Severní 3127 Kladno
SUMMARY:2-U20Z-N: Kladno-Tábor
END:VEVENT
END:VCALENDAR
