BEGIN:VCALENDAR
VERSION:2.0
PRODID:-//TJ Žďár nad Sázavou79242//NONSGML kigkonsult.se iCalcreator 2.41.80//
CALSCALE:GREGORIAN
UID:66303134-3238-4333-b364-303632383930
BEGIN:VEVENT
UID:31383937-3233-4430-a237-313033653039
DTSTAMP:20260421T201610Z
DESCRIPTION:3/7 Žďár n. S. - Svitavy 3:1 (18\,19\,-25\,18)
DTSTART;TZID=Europe/Berlin:20221002T113000
DTEND;TZID=Europe/Berlin:20221002T133000
LOCATION:Sportovní hala na Bouchalkách\, Jungmannova 1495 Žďár nad Sázavou 
 - Žďár nad Sázavou 1
SUMMARY:2-U20Z-D: Žďár n. S.-Svitavy
END:VEVENT
BEGIN:VEVENT
UID:32363337-6232-4231-b831-656164616164
DTSTAMP:20260421T201610Z
DESCRIPTION:4/10 Žďár n. S. - Svitavy 3:0 (18\,10\,23)
DTSTART;TZID=Europe/Berlin:20221002T153000
DTEND;TZID=Europe/Berlin:20221002T173000
LOCATION:Sportovní hala na Bouchalkách\, Jungmannova 1495 Žďár nad Sázavou 
 - Žďár nad Sázavou 1
SUMMARY:2-U20Z-D: Žďár n. S.-Svitavy
END:VEVENT
BEGIN:VEVENT
UID:63653361-6238-4464-b030-393730623938
DTSTAMP:20260421T201610Z
DESCRIPTION:7/19 Žďár n. S. - Pardubice 3:0 (22\,17\,12)
DTSTART;TZID=Europe/Berlin:20221030T100000
DTEND;TZID=Europe/Berlin:20221030T120000
LOCATION:Sportovní hala na Bouchalkách\, Jungmannova 1495 Žďár nad Sázavou 
 - Žďár nad Sázavou 1
SUMMARY:2-U20Z-D: Žďár n. S.-Pardubice
END:VEVENT
BEGIN:VEVENT
UID:64303434-3766-4436-b762-373435326535
DTSTAMP:20260421T201610Z
DESCRIPTION:8/22 Žďár n. S. - Pardubice 3:1 (-19\,11\,18\,19)
DTSTART;TZID=Europe/Berlin:20221030T140000
DTEND;TZID=Europe/Berlin:20221030T160000
LOCATION:Sportovní hala na Bouchalkách\, Jungmannova 1495 Žďár nad Sázavou 
 - Žďár nad Sázavou 1
SUMMARY:2-U20Z-D: Žďár n. S.-Pardubice
END:VEVENT
BEGIN:VEVENT
UID:36393362-6436-4435-b563-336362343532
DTSTAMP:20260421T201610Z
DESCRIPTION:11/31 Žďár n. S. - Polička 3:0 (20\,25\,17)
DTSTART;TZID=Europe/Berlin:20221113T120000
DTEND;TZID=Europe/Berlin:20221113T140000
LOCATION:Sportovní hala na Bouchalkách\, Jungmannova 1495 Žďár nad Sázavou 
 - Žďár nad Sázavou 1
SUMMARY:2-U20Z-D: Žďár n. S.-Polička
END:VEVENT
BEGIN:VEVENT
UID:64663231-3634-4137-a131-373931626662
DTSTAMP:20260421T201610Z
DESCRIPTION:12/34 Žďár n. S. - Polička 3:1 (-23\,13\,12\,16)
DTSTART;TZID=Europe/Berlin:20221113T150000
DTEND;TZID=Europe/Berlin:20221113T170000
LOCATION:Sportovní hala na Bouchalkách\, Jungmannova 1495 Žďár nad Sázavou 
 - Žďár nad Sázavou 1
SUMMARY:2-U20Z-D: Žďár n. S.-Polička
END:VEVENT
BEGIN:VEVENT
UID:38663239-6432-4035-b963-343935646238
DTSTAMP:20260421T201610Z
DESCRIPTION:19/55 Žďár n. S. - Žichlínek 3:1 (-27\,16\,23\,18)
DTSTART;TZID=Europe/Berlin:20230115T100000
DTEND;TZID=Europe/Berlin:20230115T120000
LOCATION:Sportovní hala na Bouchalkách\, Jungmannova 1495 Žďár nad Sázavou 
 - Žďár nad Sázavou 1
SUMMARY:2-U20Z-D: Žďár n. S.-Žichlínek
END:VEVENT
BEGIN:VEVENT
UID:62613261-3735-4063-b639-333064366430
DTSTAMP:20260421T201610Z
DESCRIPTION:20/58 Žďár n. S. - Žichlínek 3:0 (17\,22\,25)
DTSTART;TZID=Europe/Berlin:20230115T140000
DTEND;TZID=Europe/Berlin:20230115T160000
LOCATION:Sportovní hala na Bouchalkách\, Jungmannova 1495 Žďár nad Sázavou 
 - Žďár nad Sázavou 1
SUMMARY:2-U20Z-D: Žďár n. S.-Žichlínek
END:VEVENT
BEGIN:VEVENT
UID:65326339-6266-4434-a432-343231633163
DTSTAMP:20260421T201610Z
DESCRIPTION:1/1 Polička - Žďár n. S. 0:3 (-24\,-11\,-15)
DTSTART;TZID=Europe/Berlin:20220918T100000
DTEND;TZID=Europe/Berlin:20220918T120000
LOCATION:TJ Spartak Polička\, z.s. \, nábř. Svobody 447 Polička - Horní Pře
 dměstí
SUMMARY:2-U20Z-D: Polička-Žďár n. S.
END:VEVENT
BEGIN:VEVENT
UID:36643131-6637-4535-b135-346435333234
DTSTAMP:20260421T201610Z
DESCRIPTION:2/4 Polička - Žďár n. S. 0:3 (-16\,-18\,-20)
DTSTART;TZID=Europe/Berlin:20220918T140000
DTEND;TZID=Europe/Berlin:20220918T160000
LOCATION:TJ Spartak Polička\, z.s. \, nábř. Svobody 447 Polička - Horní Pře
 dměstí
SUMMARY:2-U20Z-D: Polička-Žďár n. S.
END:VEVENT
BEGIN:VEVENT
UID:66373363-3036-4330-a639-656139313536
DTSTAMP:20260421T201610Z
DESCRIPTION:9/25 Žichlínek - Žďár n. S. 0:3 (-19\,-19\,-16)
DTSTART;TZID=Europe/Berlin:20221112T100000
DTEND;TZID=Europe/Berlin:20221112T120000
LOCATION:ZŠ Tatenice\,  Tatenice149
SUMMARY:2-U20Z-D: Žichlínek-Žďár n. S.
END:VEVENT
BEGIN:VEVENT
UID:34633362-3865-4937-b539-633830663631
DTSTAMP:20260421T201610Z
DESCRIPTION:10/28 Žichlínek - Žďár n. S. 1:3 (-18\,23\,-19\,-9)
DTSTART;TZID=Europe/Berlin:20221112T140000
DTEND;TZID=Europe/Berlin:20221112T160000
LOCATION:ZŠ Tatenice\,  Tatenice149
SUMMARY:2-U20Z-D: Žichlínek-Žďár n. S.
END:VEVENT
BEGIN:VEVENT
UID:32306132-6266-4566-b438-346434346130
DTSTAMP:20260421T201610Z
DESCRIPTION:13/37 Svitavy - Žďár n. S. 1:3 (-20\,-18\,19\,-12)
DTSTART;TZID=Europe/Berlin:20221204T100000
DTEND;TZID=Europe/Berlin:20221204T120000
LOCATION:Sportovní hala Na Střelnici\, Pražská 2162 Svitavy - Předměstí
SUMMARY:2-U20Z-D: Svitavy-Žďár n. S.
END:VEVENT
BEGIN:VEVENT
UID:36303337-6437-4835-a633-623932623432
DTSTAMP:20260421T201610Z
DESCRIPTION:14/40 Svitavy - Žďár n. S. 1:3 (-17\,24\,-11\,-15)
DTSTART;TZID=Europe/Berlin:20221204T140000
DTEND;TZID=Europe/Berlin:20221204T160000
LOCATION:Sportovní hala Na Střelnici\, Pražská 2162 Svitavy - Předměstí
SUMMARY:2-U20Z-D: Svitavy-Žďár n. S.
END:VEVENT
BEGIN:VEVENT
UID:31643330-3663-4538-b638-653163623463
DTSTAMP:20260421T201610Z
DESCRIPTION:17/49 Pardubice - Žďár n. S. 0:3 (-13\,-19\,-20)
DTSTART;TZID=Europe/Berlin:20221218T100000
DTEND;TZID=Europe/Berlin:20221218T120000
LOCATION:Sokolovna\, Jiráskova 29 Pardubice - Zelené Předměstí
SUMMARY:2-U20Z-D: Pardubice-Žďár n. S.
END:VEVENT
BEGIN:VEVENT
UID:39626234-3737-4630-a562-353636636261
DTSTAMP:20260421T201610Z
DESCRIPTION:18/52 Pardubice - Žďár n. S. 1:3 (-22\,-20\,23\,-18)
DTSTART;TZID=Europe/Berlin:20221218T140000
DTEND;TZID=Europe/Berlin:20221218T160000
LOCATION:Sokolovna\, Jiráskova 29 Pardubice - Zelené Předměstí
SUMMARY:2-U20Z-D: Pardubice-Žďár n. S.
END:VEVENT
BEGIN:VEVENT
UID:31623565-3333-4462-a566-623538336365
DTSTAMP:20260421T201610Z
DESCRIPTION:3/8 Žďár n. S. - Meteor 1:3 (20\,-18\,-13\,-14)
DTSTART;TZID=Europe/Berlin:20230319T100000
DTEND;TZID=Europe/Berlin:20230319T120000
LOCATION:Sportovní hala na Bouchalkách\, Jungmannova 1495 Žďár nad Sázavou 
 - Žďár nad Sázavou 1
SUMMARY:2-U20Z-II: Žďár n. S.-Meteor
END:VEVENT
BEGIN:VEVENT
UID:34346630-3333-4137-b763-376462316234
DTSTAMP:20260421T201610Z
DESCRIPTION:4/11 Žďár n. S. - Meteor 1:3 (24\,-22\,-20\,-21)
DTSTART;TZID=Europe/Berlin:20230319T140000
DTEND;TZID=Europe/Berlin:20230319T160000
LOCATION:Sportovní hala na Bouchalkách\, Jungmannova 1495 Žďár nad Sázavou 
 - Žďár nad Sázavou 1
SUMMARY:2-U20Z-II: Žďár n. S.-Meteor
END:VEVENT
BEGIN:VEVENT
UID:61393930-6631-4835-b833-346130383938
DTSTAMP:20260421T201610Z
DESCRIPTION:7/21 Žďár n. S. - Kolín 1:3 (20\,-21\,-28\,-20)
DTSTART;TZID=Europe/Berlin:20230305T123000
DTEND;TZID=Europe/Berlin:20230305T143000
LOCATION:Sportovní hala na Bouchalkách\, Jungmannova 1495 Žďár nad Sázavou 
 - Žďár nad Sázavou 1
SUMMARY:2-U20Z-II: Žďár n. S.-Kolín
END:VEVENT
BEGIN:VEVENT
UID:35643666-6362-4962-a435-313865303332
DTSTAMP:20260421T201610Z
DESCRIPTION:8/24 Žďár n. S. - Kolín 3:2 (-14\,23\,-13\,22\,8)
DTSTART;TZID=Europe/Berlin:20230305T153000
DTEND;TZID=Europe/Berlin:20230305T173000
LOCATION:Sportovní hala na Bouchalkách\, Jungmannova 1495 Žďár nad Sázavou 
 - Žďár nad Sázavou 1
SUMMARY:2-U20Z-II: Žďár n. S.-Kolín
END:VEVENT
BEGIN:VEVENT
UID:65393161-3134-4732-b936-346566343735
DTSTAMP:20260421T201610Z
DESCRIPTION:11/31 Žďár n. S. - Nymburk 1:3 (16\,-21\,-11\,-17)
DTSTART;TZID=Europe/Berlin:20230402T120000
DTEND;TZID=Europe/Berlin:20230402T140000
LOCATION:Sportovní hala na Bouchalkách\, Jungmannova 1495 Žďár nad Sázavou 
 - Žďár nad Sázavou 1
SUMMARY:2-U20Z-II: Žďár n. S.-Nymburk
END:VEVENT
BEGIN:VEVENT
UID:38326239-6563-4765-b562-616532363336
DTSTAMP:20260421T201610Z
DESCRIPTION:12/34 Žďár n. S. - Nymburk 0:3 (-21\,-20\,-20)
DTSTART;TZID=Europe/Berlin:20230402T150000
DTEND;TZID=Europe/Berlin:20230402T170000
LOCATION:Sportovní hala na Bouchalkách\, Jungmannova 1495 Žďár nad Sázavou 
 - Žďár nad Sázavou 1
SUMMARY:2-U20Z-II: Žďár n. S.-Nymburk
END:VEVENT
BEGIN:VEVENT
UID:35646461-3631-4537-b262-343039333261
DTSTAMP:20260421T201610Z
DESCRIPTION:1/3 Kolín - Žďár n. S. 3:2 (-23\,19\,-20\,21\,13)
DTSTART;TZID=Europe/Berlin:20230129T100000
DTEND;TZID=Europe/Berlin:20230129T120000
LOCATION:hala STAV\, SOŠ Kolín\, Brankovická 1417 Kolín - Kolín V
SUMMARY:2-U20Z-II: Kolín-Žďár n. S.
END:VEVENT
BEGIN:VEVENT
UID:39636231-3866-4134-b733-383962353033
DTSTAMP:20260421T201610Z
DESCRIPTION:2/6 Kolín - Žďár n. S. 3:0 (17\,20\,18)
DTSTART;TZID=Europe/Berlin:20230129T140000
DTEND;TZID=Europe/Berlin:20230129T160000
LOCATION:hala STAV\, SOŠ Kolín\, Brankovická 1417 Kolín - Kolín V
SUMMARY:2-U20Z-II: Kolín-Žďár n. S.
END:VEVENT
BEGIN:VEVENT
UID:33326466-6438-4231-b038-343266346233
DTSTAMP:20260421T201610Z
DESCRIPTION:5/13 Nymburk - Žďár n. S. 3:0 (9\,18\,19)
DTSTART;TZID=Europe/Berlin:20230212T100000
DTEND;TZID=Europe/Berlin:20230212T120000
LOCATION:Zimní stadion\, U Stadionu 12 Nymburk
SUMMARY:2-U20Z-II: Nymburk-Žďár n. S.
END:VEVENT
BEGIN:VEVENT
UID:65376262-3037-4564-b064-306466316562
DTSTAMP:20260421T201610Z
DESCRIPTION:6/16 Nymburk - Žďár n. S. 3:0 (14\,20\,17)
DTSTART;TZID=Europe/Berlin:20230212T140000
DTEND;TZID=Europe/Berlin:20230212T160000
LOCATION:Zimní stadion\, U Stadionu 12 Nymburk
SUMMARY:2-U20Z-II: Nymburk-Žďár n. S.
END:VEVENT
BEGIN:VEVENT
UID:36336562-3864-4434-a166-636362616364
DTSTAMP:20260421T201610Z
DESCRIPTION:9/26 Meteor - Žďár n. S. 3:0 (15\,14\,21)
DTSTART;TZID=Europe/Berlin:20230312T100000
DTEND;TZID=Europe/Berlin:20230312T120000
LOCATION:ZŠ Žernosecká\, Žernosecká 1597 Praha - Kobylisy
SUMMARY:2-U20Z-II: Meteor-Žďár n. S.
END:VEVENT
BEGIN:VEVENT
UID:62626362-6537-4232-b332-623865633239
DTSTAMP:20260421T201610Z
DESCRIPTION:10/29 Meteor - Žďár n. S. 3:0 (25\,14\,14)
DTSTART;TZID=Europe/Berlin:20230312T140000
DTEND;TZID=Europe/Berlin:20230312T160000
LOCATION:ZŠ Žernosecká\, Žernosecká 1597 Praha - Kobylisy
SUMMARY:2-U20Z-II: Meteor-Žďár n. S.
END:VEVENT
BEGIN:VEVENT
UID:39353062-6436-4432-a438-306138366331
DTSTAMP:20260421T201610Z
DESCRIPTION:3/6 Žďár n. S. - Volejbal Ústí nad Labem 0:2 (-17\,-19)
DTSTART;TZID=Europe/Berlin:20230422T113000
DTEND;TZID=Europe/Berlin:20230422T133000
LOCATION:Sportovní hala na Bouchalkách\, Jungmannova 1495 Žďár nad Sázavou 
 - Žďár nad Sázavou 1
SUMMARY:CP-U20Z-5A: Žďár n. S.-Volejbal Ústí nad Labem
END:VEVENT
BEGIN:VEVENT
UID:30626364-3332-4363-a133-336463633461
DTSTAMP:20260421T201610Z
DESCRIPTION:5/10 Žďár n. S. - Tělocvičná jednota Sokol Brandýs nad Labem 0:
 2 (-24\,-18)
DTSTART;TZID=Europe/Berlin:20230422T140000
DTEND;TZID=Europe/Berlin:20230422T160000
LOCATION:Sportovní hala na Bouchalkách\, Jungmannova 1495 Žďár nad Sázavou 
 - Žďár nad Sázavou 1
SUMMARY:CP-U20Z-5A: Žďár n. S.-Tělocvičná jednota Sokol Brandýs nad Labem
END:VEVENT
BEGIN:VEVENT
UID:65333531-6538-4165-a663-363761626531
DTSTAMP:20260421T201610Z
DESCRIPTION:7/14 Žďár n. S. - SPORT KLUB Náchod\, z.s. 0:2 (-20\,-19)
DTSTART;TZID=Europe/Berlin:20230422T163000
DTEND;TZID=Europe/Berlin:20230422T183000
LOCATION:Sportovní hala na Bouchalkách\, Jungmannova 1495 Žďár nad Sázavou 
 - Žďár nad Sázavou 1
SUMMARY:CP-U20Z-5A: Žďár n. S.-SPORT KLUB Náchod\, z.s.
END:VEVENT
BEGIN:VEVENT
UID:35626531-3164-4063-a636-646165663733
DTSTAMP:20260421T201610Z
DESCRIPTION:10/20 Žďár n. S. - VYŠKOV 0:2 (-15\,-21)
DTSTART;TZID=Europe/Berlin:20230423T101500
DTEND;TZID=Europe/Berlin:20230423T121500
LOCATION:Sportovní hala na Bouchalkách\, Jungmannova 1495 Žďár nad Sázavou 
 - Žďár nad Sázavou 1
SUMMARY:CP-U20Z-5A: Žďár n. S.-VYŠKOV
END:VEVENT
BEGIN:VEVENT
UID:62626466-3234-4564-b032-633439336461
DTSTAMP:20260421T201610Z
DESCRIPTION:12/24 Žďár n. S. - VK Prostějov\, spolek 1:2 (24\,-14\,-3)
DTSTART;TZID=Europe/Berlin:20230423T124500
DTEND;TZID=Europe/Berlin:20230423T144500
LOCATION:Sportovní hala na Bouchalkách\, Jungmannova 1495 Žďár nad Sázavou 
 - Žďár nad Sázavou 1
SUMMARY:CP-U20Z-5A: Žďár n. S.-VK Prostějov\, spolek
END:VEVENT
BEGIN:VEVENT
UID:61336531-6335-4838-b133-383330383136
DTSTAMP:20260421T201610Z
DESCRIPTION:14/28 Žďár n. S. - Olymp Praha 0:2 (-16\,-19)
DTSTART;TZID=Europe/Berlin:20230423T151500
DTEND;TZID=Europe/Berlin:20230423T171500
LOCATION:Sportovní hala na Bouchalkách\, Jungmannova 1495 Žďár nad Sázavou 
 - Žďár nad Sázavou 1
SUMMARY:CP-U20Z-5A: Žďár n. S.-Olymp Praha
END:VEVENT
BEGIN:VEVENT
UID:66663830-6165-4562-a435-316465613362
DTSTAMP:20260421T201610Z
DESCRIPTION:1/2 Sokol Havlíčkův Brod - Žďár n. S. 0:2 (-18\,-15)
DTSTART;TZID=Europe/Berlin:20230422T090000
DTEND;TZID=Europe/Berlin:20230422T110000
LOCATION:Střední zdravotnická škola Havlíčkův Brod\, Masarykova 2033 Havlíč
 kův Brod
SUMMARY:CP-U20Z-5A: Sokol Havlíčkův Brod-Žďár n. S.
END:VEVENT
END:VCALENDAR
