BEGIN:VCALENDAR
VERSION:2.0
PRODID:-//SK Kojetín 201679247//NONSGML kigkonsult.se iCalcreator 2.41.80//
CALSCALE:GREGORIAN
UID:62663934-6562-4366-a663-303364316463
BEGIN:VEVENT
UID:37396566-6461-4131-b832-313166613161
DTSTAMP:20260422T203349Z
DESCRIPTION:3/8 Kojetín - Junior 1:3 (-20\,12\,-19\,-22)
DTSTART;TZID=Europe/Berlin:20221002T100000
DTEND;TZID=Europe/Berlin:20221002T120000
LOCATION:Městská sportovní hala\, Hanusíkova 1476 Kojetín - Kojetín I-Město
SUMMARY:2-U20Z-F: Kojetín-Junior
END:VEVENT
BEGIN:VEVENT
UID:61613232-3961-4635-b463-663236323062
DTSTAMP:20260422T203349Z
DESCRIPTION:4/11 Kojetín - Junior 2:3 (-23\,-21\,21\,19\,-13)
DTSTART;TZID=Europe/Berlin:20221002T140000
DTEND;TZID=Europe/Berlin:20221002T160000
LOCATION:Městská sportovní hala\, Hanusíkova 1476 Kojetín - Kojetín I-Město
SUMMARY:2-U20Z-F: Kojetín-Junior
END:VEVENT
BEGIN:VEVENT
UID:37656536-6530-4766-a437-303332616562
DTSTAMP:20260422T203349Z
DESCRIPTION:9/27 Kojetín - Šlapanice 3:0 (20\,3\,32)
DTSTART;TZID=Europe/Berlin:20221119T100000
DTEND;TZID=Europe/Berlin:20221119T120000
LOCATION:Městská sportovní hala\, Hanusíkova 1476 Kojetín - Kojetín I-Město
SUMMARY:2-U20Z-F: Kojetín-Šlapanice
END:VEVENT
BEGIN:VEVENT
UID:62356237-3538-4532-b436-373961346132
DTSTAMP:20260422T203349Z
DESCRIPTION:10/30 Kojetín - Šlapanice 3:0 (13\,18\,14)
DTSTART;TZID=Europe/Berlin:20221119T140000
DTEND;TZID=Europe/Berlin:20221119T160000
LOCATION:Městská sportovní hala\, Hanusíkova 1476 Kojetín - Kojetín I-Město
SUMMARY:2-U20Z-F: Kojetín-Šlapanice
END:VEVENT
BEGIN:VEVENT
UID:64336466-3730-4534-a638-306261643633
DTSTAMP:20260422T203349Z
DESCRIPTION:11/32 Kojetín - Kr. Pole B 3:2 (-20\,22\,17\,-18\,15)
DTSTART;TZID=Europe/Berlin:20221022T100000
DTEND;TZID=Europe/Berlin:20221022T120000
LOCATION:Městská sportovní hala\, Hanusíkova 1476 Kojetín - Kojetín I-Město
SUMMARY:2-U20Z-F: Kojetín-Kr. Pole B
END:VEVENT
BEGIN:VEVENT
UID:61303065-6436-4730-b563-643539353033
DTSTAMP:20260422T203349Z
DESCRIPTION:12/35 Kojetín - Kr. Pole B 3:2 (20\,12\,-22\,-22\,13)
DTSTART;TZID=Europe/Berlin:20221022T140000
DTEND;TZID=Europe/Berlin:20221022T160000
LOCATION:Městská sportovní hala\, Hanusíkova 1476 Kojetín - Kojetín I-Město
SUMMARY:2-U20Z-F: Kojetín-Kr. Pole B
END:VEVENT
BEGIN:VEVENT
UID:65663632-3264-4432-a163-326566373830
DTSTAMP:20260422T203349Z
DESCRIPTION:15/45 Kojetín - Znojmo 1:3 (-16\,-23\,20\,-18)
DTSTART;TZID=Europe/Berlin:20221211T100000
DTEND;TZID=Europe/Berlin:20221211T120000
LOCATION:Městská sportovní hala\, Hanusíkova 1476 Kojetín - Kojetín I-Město
SUMMARY:2-U20Z-F: Kojetín-Znojmo
END:VEVENT
BEGIN:VEVENT
UID:34343232-6361-4437-b061-333963363066
DTSTAMP:20260422T203349Z
DESCRIPTION:16/48 Kojetín - Znojmo 0:3 (-17\,-12\,-23)
DTSTART;TZID=Europe/Berlin:20221211T140000
DTEND;TZID=Europe/Berlin:20221211T160000
LOCATION:Městská sportovní hala\, Hanusíkova 1476 Kojetín - Kojetín I-Město
SUMMARY:2-U20Z-F: Kojetín-Znojmo
END:VEVENT
BEGIN:VEVENT
UID:37353737-3861-4739-b335-366434353736
DTSTAMP:20260422T203349Z
DESCRIPTION:1/2 Kr. Pole B - Kojetín 3:0 (19\,14\,17)
DTSTART;TZID=Europe/Berlin:20220918T100000
DTEND;TZID=Europe/Berlin:20220918T120000
LOCATION:ZŠ Milénova 14\, Milénova 808 Brno - Lesná
SUMMARY:2-U20Z-F: Kr. Pole B-Kojetín
END:VEVENT
BEGIN:VEVENT
UID:36366265-3662-4436-b836-613633623234
DTSTAMP:20260422T203349Z
DESCRIPTION:2/5 Kr. Pole B - Kojetín 2:3 (20\,-21\,25\,-24\,-9)
DTSTART;TZID=Europe/Berlin:20220918T140000
DTEND;TZID=Europe/Berlin:20220918T160000
LOCATION:ZŠ Milénova 14\, Milénova 808 Brno - Lesná
SUMMARY:2-U20Z-F: Kr. Pole B-Kojetín
END:VEVENT
BEGIN:VEVENT
UID:38623131-3762-4566-a237-346465626230
DTSTAMP:20260422T203349Z
DESCRIPTION:5/15 Znojmo - Kojetín 3:0 (20\,8\,24)
DTSTART;TZID=Europe/Berlin:20221127T100000
DTEND;TZID=Europe/Berlin:20221127T120000
LOCATION:Gymnázium Dr. Karla Polesného\, náměstí Komenského 945 Znojmo
SUMMARY:2-U20Z-F: Znojmo-Kojetín
END:VEVENT
BEGIN:VEVENT
UID:32623665-3462-4439-b832-623133313933
DTSTAMP:20260422T203349Z
DESCRIPTION:6/18 Znojmo - Kojetín 3:0 (13\,20\,17)
DTSTART;TZID=Europe/Berlin:20221127T140000
DTEND;TZID=Europe/Berlin:20221127T160000
LOCATION:Gymnázium Dr. Karla Polesného\, náměstí Komenského 945 Znojmo
SUMMARY:2-U20Z-F: Znojmo-Kojetín
END:VEVENT
BEGIN:VEVENT
UID:61336462-6530-4733-a231-633933633933
DTSTAMP:20260422T203349Z
DESCRIPTION:13/38 Junior - Kojetín 3:1 (-24\,22\,18\,17)
DTSTART;TZID=Europe/Berlin:20221204T100000
DTEND;TZID=Europe/Berlin:20221204T120000
LOCATION:ZŠ Holzova 1\, Holzova 1461 Brno - Líšeň
SUMMARY:2-U20Z-F: Junior-Kojetín
END:VEVENT
BEGIN:VEVENT
UID:64383136-3734-4835-a162-323364656434
DTSTAMP:20260422T203349Z
DESCRIPTION:14/41 Junior - Kojetín 3:1 (-12\,25\,21\,21)
DTSTART;TZID=Europe/Berlin:20221204T140000
DTEND;TZID=Europe/Berlin:20221204T160000
LOCATION:ZŠ Holzova 1\, Holzova 1461 Brno - Líšeň
SUMMARY:2-U20Z-F: Junior-Kojetín
END:VEVENT
BEGIN:VEVENT
UID:36353336-3261-4764-a365-383134643439
DTSTAMP:20260422T203349Z
DESCRIPTION:19/57 Šlapanice - Kojetín 1:3 (-10\,20\,-17\,-13)
DTSTART;TZID=Europe/Berlin:20230114T100000
DTEND;TZID=Europe/Berlin:20230114T120000
LOCATION:Tělocvična ZŠ Šlapanice\, Masarykovo náměstí 1594 Šlapanice
SUMMARY:2-U20Z-F: Šlapanice-Kojetín
END:VEVENT
BEGIN:VEVENT
UID:61306330-3331-4535-a235-383532376262
DTSTAMP:20260422T203349Z
DESCRIPTION:20/60 Šlapanice - Kojetín 0:3 (-12\,-16\,-12)
DTSTART;TZID=Europe/Berlin:20230114T140000
DTEND;TZID=Europe/Berlin:20230114T160000
LOCATION:Tělocvična ZŠ Šlapanice\, Masarykovo náměstí 1594 Šlapanice
SUMMARY:2-U20Z-F: Šlapanice-Kojetín
END:VEVENT
BEGIN:VEVENT
UID:33333961-3732-4936-a533-313337353430
DTSTAMP:20260422T203349Z
DESCRIPTION:3/8 Kojetín - Ostrava B 3:0 (21\,17\,21)
DTSTART;TZID=Europe/Berlin:20230205T090000
DTEND;TZID=Europe/Berlin:20230205T110000
LOCATION:Městská sportovní hala\, Hanusíkova 1476 Kojetín - Kojetín I-Město
SUMMARY:2-U20Z-P: Kojetín-Ostrava B
END:VEVENT
BEGIN:VEVENT
UID:33393635-6366-4832-a131-626130333234
DTSTAMP:20260422T203349Z
DESCRIPTION:4/11 Kojetín - Ostrava B 3:0 (25\,19\,17)
DTSTART;TZID=Europe/Berlin:20230205T130000
DTEND;TZID=Europe/Berlin:20230205T150000
LOCATION:Městská sportovní hala\, Hanusíkova 1476 Kojetín - Kojetín I-Město
SUMMARY:2-U20Z-P: Kojetín-Ostrava B
END:VEVENT
BEGIN:VEVENT
UID:35626635-3534-4462-b230-613435643631
DTSTAMP:20260422T203349Z
DESCRIPTION:7/21 Kojetín - Opava 3:0 (14\,18\,15)
DTSTART;TZID=Europe/Berlin:20230305T100000
DTEND;TZID=Europe/Berlin:20230305T120000
LOCATION:Městská sportovní hala\, Hanusíkova 1476 Kojetín - Kojetín I-Město
SUMMARY:2-U20Z-P: Kojetín-Opava
END:VEVENT
BEGIN:VEVENT
UID:36666639-6437-4339-a365-303732333239
DTSTAMP:20260422T203349Z
DESCRIPTION:8/24 Kojetín - Opava 3:0 (22\,11\,17)
DTSTART;TZID=Europe/Berlin:20230305T140000
DTEND;TZID=Europe/Berlin:20230305T160000
LOCATION:Městská sportovní hala\, Hanusíkova 1476 Kojetín - Kojetín I-Město
SUMMARY:2-U20Z-P: Kojetín-Opava
END:VEVENT
BEGIN:VEVENT
UID:32386434-3765-4832-a231-393863303432
DTSTAMP:20260422T203349Z
DESCRIPTION:11/31 Kojetín - Stará Bělá 3:1 (-20\,19\,25\,25)
DTSTART;TZID=Europe/Berlin:20230319T100000
DTEND;TZID=Europe/Berlin:20230319T120000
LOCATION:Městská sportovní hala\, Hanusíkova 1476 Kojetín - Kojetín I-Město
SUMMARY:2-U20Z-P: Kojetín-Stará Bělá
END:VEVENT
BEGIN:VEVENT
UID:32333362-6263-4036-a537-646164663131
DTSTAMP:20260422T203349Z
DESCRIPTION:12/34 Kojetín - Stará Bělá 3:1 (18\,22\,-23\,24)
DTSTART;TZID=Europe/Berlin:20230319T140000
DTEND;TZID=Europe/Berlin:20230319T160000
LOCATION:Městská sportovní hala\, Hanusíkova 1476 Kojetín - Kojetín I-Město
SUMMARY:2-U20Z-P: Kojetín-Stará Bělá
END:VEVENT
BEGIN:VEVENT
UID:64633063-3561-4862-a561-663838366663
DTSTAMP:20260422T203349Z
DESCRIPTION:1/3 Opava - Kojetín 0:3 (-12\,-21\,-9)
DTSTART;TZID=Europe/Berlin:20230129T100000
DTEND;TZID=Europe/Berlin:20230129T120000
LOCATION:Sportovní hala Střední školy technické\, Kolofíkovo nábřeží 1062 O
 pava - Kateřinky
SUMMARY:2-U20Z-P: Opava-Kojetín
END:VEVENT
BEGIN:VEVENT
UID:66636463-6237-4638-a466-306334326334
DTSTAMP:20260422T203349Z
DESCRIPTION:2/6 Opava - Kojetín 0:3 (-11\,-19\,-20)
DTSTART;TZID=Europe/Berlin:20230129T140000
DTEND;TZID=Europe/Berlin:20230129T160000
LOCATION:Sportovní hala Střední školy technické\, Kolofíkovo nábřeží 1062 O
 pava - Kateřinky
SUMMARY:2-U20Z-P: Opava-Kojetín
END:VEVENT
BEGIN:VEVENT
UID:61346565-3435-4036-b631-353366616234
DTSTAMP:20260422T203349Z
DESCRIPTION:5/13 Stará Bělá - Kojetín 2:3 (-15\,20\,21\,-17\,-12)
DTSTART;TZID=Europe/Berlin:20230212T100000
DTEND;TZID=Europe/Berlin:20230212T120000
LOCATION:Sportovní hala Nová Bělá\, Krmelínská 750 Ostrava - Nová Bělá
SUMMARY:2-U20Z-P: Stará Bělá-Kojetín
END:VEVENT
BEGIN:VEVENT
UID:62653139-3264-4335-b333-306536333335
DTSTAMP:20260422T203349Z
DESCRIPTION:6/16 Stará Bělá - Kojetín 3:0 (16\,13\,20)
DTSTART;TZID=Europe/Berlin:20230212T140000
DTEND;TZID=Europe/Berlin:20230212T160000
LOCATION:Sportovní hala Nová Bělá\, Krmelínská 750 Ostrava - Nová Bělá
SUMMARY:2-U20Z-P: Stará Bělá-Kojetín
END:VEVENT
BEGIN:VEVENT
UID:39303530-6638-4639-a666-376636396433
DTSTAMP:20260422T203349Z
DESCRIPTION:9/26 Ostrava B - Kojetín 0:3 (-21\,-20\,-19)
DTSTART;TZID=Europe/Berlin:20230312T100000
DTEND;TZID=Europe/Berlin:20230312T120000
LOCATION:Tělocvična ZŠ Gen. Píky \, Gen. Píky 2975 Ostrava - Moravská Ostra
 va
SUMMARY:2-U20Z-P: Ostrava B-Kojetín
END:VEVENT
BEGIN:VEVENT
UID:63663066-6364-4231-b133-653131366337
DTSTAMP:20260422T203349Z
DESCRIPTION:10/29 Ostrava B - Kojetín 0:3 (-15\,-14\,-13)
DTSTART;TZID=Europe/Berlin:20230312T140000
DTEND;TZID=Europe/Berlin:20230312T160000
LOCATION:Tělocvična ZŠ Gen. Píky \, Gen. Píky 2975 Ostrava - Moravská Ostra
 va
SUMMARY:2-U20Z-P: Ostrava B-Kojetín
END:VEVENT
END:VCALENDAR
