BEGIN:VCALENDAR
VERSION:2.0
PRODID:-//VK Ostrava79255//NONSGML kigkonsult.se iCalcreator 2.41.80//
CALSCALE:GREGORIAN
UID:34323962-6331-4639-b566-353862346433
BEGIN:VEVENT
UID:35643065-6361-4735-b466-623033313766
DTSTAMP:20260422T075416Z
DESCRIPTION:1/1 VK Ostrava - Zlín 3:2 (-21\,-17\,19\,13\,13)
DTSTART;TZID=Europe/Berlin:20220917T100000
DTEND;TZID=Europe/Berlin:20220917T120000
LOCATION:TJ Slavia Hradec Králové\, Víta Nejedlého 1216 Hradec Králové
SUMMARY:EX-U18M-1D: VK Ostrava-Zlín
END:VEVENT
BEGIN:VEVENT
UID:34653339-6562-4662-b966-626166616531
DTSTAMP:20260422T075416Z
DESCRIPTION:1/3 VK Ostrava - Ústí n. L. 2:3 (18\,-30\,19\,-22\,-9)
DTSTART;TZID=Europe/Berlin:20220917T130000
DTEND;TZID=Europe/Berlin:20220917T150000
LOCATION:TJ Slavia Hradec Králové\, Víta Nejedlého 1216 Hradec Králové
SUMMARY:EX-U18M-1D: VK Ostrava-Ústí n. L.
END:VEVENT
BEGIN:VEVENT
UID:62656661-3239-4030-b564-376264636265
DTSTAMP:20260422T075416Z
DESCRIPTION:2/6 H. Králové - VK Ostrava 2:3 (-14\,21\,20\,-23\,-12)
DTSTART;TZID=Europe/Berlin:20220917T160000
DTEND;TZID=Europe/Berlin:20220917T180000
LOCATION:TJ Slavia Hradec Králové\, Víta Nejedlého 1216 Hradec Králové
SUMMARY:EX-U18M-1D: H. Králové-VK Ostrava
END:VEVENT
BEGIN:VEVENT
UID:39633336-6632-4165-b263-643065303965
DTSTAMP:20260422T075416Z
DESCRIPTION:1/1 VK Ostrava - Kojetín 3:0 (24\,17\,17)
DTSTART;TZID=Europe/Berlin:20221022T100000
DTEND;TZID=Europe/Berlin:20221022T120000
LOCATION:Hala Janáčkova konzervatoř Ostrava\, Českobratrská 958 Ostrava - M
 oravská Ostrava
SUMMARY:EX-U18M-2C: VK Ostrava-Kojetín
END:VEVENT
BEGIN:VEVENT
UID:34363937-3837-4166-a462-633763393437
DTSTAMP:20260422T075416Z
DESCRIPTION:1/4 VK Ostrava - V. Meziříčí 1:3 (-18\,-22\,23\,-13)
DTSTART;TZID=Europe/Berlin:20221022T160000
DTEND;TZID=Europe/Berlin:20221022T180000
LOCATION:Hala Janáčkova konzervatoř Ostrava\, Českobratrská 958 Ostrava - M
 oravská Ostrava
SUMMARY:EX-U18M-2C: VK Ostrava-V. Meziříčí
END:VEVENT
BEGIN:VEVENT
UID:66643461-6233-4339-a461-323735336131
DTSTAMP:20260422T075416Z
DESCRIPTION:2/7 VK Ostrava - H. Králové 1:3 (-8\,18\,-18\,-19)
DTSTART;TZID=Europe/Berlin:20221023T110000
DTEND;TZID=Europe/Berlin:20221023T130000
LOCATION:Hala Janáčkova konzervatoř Ostrava\, Českobratrská 958 Ostrava - M
 oravská Ostrava
SUMMARY:EX-U18M-2C: VK Ostrava-H. Králové
END:VEVENT
BEGIN:VEVENT
UID:61313730-3038-4665-b330-376137353738
DTSTAMP:20260422T075416Z
DESCRIPTION:2/10 Brno - VK Ostrava 0:3 (-22\,-17\,-17)
DTSTART;TZID=Europe/Berlin:20221023T170000
DTEND;TZID=Europe/Berlin:20221023T190000
LOCATION:Hala Janáčkova konzervatoř Ostrava\, Českobratrská 958 Ostrava - M
 oravská Ostrava
SUMMARY:EX-U18M-2C: Brno-VK Ostrava
END:VEVENT
BEGIN:VEVENT
UID:30303761-3233-4761-a361-313331353363
DTSTAMP:20260422T075416Z
DESCRIPTION:1/1 VK Ostrava - Blue Ostrava 1:3 (-14\,19\,-15\,-21)
DTSTART;TZID=Europe/Berlin:20221126T100000
DTEND;TZID=Europe/Berlin:20221126T120000
LOCATION:Hala Janáčkova konzervatoř Ostrava\, Českobratrská 958 Ostrava - M
 oravská Ostrava
SUMMARY:EX-U18M-3C: VK Ostrava-Blue Ostrava
END:VEVENT
BEGIN:VEVENT
UID:37333538-6239-4330-b764-666233303837
DTSTAMP:20260422T075416Z
DESCRIPTION:1/4 VK Ostrava - Nymburk 3:1 (-19\,13\,16\,12)
DTSTART;TZID=Europe/Berlin:20221126T160000
DTEND;TZID=Europe/Berlin:20221126T180000
LOCATION:Hala Janáčkova konzervatoř Ostrava\, Českobratrská 958 Ostrava - M
 oravská Ostrava
SUMMARY:EX-U18M-3C: VK Ostrava-Nymburk
END:VEVENT
BEGIN:VEVENT
UID:31613433-6335-4662-b536-303730366632
DTSTAMP:20260422T075416Z
DESCRIPTION:2/7 VK Ostrava - Ústí n. L. 0:3 (-10\,-19\,-21)\nNH- Hala Mláde
 že\; Gajdošova 1893 Ostrava - Moravská Ostrava
DTSTART;TZID=Europe/Berlin:20221127T110000
DTEND;TZID=Europe/Berlin:20221127T130000
LOCATION:Hala Janáčkova konzervatoř Ostrava\, Českobratrská 958 Ostrava - M
 oravská Ostrava
SUMMARY:EX-U18M-3C: VK Ostrava-Ústí n. L.
END:VEVENT
BEGIN:VEVENT
UID:31336164-6464-4863-b039-333836633433
DTSTAMP:20260422T075416Z
DESCRIPTION:2/10 Nový Jičín - VK Ostrava 0:3 (-17\,-19\,-20)\nNH- Hala Mlád
 eže\; Gajdošova 1893 Ostrava - Moravská Ostrava
DTSTART;TZID=Europe/Berlin:20221127T170000
DTEND;TZID=Europe/Berlin:20221127T190000
LOCATION:Hala Janáčkova konzervatoř Ostrava\, Českobratrská 958 Ostrava - M
 oravská Ostrava
SUMMARY:EX-U18M-3C: Nový Jičín-VK Ostrava
END:VEVENT
BEGIN:VEVENT
UID:36323339-6534-4130-a462-373936663634
DTSTAMP:20260422T075416Z
DESCRIPTION:1/3 VK Ostrava - Kolín 3:0 (21\,14\,18)
DTSTART;TZID=Europe/Berlin:20230128T140000
DTEND;TZID=Europe/Berlin:20230128T160000
LOCATION:Zimní stadion\, U Stadionu 12 Nymburk
SUMMARY:EX-U18M-4D: VK Ostrava-Kolín
END:VEVENT
BEGIN:VEVENT
UID:31613664-3235-4230-b837-393963383937
DTSTAMP:20260422T075416Z
DESCRIPTION:1/5 VK Ostrava - Rychnov n. K. 3:1 (10\,-24\,11\,15)
DTSTART;TZID=Europe/Berlin:20230128T180000
DTEND;TZID=Europe/Berlin:20230128T200000
LOCATION:Zimní stadion\, U Stadionu 12 Nymburk
SUMMARY:EX-U18M-4D: VK Ostrava-Rychnov n. K.
END:VEVENT
BEGIN:VEVENT
UID:37623036-3261-4865-b063-363734303262
DTSTAMP:20260422T075416Z
DESCRIPTION:2/7 Nymburk - VK Ostrava 2:3 (23\,-18\,-18\,12\,-8)
DTSTART;TZID=Europe/Berlin:20230129T110000
DTEND;TZID=Europe/Berlin:20230129T130000
LOCATION:Zimní stadion\, U Stadionu 12 Nymburk
SUMMARY:EX-U18M-4D: Nymburk-VK Ostrava
END:VEVENT
BEGIN:VEVENT
UID:66623761-6466-4539-a530-333865316366
DTSTAMP:20260422T075416Z
DESCRIPTION:2/9 Zlín - VK Ostrava 1:3 (-25\,-26\,24\,-17)
DTSTART;TZID=Europe/Berlin:20230129T150000
DTEND;TZID=Europe/Berlin:20230129T170000
LOCATION:Zimní stadion\, U Stadionu 12 Nymburk
SUMMARY:EX-U18M-4D: Zlín-VK Ostrava
END:VEVENT
BEGIN:VEVENT
UID:38363634-6136-4031-a238-396537623533
DTSTAMP:20260422T075416Z
DESCRIPTION:1/1 VK Ostrava - Green F-M 0:3 (-22\,-18\,-17)
DTSTART;TZID=Europe/Berlin:20230218T100000
DTEND;TZID=Europe/Berlin:20230218T120000
LOCATION:Hala Janáčkova konzervatoř Ostrava\, Českobratrská 958 Ostrava - M
 oravská Ostrava
SUMMARY:EX-U18M-5C: VK Ostrava-Green F-M
END:VEVENT
BEGIN:VEVENT
UID:31393063-3964-4130-b534-356630356262
DTSTAMP:20260422T075416Z
DESCRIPTION:1/4 VK Ostrava - V. Meziříčí 1:3 (-15\,25\,-21\,-25)
DTSTART;TZID=Europe/Berlin:20230218T160000
DTEND;TZID=Europe/Berlin:20230218T180000
LOCATION:Hala Janáčkova konzervatoř Ostrava\, Českobratrská 958 Ostrava - M
 oravská Ostrava
SUMMARY:EX-U18M-5C: VK Ostrava-V. Meziříčí
END:VEVENT
BEGIN:VEVENT
UID:64656535-6366-4361-a266-663031346535
DTSTAMP:20260422T075416Z
DESCRIPTION:2/7 VK Ostrava - Nymburk 3:1 (14\,23\,-16\,17)
DTSTART;TZID=Europe/Berlin:20230219T110000
DTEND;TZID=Europe/Berlin:20230219T130000
LOCATION:Hala Janáčkova konzervatoř Ostrava\, Českobratrská 958 Ostrava - M
 oravská Ostrava
SUMMARY:EX-U18M-5C: VK Ostrava-Nymburk
END:VEVENT
BEGIN:VEVENT
UID:31366566-3163-4935-a636-383963313137
DTSTAMP:20260422T075416Z
DESCRIPTION:2/10 Nový Jičín - VK Ostrava 3:1 (20\,19\,-21\,18)
DTSTART;TZID=Europe/Berlin:20230219T170000
DTEND;TZID=Europe/Berlin:20230219T190000
LOCATION:Hala Janáčkova konzervatoř Ostrava\, Českobratrská 958 Ostrava - M
 oravská Ostrava
SUMMARY:EX-U18M-5C: Nový Jičín-VK Ostrava
END:VEVENT
BEGIN:VEVENT
UID:34613165-3861-4161-b066-646564363235
DTSTAMP:20260422T075416Z
DESCRIPTION:1/2 VK Ostrava - Nový Jičín 0:3 (-21\,-17\,-23)\nNH: Školní těl
 ocvična Poděbradova 76 Polná 58813
DTSTART;TZID=Europe/Berlin:20230325T120000
DTEND;TZID=Europe/Berlin:20230325T140000
LOCATION:ZŠ Komenského\, Komenského 1 Velké Meziříčí
SUMMARY:EX-U18M-6C: VK Ostrava-Nový Jičín
END:VEVENT
BEGIN:VEVENT
UID:37636335-6134-4337-b864-343261623436
DTSTAMP:20260422T075416Z
DESCRIPTION:2/9 VK Ostrava - Ústí n. L. 3:2 (-22\,14\,19\,-19\,7)
DTSTART;TZID=Europe/Berlin:20230326T150000
DTEND;TZID=Europe/Berlin:20230326T170000
LOCATION:ZŠ Komenského\, Komenského 1 Velké Meziříčí
SUMMARY:EX-U18M-6C: VK Ostrava-Ústí n. L.
END:VEVENT
BEGIN:VEVENT
UID:65333837-3230-4237-b863-343432373862
DTSTAMP:20260422T075416Z
DESCRIPTION:1/4 V. Meziříčí - VK Ostrava 3:1 (19\,-23\,16\,18)\nNH: Školní 
 tělocvična Poděbradova 76 Polná 58813
DTSTART;TZID=Europe/Berlin:20230325T160000
DTEND;TZID=Europe/Berlin:20230325T180000
LOCATION:ZŠ Komenského\, Komenského 1 Velké Meziříčí
SUMMARY:EX-U18M-6C: V. Meziříčí-VK Ostrava
END:VEVENT
BEGIN:VEVENT
UID:39306464-3633-4661-b033-373564633936
DTSTAMP:20260422T075416Z
DESCRIPTION:2/6 H. Králové - VK Ostrava 2:3 (29\,-23\,-18\,19\,-20)
DTSTART;TZID=Europe/Berlin:20230326T090000
DTEND;TZID=Europe/Berlin:20230326T110000
LOCATION:ZŠ Komenského\, Komenského 1 Velké Meziříčí
SUMMARY:EX-U18M-6C: H. Králové-VK Ostrava
END:VEVENT
END:VCALENDAR
