BEGIN:VCALENDAR
VERSION:2.0
PRODID:-//VK Lvi Praha79259//NONSGML kigkonsult.se iCalcreator 2.41.80//
CALSCALE:GREGORIAN
UID:32373061-3535-4639-a166-343561663838
BEGIN:VEVENT
UID:33383863-6363-4233-b033-333733373264
DTSTAMP:20260421T102639Z
DESCRIPTION:1/1 Lvi - Nymburk 3:1 (26\,-16\,11\,23)
DTSTART;TZID=Europe/Berlin:20220917T100000
DTEND;TZID=Europe/Berlin:20220917T120000
LOCATION:Sportovní hala Lužiny\, Bellušova 1877 Praha - Stodůlky
SUMMARY:EX-U18M-1B: Lvi-Nymburk
END:VEVENT
BEGIN:VEVENT
UID:35383266-6334-4663-b734-383737353037
DTSTAMP:20260421T102639Z
DESCRIPTION:1/4 Lvi - Znojmo 3:2 (-11\,20\,17\,-10\,9)
DTSTART;TZID=Europe/Berlin:20220917T160000
DTEND;TZID=Europe/Berlin:20220917T180000
LOCATION:Sportovní hala Lužiny\, Bellušova 1877 Praha - Stodůlky
SUMMARY:EX-U18M-1B: Lvi-Znojmo
END:VEVENT
BEGIN:VEVENT
UID:62343030-6631-4332-b431-356366613066
DTSTAMP:20260421T102639Z
DESCRIPTION:2/7 Lvi - Brno 3:1 (14\,-28\,13\,15)
DTSTART;TZID=Europe/Berlin:20220918T110000
DTEND;TZID=Europe/Berlin:20220918T130000
LOCATION:Sportovní hala Lužiny\, Bellušova 1877 Praha - Stodůlky
SUMMARY:EX-U18M-1B: Lvi-Brno
END:VEVENT
BEGIN:VEVENT
UID:62666537-3232-4864-a665-346633666561
DTSTAMP:20260421T102639Z
DESCRIPTION:2/10 Jirkov - Lvi 0:3 (-13\,-12\,-9)
DTSTART;TZID=Europe/Berlin:20220918T170000
DTEND;TZID=Europe/Berlin:20220918T190000
LOCATION:Sportovní hala Lužiny\, Bellušova 1877 Praha - Stodůlky
SUMMARY:EX-U18M-1B: Jirkov-Lvi
END:VEVENT
BEGIN:VEVENT
UID:39343937-6463-4237-b339-333337663965
DTSTAMP:20260421T102639Z
DESCRIPTION:1/2 Lvi - Prosek 3:0 (20\,19\,20)
DTSTART;TZID=Europe/Berlin:20221022T143000
DTEND;TZID=Europe/Berlin:20221022T163000
LOCATION:ZŠ Oskara Nedbala České Budějovice\, O. Nedbala 882 České Budějovi
 ce - České Budějovice 2
SUMMARY:EX-U18M-2A: Lvi-Prosek
END:VEVENT
BEGIN:VEVENT
UID:66363739-3062-4434-a465-303836316661
DTSTAMP:20260421T102639Z
DESCRIPTION:2/9 Lvi - Green F-M 1:3 (21\,-18\,-21\,-25)
DTSTART;TZID=Europe/Berlin:20221023T150000
DTEND;TZID=Europe/Berlin:20221023T170000
LOCATION:ZŠ Oskara Nedbala České Budějovice\, O. Nedbala 882 České Budějovi
 ce - České Budějovice 2
SUMMARY:EX-U18M-2A: Lvi-Green F-M
END:VEVENT
BEGIN:VEVENT
UID:65383233-3665-4336-b735-666139383765
DTSTAMP:20260421T102639Z
DESCRIPTION:1/4 Č. Budějovice - Lvi 3:1 (18\,-20\,20\,15)
DTSTART;TZID=Europe/Berlin:20221022T163000
DTEND;TZID=Europe/Berlin:20221022T183000
LOCATION:ZŠ Oskara Nedbala České Budějovice\, O. Nedbala 882 České Budějovi
 ce - České Budějovice 2
SUMMARY:EX-U18M-2A: Č. Budějovice-Lvi
END:VEVENT
BEGIN:VEVENT
UID:61613435-3065-4036-a433-356133313536
DTSTAMP:20260421T102639Z
DESCRIPTION:2/6 Příbram - Lvi 3:1 (-24\,27\,16\,21)
DTSTART;TZID=Europe/Berlin:20221023T090000
DTEND;TZID=Europe/Berlin:20221023T110000
LOCATION:ZŠ Oskara Nedbala České Budějovice\, O. Nedbala 882 České Budějovi
 ce - České Budějovice 2
SUMMARY:EX-U18M-2A: Příbram-Lvi
END:VEVENT
BEGIN:VEVENT
UID:35323962-3033-4764-b465-373138373236
DTSTAMP:20260421T102639Z
DESCRIPTION:1/2 Lvi - H. Králové 3:1 (-18\,20\,15\,17)
DTSTART;TZID=Europe/Berlin:20221126T120000
DTEND;TZID=Europe/Berlin:20221126T140000
LOCATION:ZŠ Komenského\, Komenského 1 Velké Meziříčí
SUMMARY:EX-U18M-3B: Lvi-H. Králové
END:VEVENT
BEGIN:VEVENT
UID:36313636-3165-4230-b833-363037306632
DTSTAMP:20260421T102639Z
DESCRIPTION:2/9 Lvi - Prosek 3:0 (20\,20\,19)
DTSTART;TZID=Europe/Berlin:20221127T150000
DTEND;TZID=Europe/Berlin:20221127T170000
LOCATION:ZŠ Komenského\, Komenského 1 Velké Meziříčí
SUMMARY:EX-U18M-3B: Lvi-Prosek
END:VEVENT
BEGIN:VEVENT
UID:61366664-3137-4637-a462-313664343966
DTSTAMP:20260421T102639Z
DESCRIPTION:1/4 V. Meziříčí - Lvi 2:3 (23\,-18\,22\,-21\,-8)
DTSTART;TZID=Europe/Berlin:20221126T160000
DTEND;TZID=Europe/Berlin:20221126T180000
LOCATION:ZŠ Komenského\, Komenského 1 Velké Meziříčí
SUMMARY:EX-U18M-3B: V. Meziříčí-Lvi
END:VEVENT
BEGIN:VEVENT
UID:31366466-6331-4561-a438-313432333632
DTSTAMP:20260421T102639Z
DESCRIPTION:2/6 Znojmo - Lvi 3:0 (19\,17\,12)
DTSTART;TZID=Europe/Berlin:20221127T090000
DTEND;TZID=Europe/Berlin:20221127T110000
LOCATION:ZŠ Komenského\, Komenského 1 Velké Meziříčí
SUMMARY:EX-U18M-3B: Znojmo-Lvi
END:VEVENT
BEGIN:VEVENT
UID:61356233-3730-4235-b663-616232333733
DTSTAMP:20260421T102639Z
DESCRIPTION:1/3 Lvi - Green F-M 3:2 (18\,-18\,-28\,19\,7)
DTSTART;TZID=Europe/Berlin:20230128T130000
DTEND;TZID=Europe/Berlin:20230128T150000
LOCATION:Hala ABC\, Purkyňova 116 Nový Jičín
SUMMARY:EX-U18M-4B: Lvi-Green F-M
END:VEVENT
BEGIN:VEVENT
UID:30303132-3838-4836-b964-343937636361
DTSTAMP:20260421T102639Z
DESCRIPTION:1/5 Lvi - Blue Ostrava 0:3 (-22\,-21\,-22)
DTSTART;TZID=Europe/Berlin:20230128T160000
DTEND;TZID=Europe/Berlin:20230128T180000
LOCATION:Hala ABC\, Purkyňova 116 Nový Jičín
SUMMARY:EX-U18M-4B: Lvi-Blue Ostrava
END:VEVENT
BEGIN:VEVENT
UID:30383661-6537-4638-a237-643434323961
DTSTAMP:20260421T102639Z
DESCRIPTION:2/7 Nový Jičín - Lvi 0:3 (-17\,-20\,-16)
DTSTART;TZID=Europe/Berlin:20230129T090000
DTEND;TZID=Europe/Berlin:20230129T110000
LOCATION:Hala ABC\, Purkyňova 116 Nový Jičín
SUMMARY:EX-U18M-4B: Nový Jičín-Lvi
END:VEVENT
BEGIN:VEVENT
UID:35643438-6233-4232-b233-376133363437
DTSTAMP:20260421T102639Z
DESCRIPTION:2/9 Liberec - Lvi 1:3 (-22\,-17\,19\,-20)
DTSTART;TZID=Europe/Berlin:20230129T120000
DTEND;TZID=Europe/Berlin:20230129T140000
LOCATION:Hala ABC\, Purkyňova 116 Nový Jičín
SUMMARY:EX-U18M-4B: Liberec-Lvi
END:VEVENT
BEGIN:VEVENT
UID:39613865-3239-4634-b635-373931373030
DTSTAMP:20260421T102639Z
DESCRIPTION:1/2 Lvi - Prosek 3:0 (20\,21\,15)
DTSTART;TZID=Europe/Berlin:20230218T120000
DTEND;TZID=Europe/Berlin:20230218T140000
LOCATION:Gymnázium Dr. Karla Polesného\, náměstí Komenského 945 Znojmo
SUMMARY:EX-U18M-5B: Lvi-Prosek
END:VEVENT
BEGIN:VEVENT
UID:36356639-3236-4366-b065-623933303931
DTSTAMP:20260421T102639Z
DESCRIPTION:2/9 Lvi - Ústí n. L. 3:0 (14\,19\,19)
DTSTART;TZID=Europe/Berlin:20230219T150000
DTEND;TZID=Europe/Berlin:20230219T170000
LOCATION:Gymnázium Dr. Karla Polesného\, náměstí Komenského 945 Znojmo
SUMMARY:EX-U18M-5B: Lvi-Ústí n. L.
END:VEVENT
BEGIN:VEVENT
UID:34636531-3236-4631-b832-633366306632
DTSTAMP:20260421T102639Z
DESCRIPTION:1/4 Znojmo - Lvi 1:3 (-23\,13\,-14\,-23)
DTSTART;TZID=Europe/Berlin:20230218T160000
DTEND;TZID=Europe/Berlin:20230218T180000
LOCATION:Gymnázium Dr. Karla Polesného\, náměstí Komenského 945 Znojmo
SUMMARY:EX-U18M-5B: Znojmo-Lvi
END:VEVENT
BEGIN:VEVENT
UID:61333130-6438-4936-b438-333230373432
DTSTAMP:20260421T102639Z
DESCRIPTION:2/6 Brno - Lvi 3:0 (19\,19\,24)
DTSTART;TZID=Europe/Berlin:20230219T090000
DTEND;TZID=Europe/Berlin:20230219T110000
LOCATION:Gymnázium Dr. Karla Polesného\, náměstí Komenského 945 Znojmo
SUMMARY:EX-U18M-5B: Brno-Lvi
END:VEVENT
BEGIN:VEVENT
UID:39646431-6564-4133-a264-366334366633
DTSTAMP:20260421T102639Z
DESCRIPTION:1/3 Lvi - Blue Ostrava 3:0 (18\,17\,16)
DTSTART;TZID=Europe/Berlin:20230325T140000
DTEND;TZID=Europe/Berlin:20230325T160000
LOCATION:Sportovní hala Svinov\, Stanislavského 1270 Ostrava - Svinov
SUMMARY:EX-U18M-6B: Lvi-Blue Ostrava
END:VEVENT
BEGIN:VEVENT
UID:66626437-3938-4839-b261-636230373438
DTSTAMP:20260421T102639Z
DESCRIPTION:1/5 Lvi - Znojmo 3:0 (11\,16\,15)
DTSTART;TZID=Europe/Berlin:20230325T180000
DTEND;TZID=Europe/Berlin:20230325T200000
LOCATION:Sportovní hala Svinov\, Stanislavského 1270 Ostrava - Svinov
SUMMARY:EX-U18M-6B: Lvi-Znojmo
END:VEVENT
BEGIN:VEVENT
UID:35313434-3238-4635-b866-306533333865
DTSTAMP:20260421T102639Z
DESCRIPTION:2/7 Green F-M - Lvi 3:1 (-18\,23\,21\,23)
DTSTART;TZID=Europe/Berlin:20230326T110000
DTEND;TZID=Europe/Berlin:20230326T130000
LOCATION:Sportovní hala Svinov\, Stanislavského 1270 Ostrava - Svinov
SUMMARY:EX-U18M-6B: Green F-M-Lvi
END:VEVENT
BEGIN:VEVENT
UID:31386366-6561-4631-a537-393737343561
DTSTAMP:20260421T102639Z
DESCRIPTION:2/9 Prosek - Lvi 1:3 (22\,-17\,-15\,-20)
DTSTART;TZID=Europe/Berlin:20230326T150000
DTEND;TZID=Europe/Berlin:20230326T170000
LOCATION:Sportovní hala Svinov\, Stanislavského 1270 Ostrava - Svinov
SUMMARY:EX-U18M-6B: Prosek-Lvi
END:VEVENT
BEGIN:VEVENT
UID:64616366-3266-4061-a262-346433376262
DTSTAMP:20260421T102639Z
DESCRIPTION:1/2 Lvi - Kladno 3:1 (-19\,15\,16\,18)
DTSTART;TZID=Europe/Berlin:20230511T150000
DTEND;TZID=Europe/Berlin:20230511T170000
LOCATION:Sportovní hala Meteor\, Jana Kollára 1742 České Budějovice - České
  Budějovice 7
SUMMARY:EX-U18M-F2: Lvi-Kladno
END:VEVENT
BEGIN:VEVENT
UID:31333263-3035-4138-b732-643337666237
DTSTAMP:20260421T102639Z
DESCRIPTION:2/6 Příbram - Lvi 2:3 (22\,-17\,22\,-21\,-7)
DTSTART;TZID=Europe/Berlin:20230512T100000
DTEND;TZID=Europe/Berlin:20230512T120000
LOCATION:Sportovní hala Meteor\, Jana Kollára 1742 České Budějovice - České
  Budějovice 7
SUMMARY:EX-U18M-F2: Příbram-Lvi
END:VEVENT
BEGIN:VEVENT
UID:37643834-3161-4033-b936-316137383739
DTSTAMP:20260421T102639Z
DESCRIPTION:2/10 Green F-M - Lvi 0:3 (-19\,-24\,-15)
DTSTART;TZID=Europe/Berlin:20230512T150000
DTEND;TZID=Europe/Berlin:20230512T170000
LOCATION:Sportovní hala Meteor\, Jana Kollára 1742 České Budějovice - České
  Budějovice 7
SUMMARY:EX-U18M-F2: Green F-M-Lvi
END:VEVENT
BEGIN:VEVENT
UID:33626236-3261-4535-a234-313366303538
DTSTAMP:20260421T102639Z
DESCRIPTION:1/4 Lvi - Prosek 3:1 (20\,-15\,19\,22)\n1F2-2F1
DTSTART;TZID=Europe/Berlin:20230513T160000
DTEND;TZID=Europe/Berlin:20230513T180000
LOCATION:Sportovní hala Lužiny\, Bellušova 1877 Praha - Stodůlky
SUMMARY:EX-U18M-F: Lvi-Prosek
END:VEVENT
BEGIN:VEVENT
UID:32656363-6331-4533-b635-323763623030
DTSTAMP:20260421T102639Z
DESCRIPTION:2/8 Č. Budějovice - Lvi 1:3 (-23\,-18\,20\,-20)\nfinále
DTSTART;TZID=Europe/Berlin:20230514T150000
DTEND;TZID=Europe/Berlin:20230514T170000
LOCATION:ZŠ Oskara Nedbala České Budějovice\, O. Nedbala 882 České Budějovi
 ce - České Budějovice 2
SUMMARY:EX-U18M-F: Č. Budějovice-Lvi
END:VEVENT
END:VCALENDAR
