BEGIN:VCALENDAR
VERSION:2.0
PRODID:-//SKV Ústí nad Labem79272//NONSGML kigkonsult.se iCalcreator 2.41.80//
CALSCALE:GREGORIAN
UID:63613362-3134-4338-b732-373764386633
BEGIN:VEVENT
UID:34613030-3737-4236-a461-396165633866
DTSTAMP:20260421T215106Z
DESCRIPTION:1/2 Ústí n. L. - H. Králové 3:2 (-14\,14\,-17\,20\,10)
DTSTART;TZID=Europe/Berlin:20220917T100000
DTEND;TZID=Europe/Berlin:20220917T120000
LOCATION:TJ Slavia Hradec Králové\, Víta Nejedlého 1216 Hradec Králové
SUMMARY:EX-U18M-1D: Ústí n. L.-H. Králové
END:VEVENT
BEGIN:VEVENT
UID:64383763-6264-4531-a534-623037323339
DTSTAMP:20260421T215106Z
DESCRIPTION:1/3 VK Ostrava - Ústí n. L. 2:3 (18\,-30\,19\,-22\,-9)
DTSTART;TZID=Europe/Berlin:20220917T130000
DTEND;TZID=Europe/Berlin:20220917T150000
LOCATION:TJ Slavia Hradec Králové\, Víta Nejedlého 1216 Hradec Králové
SUMMARY:EX-U18M-1D: VK Ostrava-Ústí n. L.
END:VEVENT
BEGIN:VEVENT
UID:31616361-3536-4332-a434-383362663265
DTSTAMP:20260421T215106Z
DESCRIPTION:2/5 Zlín - Ústí n. L. 1:3 (-21\,-24\,16\,-21)
DTSTART;TZID=Europe/Berlin:20220917T160000
DTEND;TZID=Europe/Berlin:20220917T180000
LOCATION:TJ Slavia Hradec Králové\, Víta Nejedlého 1216 Hradec Králové
SUMMARY:EX-U18M-1D: Zlín-Ústí n. L.
END:VEVENT
BEGIN:VEVENT
UID:61316337-6462-4739-a663-356664333166
DTSTAMP:20260421T215106Z
DESCRIPTION:1/2 Ústí n. L. - Kladno 0:3 (-21\,-19\,-22)
DTSTART;TZID=Europe/Berlin:20221022T120000
DTEND;TZID=Europe/Berlin:20221022T140000
LOCATION:Gymnázium Dr. Karla Polesného\, náměstí Komenského 945 Znojmo
SUMMARY:EX-U18M-2B: Ústí n. L.-Kladno
END:VEVENT
BEGIN:VEVENT
UID:37393063-3064-4766-a437-653563323437
DTSTAMP:20260421T215106Z
DESCRIPTION:2/9 Ústí n. L. - Liberec 1:3 (-12\,-21\,25\,-24)
DTSTART;TZID=Europe/Berlin:20221023T150000
DTEND;TZID=Europe/Berlin:20221023T170000
LOCATION:Gymnázium Dr. Karla Polesného\, náměstí Komenského 945 Znojmo
SUMMARY:EX-U18M-2B: Ústí n. L.-Liberec
END:VEVENT
BEGIN:VEVENT
UID:66316338-3933-4133-a164-623337643739
DTSTAMP:20260421T215106Z
DESCRIPTION:1/4 Znojmo - Ústí n. L. 3:2 (27\,-19\,-20\,25\,12)
DTSTART;TZID=Europe/Berlin:20221022T160000
DTEND;TZID=Europe/Berlin:20221022T180000
LOCATION:Gymnázium Dr. Karla Polesného\, náměstí Komenského 945 Znojmo
SUMMARY:EX-U18M-2B: Znojmo-Ústí n. L.
END:VEVENT
BEGIN:VEVENT
UID:34626537-6539-4332-b639-613838626636
DTSTAMP:20260421T215106Z
DESCRIPTION:2/6 Nový Jičín - Ústí n. L. 1:3 (-13\,-17\,22\,-15)
DTSTART;TZID=Europe/Berlin:20221023T090000
DTEND;TZID=Europe/Berlin:20221023T110000
LOCATION:Gymnázium Dr. Karla Polesného\, náměstí Komenského 945 Znojmo
SUMMARY:EX-U18M-2B: Nový Jičín-Ústí n. L.
END:VEVENT
BEGIN:VEVENT
UID:36666137-3731-4337-b264-623535356236
DTSTAMP:20260421T215106Z
DESCRIPTION:1/3 Ústí n. L. - Blue Ostrava 0:3 (-16\,-20\,-15)
DTSTART;TZID=Europe/Berlin:20221126T140000
DTEND;TZID=Europe/Berlin:20221126T160000
LOCATION:Hala Janáčkova konzervatoř Ostrava\, Českobratrská 958 Ostrava - M
 oravská Ostrava
SUMMARY:EX-U18M-3C: Ústí n. L.-Blue Ostrava
END:VEVENT
BEGIN:VEVENT
UID:63386663-3138-4335-b438-356333346161
DTSTAMP:20260421T215106Z
DESCRIPTION:1/5 Ústí n. L. - Nový Jičín 1:3 (12\,-23\,-21\,-19)
DTSTART;TZID=Europe/Berlin:20221126T180000
DTEND;TZID=Europe/Berlin:20221126T200000
LOCATION:Hala Janáčkova konzervatoř Ostrava\, Českobratrská 958 Ostrava - M
 oravská Ostrava
SUMMARY:EX-U18M-3C: Ústí n. L.-Nový Jičín
END:VEVENT
BEGIN:VEVENT
UID:62303261-6535-4736-b863-336132663137
DTSTAMP:20260421T215106Z
DESCRIPTION:2/7 VK Ostrava - Ústí n. L. 0:3 (-10\,-19\,-21)\nNH- Hala Mláde
 že\; Gajdošova 1893 Ostrava - Moravská Ostrava
DTSTART;TZID=Europe/Berlin:20221127T110000
DTEND;TZID=Europe/Berlin:20221127T130000
LOCATION:Hala Janáčkova konzervatoř Ostrava\, Českobratrská 958 Ostrava - M
 oravská Ostrava
SUMMARY:EX-U18M-3C: VK Ostrava-Ústí n. L.
END:VEVENT
BEGIN:VEVENT
UID:35306364-6539-4131-b131-613161313635
DTSTAMP:20260421T215106Z
DESCRIPTION:2/9 Nymburk - Ústí n. L. 0:3 (-19\,-23\,-20)\nNH- Hala Mládeže\
 ; Gajdošova 1893 Ostrava - Moravská Ostrava
DTSTART;TZID=Europe/Berlin:20221127T150000
DTEND;TZID=Europe/Berlin:20221127T170000
LOCATION:Hala Janáčkova konzervatoř Ostrava\, Českobratrská 958 Ostrava - M
 oravská Ostrava
SUMMARY:EX-U18M-3C: Nymburk-Ústí n. L.
END:VEVENT
BEGIN:VEVENT
UID:33653632-3363-4164-b837-666566366532
DTSTAMP:20260421T215106Z
DESCRIPTION:1/3 Ústí n. L. - V. Meziříčí 3:1 (23\,18\,-20\,24)
DTSTART;TZID=Europe/Berlin:20230128T130000
DTEND;TZID=Europe/Berlin:20230128T150000
LOCATION:TJ Slavia Hradec Králové\, Víta Nejedlého 1216 Hradec Králové
SUMMARY:EX-U18M-4C: Ústí n. L.-V. Meziříčí
END:VEVENT
BEGIN:VEVENT
UID:64613663-3462-4432-b435-376638386163
DTSTAMP:20260421T215106Z
DESCRIPTION:1/5 Ústí n. L. - Brno 0:3 (-17\,-15\,-14)
DTSTART;TZID=Europe/Berlin:20230128T160000
DTEND;TZID=Europe/Berlin:20230128T180000
LOCATION:TJ Slavia Hradec Králové\, Víta Nejedlého 1216 Hradec Králové
SUMMARY:EX-U18M-4C: Ústí n. L.-Brno
END:VEVENT
BEGIN:VEVENT
UID:66613166-3232-4633-b536-356665333035
DTSTAMP:20260421T215106Z
DESCRIPTION:2/7 H. Králové - Ústí n. L. 0:3 (-21\,-21\,-13)\nNH:  Hala Voce
 lova 1338\, Hradec Králové
DTSTART;TZID=Europe/Berlin:20230129T110000
DTEND;TZID=Europe/Berlin:20230129T130000
LOCATION:TJ Slavia Hradec Králové\, Víta Nejedlého 1216 Hradec Králové
SUMMARY:EX-U18M-4C: H. Králové-Ústí n. L.
END:VEVENT
BEGIN:VEVENT
UID:65636263-6362-4335-b531-633164656138
DTSTAMP:20260421T215106Z
DESCRIPTION:2/9 Kojetín - Ústí n. L. 0:3 (-19\,-16\,-13)\nNH:  Hala Vocelov
 a 1338\, Hradec Králové
DTSTART;TZID=Europe/Berlin:20230129T150000
DTEND;TZID=Europe/Berlin:20230129T170000
LOCATION:TJ Slavia Hradec Králové\, Víta Nejedlého 1216 Hradec Králové
SUMMARY:EX-U18M-4C: Kojetín-Ústí n. L.
END:VEVENT
BEGIN:VEVENT
UID:30393762-6363-4337-b930-663633323835
DTSTAMP:20260421T215106Z
DESCRIPTION:1/3 Ústí n. L. - Brno 0:3 (-10\,-19\,-19)
DTSTART;TZID=Europe/Berlin:20230218T140000
DTEND;TZID=Europe/Berlin:20230218T160000
LOCATION:Gymnázium Dr. Karla Polesného\, náměstí Komenského 945 Znojmo
SUMMARY:EX-U18M-5B: Ústí n. L.-Brno
END:VEVENT
BEGIN:VEVENT
UID:33383733-3331-4864-b536-356330306437
DTSTAMP:20260421T215106Z
DESCRIPTION:1/5 Ústí n. L. - Prosek 2:3 (23\,22\,-18\,-18\,-12)
DTSTART;TZID=Europe/Berlin:20230218T180000
DTEND;TZID=Europe/Berlin:20230218T200000
LOCATION:Gymnázium Dr. Karla Polesného\, náměstí Komenského 945 Znojmo
SUMMARY:EX-U18M-5B: Ústí n. L.-Prosek
END:VEVENT
BEGIN:VEVENT
UID:31393564-3137-4266-b564-303638386266
DTSTAMP:20260421T215106Z
DESCRIPTION:2/7 Znojmo - Ústí n. L. 3:1 (18\,-27\,23\,24)
DTSTART;TZID=Europe/Berlin:20230219T110000
DTEND;TZID=Europe/Berlin:20230219T130000
LOCATION:Gymnázium Dr. Karla Polesného\, náměstí Komenského 945 Znojmo
SUMMARY:EX-U18M-5B: Znojmo-Ústí n. L.
END:VEVENT
BEGIN:VEVENT
UID:36636236-3564-4337-b430-653962626133
DTSTAMP:20260421T215106Z
DESCRIPTION:2/9 Lvi - Ústí n. L. 3:0 (14\,19\,19)
DTSTART;TZID=Europe/Berlin:20230219T150000
DTEND;TZID=Europe/Berlin:20230219T170000
LOCATION:Gymnázium Dr. Karla Polesného\, náměstí Komenského 945 Znojmo
SUMMARY:EX-U18M-5B: Lvi-Ústí n. L.
END:VEVENT
BEGIN:VEVENT
UID:61623062-6532-4930-b635-623461316661
DTSTAMP:20260421T215106Z
DESCRIPTION:1/3 Ústí n. L. - H. Králové 3:1 (20\,-22\,20\,20)\nNH: Školní t
 ělocvična Poděbradova 76 Polná 58813
DTSTART;TZID=Europe/Berlin:20230325T140000
DTEND;TZID=Europe/Berlin:20230325T160000
LOCATION:ZŠ Komenského\, Komenského 1 Velké Meziříčí
SUMMARY:EX-U18M-6C: Ústí n. L.-H. Králové
END:VEVENT
BEGIN:VEVENT
UID:38623137-3730-4637-b864-323831366431
DTSTAMP:20260421T215106Z
DESCRIPTION:1/5 Ústí n. L. - Nový Jičín 2:3 (22\,18\,-20\,-17\,-10)\nNH: Šk
 olní tělocvična Poděbradova 76 Polná 58813
DTSTART;TZID=Europe/Berlin:20230325T180000
DTEND;TZID=Europe/Berlin:20230325T200000
LOCATION:ZŠ Komenského\, Komenského 1 Velké Meziříčí
SUMMARY:EX-U18M-6C: Ústí n. L.-Nový Jičín
END:VEVENT
BEGIN:VEVENT
UID:35373965-6432-4536-b033-316262623766
DTSTAMP:20260421T215106Z
DESCRIPTION:2/7 V. Meziříčí - Ústí n. L. 3:2 (-19\,-17\,18\,17\,11)
DTSTART;TZID=Europe/Berlin:20230326T110000
DTEND;TZID=Europe/Berlin:20230326T130000
LOCATION:ZŠ Komenského\, Komenského 1 Velké Meziříčí
SUMMARY:EX-U18M-6C: V. Meziříčí-Ústí n. L.
END:VEVENT
BEGIN:VEVENT
UID:65343164-6462-4162-a433-303664646662
DTSTAMP:20260421T215106Z
DESCRIPTION:2/9 VK Ostrava - Ústí n. L. 3:2 (-22\,14\,19\,-19\,7)
DTSTART;TZID=Europe/Berlin:20230326T150000
DTEND;TZID=Europe/Berlin:20230326T170000
LOCATION:ZŠ Komenského\, Komenského 1 Velké Meziříčí
SUMMARY:EX-U18M-6C: VK Ostrava-Ústí n. L.
END:VEVENT
END:VCALENDAR
