BEGIN:VCALENDAR
VERSION:2.0
PRODID:-//SK Kojetín 201679274//NONSGML kigkonsult.se iCalcreator 2.41.80//
CALSCALE:GREGORIAN
UID:61626430-3331-4632-b538-636134613363
BEGIN:VEVENT
UID:66636535-6564-4232-b065-653934613163
DTSTAMP:20260422T231841Z
DESCRIPTION:1/1 Kojetín - Letohrad 3:0 (11\,11\,14)
DTSTART;TZID=Europe/Berlin:20220917T110000
DTEND;TZID=Europe/Berlin:20220917T130000
LOCATION:Městská sportovní hala\, Hanusíkova 1476 Kojetín - Kojetín I-Město
SUMMARY:EX-U18M-1E: Kojetín-Letohrad
END:VEVENT
BEGIN:VEVENT
UID:33336337-3964-4239-b261-656137323233
DTSTAMP:20260422T231841Z
DESCRIPTION:1/4 Kojetín - Prosek 1:3 (-15\,23\,-24\,-25)
DTSTART;TZID=Europe/Berlin:20220917T150000
DTEND;TZID=Europe/Berlin:20220917T170000
LOCATION:Městská sportovní hala\, Hanusíkova 1476 Kojetín - Kojetín I-Město
SUMMARY:EX-U18M-1E: Kojetín-Prosek
END:VEVENT
BEGIN:VEVENT
UID:37663463-6230-4834-a364-663636646337
DTSTAMP:20260422T231841Z
DESCRIPTION:2/7 Kojetín - Liberec 0:3 (-18\,-13\,-22)
DTSTART;TZID=Europe/Berlin:20220918T110000
DTEND;TZID=Europe/Berlin:20220918T130000
LOCATION:Městská sportovní hala\, Hanusíkova 1476 Kojetín - Kojetín I-Město
SUMMARY:EX-U18M-1E: Kojetín-Liberec
END:VEVENT
BEGIN:VEVENT
UID:34316364-3232-4636-a261-643565393936
DTSTAMP:20260422T231841Z
DESCRIPTION:2/10 Kolín - Kojetín 2:3 (21\,-17\,23\,-12\,-9)
DTSTART;TZID=Europe/Berlin:20220918T170000
DTEND;TZID=Europe/Berlin:20220918T190000
LOCATION:Městská sportovní hala\, Hanusíkova 1476 Kojetín - Kojetín I-Město
SUMMARY:EX-U18M-1E: Kolín-Kojetín
END:VEVENT
BEGIN:VEVENT
UID:63333262-6232-4535-a262-656430663036
DTSTAMP:20260422T231841Z
DESCRIPTION:2/6 Kojetín - V. Meziříčí 1:3 (-22\,-17\,21\,-18)
DTSTART;TZID=Europe/Berlin:20221023T090000
DTEND;TZID=Europe/Berlin:20221023T110000
LOCATION:Hala Janáčkova konzervatoř Ostrava\, Českobratrská 958 Ostrava - M
 oravská Ostrava
SUMMARY:EX-U18M-2C: Kojetín-V. Meziříčí
END:VEVENT
BEGIN:VEVENT
UID:64376338-6231-4364-b339-333839343330
DTSTAMP:20260422T231841Z
DESCRIPTION:1/1 VK Ostrava - Kojetín 3:0 (24\,17\,17)
DTSTART;TZID=Europe/Berlin:20221022T100000
DTEND;TZID=Europe/Berlin:20221022T120000
LOCATION:Hala Janáčkova konzervatoř Ostrava\, Českobratrská 958 Ostrava - M
 oravská Ostrava
SUMMARY:EX-U18M-2C: VK Ostrava-Kojetín
END:VEVENT
BEGIN:VEVENT
UID:32306365-3539-4230-b932-356531303963
DTSTAMP:20260422T231841Z
DESCRIPTION:1/3 H. Králové - Kojetín 3:0 (25\,19\,26)
DTSTART;TZID=Europe/Berlin:20221022T140000
DTEND;TZID=Europe/Berlin:20221022T160000
LOCATION:Hala Janáčkova konzervatoř Ostrava\, Českobratrská 958 Ostrava - M
 oravská Ostrava
SUMMARY:EX-U18M-2C: H. Králové-Kojetín
END:VEVENT
BEGIN:VEVENT
UID:65613362-3935-4466-a162-343534353334
DTSTAMP:20260422T231841Z
DESCRIPTION:2/8 Brno - Kojetín 2:3 (-15\,24\,19\,-24\,-10)
DTSTART;TZID=Europe/Berlin:20221023T130000
DTEND;TZID=Europe/Berlin:20221023T150000
LOCATION:Hala Janáčkova konzervatoř Ostrava\, Českobratrská 958 Ostrava - M
 oravská Ostrava
SUMMARY:EX-U18M-2C: Brno-Kojetín
END:VEVENT
BEGIN:VEVENT
UID:38313065-3530-4138-a537-346364376363
DTSTAMP:20260422T231841Z
DESCRIPTION:2/6 Kojetín - Plzeň 3:0 (22\,12\,19)
DTSTART;TZID=Europe/Berlin:20221127T090000
DTEND;TZID=Europe/Berlin:20221127T110000
LOCATION:Sportovní gymnázium Ludvíka Daňka\, Botanická 63 Brno - Ponava
SUMMARY:EX-U18M-3D: Kojetín-Plzeň
END:VEVENT
BEGIN:VEVENT
UID:33623537-3864-4536-a230-376332643866
DTSTAMP:20260422T231841Z
DESCRIPTION:1/1 Brno - Kojetín 3:0 (19\,18\,20)
DTSTART;TZID=Europe/Berlin:20221126T100000
DTEND;TZID=Europe/Berlin:20221126T120000
LOCATION:Sportovní gymnázium Ludvíka Daňka\, Botanická 63 Brno - Ponava
SUMMARY:EX-U18M-3D: Brno-Kojetín
END:VEVENT
BEGIN:VEVENT
UID:37356639-6338-4362-a337-653836323366
DTSTAMP:20260422T231841Z
DESCRIPTION:1/3 Jirkov - Kojetín 0:3 (-18\,-19\,-14)
DTSTART;TZID=Europe/Berlin:20221126T140000
DTEND;TZID=Europe/Berlin:20221126T160000
LOCATION:Sportovní gymnázium Ludvíka Daňka\, Botanická 63 Brno - Ponava
SUMMARY:EX-U18M-3D: Jirkov-Kojetín
END:VEVENT
BEGIN:VEVENT
UID:30346530-3534-4933-b264-333034376534
DTSTAMP:20260422T231841Z
DESCRIPTION:2/8 Zlín - Kojetín 0:3 (-17\,-23\,-10)
DTSTART;TZID=Europe/Berlin:20221127T130000
DTEND;TZID=Europe/Berlin:20221127T150000
LOCATION:Sportovní gymnázium Ludvíka Daňka\, Botanická 63 Brno - Ponava
SUMMARY:EX-U18M-3D: Zlín-Kojetín
END:VEVENT
BEGIN:VEVENT
UID:64323261-6538-4133-b732-353361633236
DTSTAMP:20260422T231841Z
DESCRIPTION:1/2 Kojetín - Brno 0:3 (-15\,-21\,-20)
DTSTART;TZID=Europe/Berlin:20230128T130000
DTEND;TZID=Europe/Berlin:20230128T150000
LOCATION:TJ Slavia Hradec Králové\, Víta Nejedlého 1216 Hradec Králové
SUMMARY:EX-U18M-4C: Kojetín-Brno
END:VEVENT
BEGIN:VEVENT
UID:31396265-3261-4231-b233-386666656333
DTSTAMP:20260422T231841Z
DESCRIPTION:2/9 Kojetín - Ústí n. L. 0:3 (-19\,-16\,-13)\nNH:  Hala Vocelov
 a 1338\, Hradec Králové
DTSTART;TZID=Europe/Berlin:20230129T150000
DTEND;TZID=Europe/Berlin:20230129T170000
LOCATION:TJ Slavia Hradec Králové\, Víta Nejedlého 1216 Hradec Králové
SUMMARY:EX-U18M-4C: Kojetín-Ústí n. L.
END:VEVENT
BEGIN:VEVENT
UID:33386165-3662-4537-b239-653334643433
DTSTAMP:20260422T231841Z
DESCRIPTION:1/4 H. Králové - Kojetín 0:3 (-22\,-15\,-23)
DTSTART;TZID=Europe/Berlin:20230128T160000
DTEND;TZID=Europe/Berlin:20230128T180000
LOCATION:TJ Slavia Hradec Králové\, Víta Nejedlého 1216 Hradec Králové
SUMMARY:EX-U18M-4C: H. Králové-Kojetín
END:VEVENT
BEGIN:VEVENT
UID:33373833-3166-4366-b630-626331336663
DTSTAMP:20260422T231841Z
DESCRIPTION:2/6 V. Meziříčí - Kojetín 3:0 (23\,15\,15)\nNH:  Hala Vocelova 
 1338\, Hradec Králové
DTSTART;TZID=Europe/Berlin:20230129T090000
DTEND;TZID=Europe/Berlin:20230129T110000
LOCATION:TJ Slavia Hradec Králové\, Víta Nejedlého 1216 Hradec Králové
SUMMARY:EX-U18M-4C: V. Meziříčí-Kojetín
END:VEVENT
BEGIN:VEVENT
UID:37396134-3637-4636-b232-626637343333
DTSTAMP:20260422T231841Z
DESCRIPTION:2/6 Kojetín - Karlovarsko 3:0 (22\,10\,21)\nNH:TJ Slavia Hradec
  Králové\; Víta Nejedlého 1216
DTSTART;TZID=Europe/Berlin:20230219T090000
DTEND;TZID=Europe/Berlin:20230219T110000
LOCATION:Hala Pouchov\, K Sokolovně 544 Hradec Králové - Pouchov
SUMMARY:EX-U18M-5D: Kojetín-Karlovarsko
END:VEVENT
BEGIN:VEVENT
UID:31363235-3361-4539-b535-343264336566
DTSTAMP:20260422T231841Z
DESCRIPTION:1/1 H. Králové - Kojetín 3:0 (23\,21\,15)
DTSTART;TZID=Europe/Berlin:20230218T100000
DTEND;TZID=Europe/Berlin:20230218T120000
LOCATION:Hala Pouchov\, K Sokolovně 544 Hradec Králové - Pouchov
SUMMARY:EX-U18M-5D: H. Králové-Kojetín
END:VEVENT
BEGIN:VEVENT
UID:63633030-3662-4539-a262-626632336362
DTSTAMP:20260422T231841Z
DESCRIPTION:1/3 Sokolov - Kojetín 1:3 (23\,-21\,-19\,-18)
DTSTART;TZID=Europe/Berlin:20230218T130000
DTEND;TZID=Europe/Berlin:20230218T150000
LOCATION:Hala Pouchov\, K Sokolovně 544 Hradec Králové - Pouchov
SUMMARY:EX-U18M-5D: Sokolov-Kojetín
END:VEVENT
BEGIN:VEVENT
UID:36323562-3437-4236-a235-343038383236
DTSTAMP:20260422T231841Z
DESCRIPTION:2/8 Zlín - Kojetín 3:1 (-18\,19\,28\,17)\nNH:TJ Slavia Hradec K
 rálové\; Víta Nejedlého 1216
DTSTART;TZID=Europe/Berlin:20230219T120000
DTEND;TZID=Europe/Berlin:20230219T140000
LOCATION:Hala Pouchov\, K Sokolovně 544 Hradec Králové - Pouchov
SUMMARY:EX-U18M-5D: Zlín-Kojetín
END:VEVENT
BEGIN:VEVENT
UID:38633061-6430-4330-b730-666434333965
DTSTAMP:20260422T231841Z
DESCRIPTION:2/6 Kojetín - Jirkov 3:0 (21\,16\,13)\nNH: Broučkova č.ev.372 (
 tělocvična Střední Zdravotnické školy Zlín)
DTSTART;TZID=Europe/Berlin:20230326T090000
DTEND;TZID=Europe/Berlin:20230326T110000
LOCATION:Sportovní hala Datart Zlín\, U Zimního stadionu 4286 Zlín
SUMMARY:EX-U18M-6D: Kojetín-Jirkov
END:VEVENT
BEGIN:VEVENT
UID:37303830-3132-4331-a334-393066616666
DTSTAMP:20260422T231841Z
DESCRIPTION:1/1 Zlín - Kojetín 1:3 (19\,-19\,-18\,-23)
DTSTART;TZID=Europe/Berlin:20230325T100000
DTEND;TZID=Europe/Berlin:20230325T120000
LOCATION:Sportovní hala Datart Zlín\, U Zimního stadionu 4286 Zlín
SUMMARY:EX-U18M-6D: Zlín-Kojetín
END:VEVENT
BEGIN:VEVENT
UID:63333430-6564-4563-b635-386430313235
DTSTAMP:20260422T231841Z
DESCRIPTION:1/3 Karlovarsko - Kojetín 1:3 (-21\,-15\,26\,-17)
DTSTART;TZID=Europe/Berlin:20230325T140000
DTEND;TZID=Europe/Berlin:20230325T160000
LOCATION:Sportovní hala Datart Zlín\, U Zimního stadionu 4286 Zlín
SUMMARY:EX-U18M-6D: Karlovarsko-Kojetín
END:VEVENT
BEGIN:VEVENT
UID:31356430-6430-4666-a261-316233616531
DTSTAMP:20260422T231841Z
DESCRIPTION:2/8 Nymburk - Kojetín 1:3 (-13\,22\,-16\,-17)\nNH: Broučkova č.
 ev.372 (tělocvična Střední Zdravotnické školy Zlín)
DTSTART;TZID=Europe/Berlin:20230326T130000
DTEND;TZID=Europe/Berlin:20230326T150000
LOCATION:Sportovní hala Datart Zlín\, U Zimního stadionu 4286 Zlín
SUMMARY:EX-U18M-6D: Nymburk-Kojetín
END:VEVENT
END:VCALENDAR
