BEGIN:VCALENDAR
VERSION:2.0
PRODID:-//TJ Sokol Roztoky u Prahy79278//NONSGML kigkonsult.se iCalcreator 2.41.80//
CALSCALE:GREGORIAN
UID:30303536-3330-4565-b230-353930626437
BEGIN:VEVENT
UID:32666663-6163-4935-b032-616633373462
DTSTAMP:20260421T171408Z
DESCRIPTION:3/3 Roztoky - Prostějov 2:3 (-20\,21\,19\,-17\,-15)
DTSTART;TZID=Europe/Berlin:20220917T160000
DTEND;TZID=Europe/Berlin:20220917T180000
LOCATION:PVK Olymp Praha\, Přípotoční 300 Praha - Vršovice
SUMMARY:EX-U18Z-1A: Roztoky-Prostějov
END:VEVENT
BEGIN:VEVENT
UID:30363865-3230-4439-a233-323234666134
DTSTAMP:20260421T171408Z
DESCRIPTION:1/1 Olymp - Roztoky 3:0 (13\,18\,22)
DTSTART;TZID=Europe/Berlin:20220917T100000
DTEND;TZID=Europe/Berlin:20220917T120000
LOCATION:PVK Olymp Praha\, Přípotoční 300 Praha - Vršovice
SUMMARY:EX-U18Z-1A: Olymp-Roztoky
END:VEVENT
BEGIN:VEVENT
UID:31636339-3837-4539-a533-303637653763
DTSTAMP:20260421T171408Z
DESCRIPTION:5/5 Havlíčkův Brod - Roztoky 3:0 (15\,18\,16)
DTSTART;TZID=Europe/Berlin:20220916T190000
DTEND;TZID=Europe/Berlin:20220916T210000
LOCATION:PVK Olymp Praha\, Přípotoční 300 Praha - Vršovice
SUMMARY:EX-U18Z-1A: Havlíčkův Brod-Roztoky
END:VEVENT
BEGIN:VEVENT
UID:63393566-6339-4664-b636-636465653032
DTSTAMP:20260421T171408Z
DESCRIPTION:8/2 Roztoky - Nové Veselí 3:0 (13\,15\,20)
DTSTART;TZID=Europe/Berlin:20221001T120000
DTEND;TZID=Europe/Berlin:20221001T140000
LOCATION:ZŠ 1.máje 1700 Frýdek-Místek\, 1. máje 1700 Frýdek-Místek - Místek
SUMMARY:EX-U18Z-2D: Roztoky-Nové Veselí
END:VEVENT
BEGIN:VEVENT
UID:62373930-6531-4231-b463-313266383064
DTSTAMP:20260421T171408Z
DESCRIPTION:11/5 Roztoky - Šternberk 3:0 (20\,10\,21)
DTSTART;TZID=Europe/Berlin:20221002T100000
DTEND;TZID=Europe/Berlin:20221002T120000
LOCATION:ZŠ 1.máje 1700 Frýdek-Místek\, 1. máje 1700 Frýdek-Místek - Místek
SUMMARY:EX-U18Z-2D: Roztoky-Šternberk
END:VEVENT
BEGIN:VEVENT
UID:62613062-6538-4762-b734-656130346264
DTSTAMP:20260421T171408Z
DESCRIPTION:10/4 Frýdek - Místek - Roztoky 2:3 (-21\,21\,-23\,20\,-12)
DTSTART;TZID=Europe/Berlin:20221001T180000
DTEND;TZID=Europe/Berlin:20221001T200000
LOCATION:ZŠ 1.máje 1700 Frýdek-Místek\, 1. máje 1700 Frýdek-Místek - Místek
SUMMARY:EX-U18Z-2D: Frýdek - Místek-Roztoky
END:VEVENT
BEGIN:VEVENT
UID:36396636-3137-4465-b030-656135623763
DTSTAMP:20260421T171408Z
DESCRIPTION:15/3 Roztoky - Přerov 1:3 (-16\,17\,-17\,-17)\nNH: ZŠ Praha Ruz
 yně
DTSTART;TZID=Europe/Berlin:20221105T160000
DTEND;TZID=Europe/Berlin:20221105T180000
LOCATION:TJ Tatran Střešovice\, Sibeliova 368 Praha - Střešovice
SUMMARY:EX-U18Z-3C: Roztoky-Přerov
END:VEVENT
BEGIN:VEVENT
UID:66366461-6637-4265-a235-643535393433
DTSTAMP:20260421T171408Z
DESCRIPTION:13/1 Střešovice - Roztoky 2:3 (18\,-22\,-20\,19\,-11)
DTSTART;TZID=Europe/Berlin:20221105T100000
DTEND;TZID=Europe/Berlin:20221105T120000
LOCATION:TJ Tatran Střešovice\, Sibeliova 368 Praha - Střešovice
SUMMARY:EX-U18Z-3C: Střešovice-Roztoky
END:VEVENT
BEGIN:VEVENT
UID:64316233-6230-4036-b538-333032626139
DTSTAMP:20260421T171408Z
DESCRIPTION:17/5 Ostrava - Roztoky 3:0 (22\,22\,20)
DTSTART;TZID=Europe/Berlin:20221106T100000
DTEND;TZID=Europe/Berlin:20221106T120000
LOCATION:TJ Tatran Střešovice\, Sibeliova 368 Praha - Střešovice
SUMMARY:EX-U18Z-3C: Ostrava-Roztoky
END:VEVENT
BEGIN:VEVENT
UID:63353634-6366-4665-a264-663265366666
DTSTAMP:20260421T171409Z
DESCRIPTION:24/6 Roztoky - Šternberk 3:1 (22\,-17\,21\,19)
DTSTART;TZID=Europe/Berlin:20221204T120000
DTEND;TZID=Europe/Berlin:20221204T140000
LOCATION:Hala ZŠ Dr. Hrubého\, Dr. Hrubého 319 Šternberk
SUMMARY:EX-U18Z-4D: Roztoky-Šternberk
END:VEVENT
BEGIN:VEVENT
UID:65383030-6230-4336-a266-306335386638
DTSTAMP:20260421T171409Z
DESCRIPTION:20/2 Mikulova - Roztoky 0:3 (-11\,-20\,-12)
DTSTART;TZID=Europe/Berlin:20221203T120000
DTEND;TZID=Europe/Berlin:20221203T140000
LOCATION:Hala ZŠ Dr. Hrubého\, Dr. Hrubého 319 Šternberk
SUMMARY:EX-U18Z-4D: Mikulova-Roztoky
END:VEVENT
BEGIN:VEVENT
UID:32313933-3532-4635-a530-616665623538
DTSTAMP:20260421T171409Z
DESCRIPTION:21/3 Nové Veselí - Roztoky 2:3 (-20\,22\,25\,-18\,-6)
DTSTART;TZID=Europe/Berlin:20221203T160000
DTEND;TZID=Europe/Berlin:20221203T180000
LOCATION:Hala ZŠ Dr. Hrubého\, Dr. Hrubého 319 Šternberk
SUMMARY:EX-U18Z-4D: Nové Veselí-Roztoky
END:VEVENT
BEGIN:VEVENT
UID:34666263-3936-4630-a533-396665626462
DTSTAMP:20260421T171409Z
DESCRIPTION:25/1 Roztoky - Přerov 3:0 (23\,19\,16)
DTSTART;TZID=Europe/Berlin:20230114T100000
DTEND;TZID=Europe/Berlin:20230114T120000
LOCATION:Tělocvična ZŠ Roztoky\, Školní nám. 470 Roztoky
SUMMARY:EX-U18Z-5C: Roztoky-Přerov
END:VEVENT
BEGIN:VEVENT
UID:35626333-6239-4935-b435-363835303563
DTSTAMP:20260421T171409Z
DESCRIPTION:28/4 Roztoky - Ostrava 1:3 (-16\,20\,-21\,-19)
DTSTART;TZID=Europe/Berlin:20230113T193000
DTEND;TZID=Europe/Berlin:20230113T213000
LOCATION:Tělocvična ZŠ Roztoky\, Školní nám. 470 Roztoky
SUMMARY:EX-U18Z-5C: Roztoky-Ostrava
END:VEVENT
BEGIN:VEVENT
UID:31666136-3738-4362-a663-363632626662
DTSTAMP:20260421T171409Z
DESCRIPTION:30/6 Prostějov - Roztoky 3:1 (16\,17\,-21\,20)
DTSTART;TZID=Europe/Berlin:20230114T180000
DTEND;TZID=Europe/Berlin:20230114T200000
LOCATION:Tělocvična ZŠ Roztoky\, Školní nám. 470 Roztoky
SUMMARY:EX-U18Z-5C: Prostějov-Roztoky
END:VEVENT
BEGIN:VEVENT
UID:32653164-3831-4432-a132-333237353164
DTSTAMP:20260421T171409Z
DESCRIPTION:33/3 Roztoky - Šternberk 0:3 (-16\,-19\,-26)
DTSTART;TZID=Europe/Berlin:20230204T160000
DTEND;TZID=Europe/Berlin:20230204T180000
LOCATION:ZŠ Oskara Nedbala České Budějovice\, O. Nedbala 882 České Budějovi
 ce - České Budějovice 2
SUMMARY:EX-U18Z-6C: Roztoky-Šternberk
END:VEVENT
BEGIN:VEVENT
UID:64346332-6532-4536-a566-643239303737
DTSTAMP:20260421T171409Z
DESCRIPTION:31/1 Č. Budějovice - Roztoky 3:0 (14\,11\,22)
DTSTART;TZID=Europe/Berlin:20230204T100000
DTEND;TZID=Europe/Berlin:20230204T120000
LOCATION:ZŠ Oskara Nedbala České Budějovice\, O. Nedbala 882 České Budějovi
 ce - České Budějovice 2
SUMMARY:EX-U18Z-6C: Č. Budějovice-Roztoky
END:VEVENT
BEGIN:VEVENT
UID:37303636-3163-4365-b637-373532396266
DTSTAMP:20260421T171409Z
DESCRIPTION:35/5 Prostějov - Roztoky 3:1 (21\,-17\,24\,16)
DTSTART;TZID=Europe/Berlin:20230205T100000
DTEND;TZID=Europe/Berlin:20230205T120000
LOCATION:ZŠ Oskara Nedbala České Budějovice\, O. Nedbala 882 České Budějovi
 ce - České Budějovice 2
SUMMARY:EX-U18Z-6C: Prostějov-Roztoky
END:VEVENT
BEGIN:VEVENT
UID:37323366-3736-4031-b536-626163633438
DTSTAMP:20260421T171409Z
DESCRIPTION:38/2 Roztoky - Mikulova 3:1 (19\,21\,-16\,14)
DTSTART;TZID=Europe/Berlin:20230304T120000
DTEND;TZID=Europe/Berlin:20230304T140000
LOCATION:Městská sportovní hala\, Petřivalského 2884 Přerov - Přerov I-Měst
 o
SUMMARY:EX-U18Z-7D: Roztoky-Mikulova
END:VEVENT
BEGIN:VEVENT
UID:34333163-6635-4234-a538-323238656636
DTSTAMP:20260421T171409Z
DESCRIPTION:40/4 Přerov - Roztoky 1:3 (-23\,20\,-21\,-22)
DTSTART;TZID=Europe/Berlin:20230304T180000
DTEND;TZID=Europe/Berlin:20230304T200000
LOCATION:Městská sportovní hala\, Petřivalského 2884 Přerov - Přerov I-Měst
 o
SUMMARY:EX-U18Z-7D: Přerov-Roztoky
END:VEVENT
BEGIN:VEVENT
UID:62326263-3537-4837-b165-393934383932
DTSTAMP:20260421T171409Z
DESCRIPTION:41/5 Nové Veselí - Roztoky 2:3 (-24\,20\,23\,-23\,-12)\nHráno v
 e SH Nové Veselí
DTSTART;TZID=Europe/Berlin:20230303T173000
DTEND;TZID=Europe/Berlin:20230303T193000
LOCATION:Městská sportovní hala\, Petřivalského 2884 Přerov - Přerov I-Měst
 o
SUMMARY:EX-U18Z-7D: Nové Veselí-Roztoky
END:VEVENT
BEGIN:VEVENT
UID:32653831-6465-4639-b631-353632363736
DTSTAMP:20260421T171409Z
DESCRIPTION:43/1 Roztoky - Havlíčkův Brod 3:0 (21\,10\,25)
DTSTART;TZID=Europe/Berlin:20230401T110000
DTEND;TZID=Europe/Berlin:20230401T130000
LOCATION:Tělocvična ZŠ Roztoky\, Školní nám. 470 Roztoky
SUMMARY:EX-U18Z-8C: Roztoky-Havlíčkův Brod
END:VEVENT
BEGIN:VEVENT
UID:35626436-3938-4833-b639-333430356566
DTSTAMP:20260421T171409Z
DESCRIPTION:46/4 Roztoky - Šternberk 0:3 (-13\,-19\,-21)
DTSTART;TZID=Europe/Berlin:20230401T170000
DTEND;TZID=Europe/Berlin:20230401T190000
LOCATION:Tělocvična ZŠ Roztoky\, Školní nám. 470 Roztoky
SUMMARY:EX-U18Z-8C: Roztoky-Šternberk
END:VEVENT
BEGIN:VEVENT
UID:62616365-3366-4265-a133-323037666237
DTSTAMP:20260421T171409Z
DESCRIPTION:48/6 Prostějov - Roztoky 3:1 (12\,-21\,18\,23)
DTSTART;TZID=Europe/Berlin:20230331T193000
DTEND;TZID=Europe/Berlin:20230331T213000
LOCATION:Tělocvična ZŠ Roztoky\, Školní nám. 470 Roztoky
SUMMARY:EX-U18Z-8C: Prostějov-Roztoky
END:VEVENT
END:VCALENDAR
