BEGIN:VCALENDAR
VERSION:2.0
PRODID:-//VK Dukla Liberec79287//NONSGML kigkonsult.se iCalcreator 2.41.80//
CALSCALE:GREGORIAN
UID:65303135-6262-4236-b966-366635393064
BEGIN:VEVENT
UID:35363231-3539-4338-b839-656239666565
DTSTAMP:20260421T183718Z
DESCRIPTION:1/1 Liberec - Mikulova 3:0 (5\,17\,14)
DTSTART;TZID=Europe/Berlin:20220917T100000
DTEND;TZID=Europe/Berlin:20220917T120000
LOCATION:Městská sportovní hala\, U Přehrady 4747 Jablonec nad Nisou
SUMMARY:EX-U18Z-1C: Liberec-Mikulova
END:VEVENT
BEGIN:VEVENT
UID:64356162-6332-4334-b239-393138343735
DTSTAMP:20260421T183718Z
DESCRIPTION:4/4 Liberec - Frýdek - Místek 3:0 (18\,15\,12)
DTSTART;TZID=Europe/Berlin:20220917T180000
DTEND;TZID=Europe/Berlin:20220917T200000
LOCATION:Městská sportovní hala\, U Přehrady 4747 Jablonec nad Nisou
SUMMARY:EX-U18Z-1C: Liberec-Frýdek - Místek
END:VEVENT
BEGIN:VEVENT
UID:62643164-3665-4265-a564-336434386635
DTSTAMP:20260421T183718Z
DESCRIPTION:6/6 Kralupy - Liberec 0:3 (-11\,-15\,-14)\nNH: Jeronýmova 558\,
  Liberec
DTSTART;TZID=Europe/Berlin:20220916T190000
DTEND;TZID=Europe/Berlin:20220916T210000
LOCATION:Městská sportovní hala\, U Přehrady 4747 Jablonec nad Nisou
SUMMARY:EX-U18Z-1C: Kralupy-Liberec
END:VEVENT
BEGIN:VEVENT
UID:35383036-3730-4863-b066-396366353137
DTSTAMP:20260421T183718Z
DESCRIPTION:9/3 Liberec - Kr. Pole 3:1 (23\,27\,-13\,19)
DTSTART;TZID=Europe/Berlin:20221001T160000
DTEND;TZID=Europe/Berlin:20221001T180000
LOCATION:Sportovní hala\, Stromovka 1216 České Budějovice - České Budějovic
 e 2
SUMMARY:EX-U18Z-2A: Liberec-Kr. Pole
END:VEVENT
BEGIN:VEVENT
UID:36323166-3364-4163-b539-653039323632
DTSTAMP:20260421T183718Z
DESCRIPTION:7/1 Č. Budějovice - Liberec 0:3 (-19\,-22\,-22)
DTSTART;TZID=Europe/Berlin:20221001T120000
DTEND;TZID=Europe/Berlin:20221001T140000
LOCATION:Sportovní hala\, Stromovka 1216 České Budějovice - České Budějovic
 e 2
SUMMARY:EX-U18Z-2A: Č. Budějovice-Liberec
END:VEVENT
BEGIN:VEVENT
UID:35303866-6561-4262-a562-343761623163
DTSTAMP:20260421T183718Z
DESCRIPTION:11/5 Olymp - Liberec 2:3 (21\,-10\,17\,-16\,-12)\nHráno na v Pr
 aze
DTSTART;TZID=Europe/Berlin:20220928T100000
DTEND;TZID=Europe/Berlin:20220928T120000
LOCATION:Sportovní hala\, Stromovka 1216 České Budějovice - České Budějovic
 e 2
SUMMARY:EX-U18Z-2A: Olymp-Liberec
END:VEVENT
BEGIN:VEVENT
UID:30373931-6235-4334-b330-396436656435
DTSTAMP:20260421T183718Z
DESCRIPTION:18/6 Liberec - Plzeň 3:0 (15\,18\,16)
DTSTART;TZID=Europe/Berlin:20221106T120000
DTEND;TZID=Europe/Berlin:20221106T140000
LOCATION:Sportovní hala - SG Plzeň\, Vejprnická 663 Plzeň - Skvrňany
SUMMARY:EX-U18Z-3A: Liberec-Plzeň
END:VEVENT
BEGIN:VEVENT
UID:38666665-3962-4030-b964-313035613561
DTSTAMP:20260421T183718Z
DESCRIPTION:14/2 Kr. Pole - Liberec 0:3 (-19\,-18\,-18)
DTSTART;TZID=Europe/Berlin:20221105T133000
DTEND;TZID=Europe/Berlin:20221105T153000
LOCATION:Sportovní hala - SG Plzeň\, Vejprnická 663 Plzeň - Skvrňany
SUMMARY:EX-U18Z-3A: Kr. Pole-Liberec
END:VEVENT
BEGIN:VEVENT
UID:66636337-3334-4163-a431-636361336234
DTSTAMP:20260421T183718Z
DESCRIPTION:15/3 Olymp - Liberec 1:3 (-19\,15\,-19\,-9)
DTSTART;TZID=Europe/Berlin:20221105T163000
DTEND;TZID=Europe/Berlin:20221105T183000
LOCATION:Sportovní hala - SG Plzeň\, Vejprnická 663 Plzeň - Skvrňany
SUMMARY:EX-U18Z-3A: Olymp-Liberec
END:VEVENT
BEGIN:VEVENT
UID:33663031-3332-4735-a138-303132316230
DTSTAMP:20260421T183718Z
DESCRIPTION:19/1 Liberec - Olymp 3:2 (-14\,21\,-20\,21\,13)
DTSTART;TZID=Europe/Berlin:20221203T100000
DTEND;TZID=Europe/Berlin:20221203T120000
LOCATION:Sokolovna Jablonec nad Nisou\, Fügnerova 1054 Jablonec nad Nisou
SUMMARY:EX-U18Z-4A: Liberec-Olymp
END:VEVENT
BEGIN:VEVENT
UID:65396564-3330-4664-b166-313761346132
DTSTAMP:20260421T183718Z
DESCRIPTION:22/4 Liberec - Plzeň 3:0 (7\,19\,16)
DTSTART;TZID=Europe/Berlin:20221203T180000
DTEND;TZID=Europe/Berlin:20221203T200000
LOCATION:Sokolovna Jablonec nad Nisou\, Fügnerova 1054 Jablonec nad Nisou
SUMMARY:EX-U18Z-4A: Liberec-Plzeň
END:VEVENT
BEGIN:VEVENT
UID:37376363-6337-4463-a330-363833393937
DTSTAMP:20260421T183718Z
DESCRIPTION:24/6 Havlíčkův Brod - Liberec 0:3 (-16\,-9\,-17)\nNH: hala Dukl
 a\, ulice Jeronýmova
DTSTART;TZID=Europe/Berlin:20221202T123000
DTEND;TZID=Europe/Berlin:20221202T143000
LOCATION:Sokolovna Jablonec nad Nisou\, Fügnerova 1054 Jablonec nad Nisou
SUMMARY:EX-U18Z-4A: Havlíčkův Brod-Liberec
END:VEVENT
BEGIN:VEVENT
UID:62366463-3166-4430-b062-636661376438
DTSTAMP:20260421T183718Z
DESCRIPTION:26/2 Liberec - Havlíčkův Brod 3:0 (14\,15\,12)
DTSTART;TZID=Europe/Berlin:20230114T090000
DTEND;TZID=Europe/Berlin:20230114T110000
LOCATION:PVK Olymp Praha\, Přípotoční 300 Praha - Vršovice
SUMMARY:EX-U18Z-5A: Liberec-Havlíčkův Brod
END:VEVENT
BEGIN:VEVENT
UID:34643838-6261-4636-a136-626664356330
DTSTAMP:20260421T183718Z
DESCRIPTION:28/4 Olymp - Liberec 0:3 (-22\,-18\,-16)
DTSTART;TZID=Europe/Berlin:20230114T140000
DTEND;TZID=Europe/Berlin:20230114T160000
LOCATION:PVK Olymp Praha\, Přípotoční 300 Praha - Vršovice
SUMMARY:EX-U18Z-5A: Olymp-Liberec
END:VEVENT
BEGIN:VEVENT
UID:30623962-3131-4338-b466-363338653166
DTSTAMP:20260421T183718Z
DESCRIPTION:29/5 Kralupy - Liberec 0:3 (-20\,-25\,-23)\nHráno v Kralupech -
  hala Generála Klapálka
DTSTART;TZID=Europe/Berlin:20230112T183000
DTEND;TZID=Europe/Berlin:20230112T203000
LOCATION:PVK Olymp Praha\, Přípotoční 300 Praha - Vršovice
SUMMARY:EX-U18Z-5A: Kralupy-Liberec
END:VEVENT
BEGIN:VEVENT
UID:38383061-3438-4630-a235-343162316130
DTSTAMP:20260421T183718Z
DESCRIPTION:36/6 Liberec - Kralupy 3:1 (-20\,17\,23\,17)
DTSTART;TZID=Europe/Berlin:20230202T183000
DTEND;TZID=Europe/Berlin:20230202T203000
LOCATION:TJ KRALUPY\, z.s.\, Gen. Klapálka 1029 Kralupy nad Vltavou
SUMMARY:EX-U18Z-6A: Liberec-Kralupy
END:VEVENT
BEGIN:VEVENT
UID:32653431-6661-4133-b034-343161666337
DTSTAMP:20260421T183718Z
DESCRIPTION:32/2 Kr. Pole - Liberec 3:1 (19\,-25\,17\,11)
DTSTART;TZID=Europe/Berlin:20230204T170000
DTEND;TZID=Europe/Berlin:20230204T190000
LOCATION:TJ KRALUPY\, z.s.\, Gen. Klapálka 1029 Kralupy nad Vltavou
SUMMARY:EX-U18Z-6A: Kr. Pole-Liberec
END:VEVENT
BEGIN:VEVENT
UID:36626331-3330-4366-b361-623561333632
DTSTAMP:20260421T183718Z
DESCRIPTION:33/3 Olymp - Liberec 2:3 (16\,-20\,18\,-17\,-9)
DTSTART;TZID=Europe/Berlin:20230204T120000
DTEND;TZID=Europe/Berlin:20230204T140000
LOCATION:TJ KRALUPY\, z.s.\, Gen. Klapálka 1029 Kralupy nad Vltavou
SUMMARY:EX-U18Z-6A: Olymp-Liberec
END:VEVENT
BEGIN:VEVENT
UID:61663539-3962-4261-b232-653535353932
DTSTAMP:20260421T183718Z
DESCRIPTION:40/4 Liberec - Kr. Pole 3:2 (-19\,-17\,18\,21\,10)
DTSTART;TZID=Europe/Berlin:20230304T100000
DTEND;TZID=Europe/Berlin:20230304T120000
LOCATION:Městská sportovní hala\, U Přehrady 4747 Jablonec nad Nisou
SUMMARY:EX-U18Z-7A: Liberec-Kr. Pole
END:VEVENT
BEGIN:VEVENT
UID:61323065-3537-4532-a335-306565363538
DTSTAMP:20260421T183718Z
DESCRIPTION:37/1 Kralupy - Liberec 2:3 (-15\,22\,-22\,17\,-10)\nHráno v Kra
 lupech - hala Generála Klapálka
DTSTART;TZID=Europe/Berlin:20230301T183000
DTEND;TZID=Europe/Berlin:20230301T203000
LOCATION:Městská sportovní hala\, U Přehrady 4747 Jablonec nad Nisou
SUMMARY:EX-U18Z-7A: Kralupy-Liberec
END:VEVENT
BEGIN:VEVENT
UID:32636537-3632-4439-b339-333736626430
DTSTAMP:20260421T183718Z
DESCRIPTION:42/6 Plzeň - Liberec 0:3 (-24\,-17\,-18)
DTSTART;TZID=Europe/Berlin:20230304T123000
DTEND;TZID=Europe/Berlin:20230304T143000
LOCATION:Městská sportovní hala\, U Přehrady 4747 Jablonec nad Nisou
SUMMARY:EX-U18Z-7A: Plzeň-Liberec
END:VEVENT
BEGIN:VEVENT
UID:38313765-6531-4230-a161-616231626264
DTSTAMP:20260421T183718Z
DESCRIPTION:48/6 Liberec - Olymp 0:3 (-19\,-20\,-18)
DTSTART;TZID=Europe/Berlin:20230402T120000
DTEND;TZID=Europe/Berlin:20230402T140000
LOCATION:PVK Olymp Praha\, Přípotoční 300 Praha - Vršovice
SUMMARY:EX-U18Z-8A: Liberec-Olymp
END:VEVENT
BEGIN:VEVENT
UID:39346435-6630-4333-a366-333435343830
DTSTAMP:20260421T183718Z
DESCRIPTION:44/2 Kr. Pole - Liberec 3:0 (19\,23\,16)
DTSTART;TZID=Europe/Berlin:20230401T120000
DTEND;TZID=Europe/Berlin:20230401T140000
LOCATION:PVK Olymp Praha\, Přípotoční 300 Praha - Vršovice
SUMMARY:EX-U18Z-8A: Kr. Pole-Liberec
END:VEVENT
BEGIN:VEVENT
UID:63366337-3739-4134-b064-653763336561
DTSTAMP:20260421T183718Z
DESCRIPTION:45/3 Kralupy - Liberec 3:0 (19\,10\,24)
DTSTART;TZID=Europe/Berlin:20230401T160000
DTEND;TZID=Europe/Berlin:20230401T180000
LOCATION:PVK Olymp Praha\, Přípotoční 300 Praha - Vršovice
SUMMARY:EX-U18Z-8A: Kralupy-Liberec
END:VEVENT
BEGIN:VEVENT
UID:65313835-3835-4530-b534-633265323666
DTSTAMP:20260421T183718Z
DESCRIPTION:1/1 Liberec - Ostrava 0:3 (-19\,-18\,-22)
DTSTART;TZID=Europe/Berlin:20230428T150000
DTEND;TZID=Europe/Berlin:20230428T170000
LOCATION:Městská sportovní hala\, Petřivalského 2884 Přerov - Přerov I-Měst
 o
SUMMARY:EX-U18Z-F1: Liberec-Ostrava
END:VEVENT
BEGIN:VEVENT
UID:66666536-3462-4661-a666-623732333838
DTSTAMP:20260421T183718Z
DESCRIPTION:2/4 Liberec - Plzeň 3:0 (12\,3\,20)
DTSTART;TZID=Europe/Berlin:20230429T120000
DTEND;TZID=Europe/Berlin:20230429T140000
LOCATION:Městská sportovní hala\, Petřivalského 2884 Přerov - Přerov I-Měst
 o
SUMMARY:EX-U18Z-F1: Liberec-Plzeň
END:VEVENT
BEGIN:VEVENT
UID:32633566-3036-4933-b561-323966636138
DTSTAMP:20260421T183718Z
DESCRIPTION:2/6 Kralupy - Liberec 1:3 (27\,-15\,-22\,-13)
DTSTART;TZID=Europe/Berlin:20230429T170000
DTEND;TZID=Europe/Berlin:20230429T190000
LOCATION:Městská sportovní hala\, Petřivalského 2884 Přerov - Přerov I-Měst
 o
SUMMARY:EX-U18Z-F1: Kralupy-Liberec
END:VEVENT
BEGIN:VEVENT
UID:35356532-6466-4362-a432-316135623734
DTSTAMP:20260421T183718Z
DESCRIPTION:1/4 Olymp - Liberec 1:3 (17\,-22\,-10\,-19)\n1F2-2F1
DTSTART;TZID=Europe/Berlin:20230430T160000
DTEND;TZID=Europe/Berlin:20230430T180000
LOCATION:PVK Olymp Praha\, Přípotoční 300 Praha - Vršovice
SUMMARY:EX-U18Z-F: Olymp-Liberec
END:VEVENT
BEGIN:VEVENT
UID:63363265-3565-4130-b932-343764373038
DTSTAMP:20260421T183718Z
DESCRIPTION:2/8 Ostrava - Liberec 1:3 (-20\,-17\,25\,-16)\nfinále
DTSTART;TZID=Europe/Berlin:20230501T150000
DTEND;TZID=Europe/Berlin:20230501T170000
LOCATION:Hala mládeže\, Gajdošova 1893 Ostrava - Moravská Ostrava
SUMMARY:EX-U18Z-F: Ostrava-Liberec
END:VEVENT
END:VCALENDAR
