BEGIN:VCALENDAR
VERSION:2.0
PRODID:-//TJ Sokol Geodézie Česká Třebová79295//NONSGML kigkonsult.se iCalcreator 2.41.80//
CALSCALE:GREGORIAN
UID:32623938-3565-4365-b232-333035393363
BEGIN:VEVENT
UID:65396333-3765-4134-b962-323735616330
DTSTAMP:20260422T014837Z
DESCRIPTION:5/15 Česká Třebová - Olomouc 0:3 (-22\,-26\,-8)
DTSTART;TZID=Europe/Berlin:20221008T090000
DTEND;TZID=Europe/Berlin:20221008T110000
LOCATION:Základní škola Česká Třebová Habrmanova\, Na Skále\, Na Skále 566 
 Česká Třebová
SUMMARY:1-U18Z-B: Česká Třebová-Olomouc
END:VEVENT
BEGIN:VEVENT
UID:38316265-3263-4634-a536-333231393534
DTSTAMP:20260422T014837Z
DESCRIPTION:6/18 Česká Třebová - Olomouc 2:3 (-19\,21\,13\,-19\,-11)
DTSTART;TZID=Europe/Berlin:20221008T130000
DTEND;TZID=Europe/Berlin:20221008T150000
LOCATION:Základní škola Česká Třebová Habrmanova\, Na Skále\, Na Skále 566 
 Česká Třebová
SUMMARY:1-U18Z-B: Česká Třebová-Olomouc
END:VEVENT
BEGIN:VEVENT
UID:39616431-3232-4466-b135-373562616564
DTSTAMP:20260422T014837Z
DESCRIPTION:9/26 Česká Třebová - Svitavy 3:2 (-20\,21\,-22\,18\,14)
DTSTART;TZID=Europe/Berlin:20221117T100000
DTEND;TZID=Europe/Berlin:20221117T120000
LOCATION:Hala VDA Skalka\, Skalka 1162 Česká Třebová
SUMMARY:1-U18Z-B: Česká Třebová-Svitavy
END:VEVENT
BEGIN:VEVENT
UID:36366633-3638-4234-a362-343235343931
DTSTAMP:20260422T014837Z
DESCRIPTION:10/29 Česká Třebová - Svitavy 3:1 (16\,24\,-21\,21)
DTSTART;TZID=Europe/Berlin:20221117T140000
DTEND;TZID=Europe/Berlin:20221117T160000
LOCATION:Hala VDA Skalka\, Skalka 1162 Česká Třebová
SUMMARY:1-U18Z-B: Česká Třebová-Svitavy
END:VEVENT
BEGIN:VEVENT
UID:66613963-3764-4238-b337-306639383931
DTSTAMP:20260422T014837Z
DESCRIPTION:11/33 Česká Třebová - Hradec Králové 3:1 (-24\,18\,16\,20)
DTSTART;TZID=Europe/Berlin:20221112T090000
DTEND;TZID=Europe/Berlin:20221112T110000
LOCATION:Základní škola Česká Třebová Habrmanova\, Na Skále\, Na Skále 566 
 Česká Třebová
SUMMARY:1-U18Z-B: Česká Třebová-Hradec Králové
END:VEVENT
BEGIN:VEVENT
UID:33353238-3536-4135-b063-323863376661
DTSTAMP:20260422T014837Z
DESCRIPTION:12/36 Česká Třebová - Hradec Králové 3:2 (-21\,18\,-14\,19\,11)
DTSTART;TZID=Europe/Berlin:20221112T130000
DTEND;TZID=Europe/Berlin:20221112T150000
LOCATION:Základní škola Česká Třebová Habrmanova\, Na Skále\, Na Skále 566 
 Česká Třebová
SUMMARY:1-U18Z-B: Česká Třebová-Hradec Králové
END:VEVENT
BEGIN:VEVENT
UID:33323130-6131-4137-a232-623139643339
DTSTAMP:20260422T014837Z
DESCRIPTION:13/37 Česká Třebová - Lanškroun 1:3 (22\,-15\,-14\,-19)
DTSTART;TZID=Europe/Berlin:20221203T090000
DTEND;TZID=Europe/Berlin:20221203T110000
LOCATION:Základní škola Česká Třebová Habrmanova\, Na Skále\, Na Skále 566 
 Česká Třebová
SUMMARY:1-U18Z-B: Česká Třebová-Lanškroun
END:VEVENT
BEGIN:VEVENT
UID:30663939-3337-4433-b439-613931626434
DTSTAMP:20260422T014837Z
DESCRIPTION:14/40 Česká Třebová - Lanškroun 1:3 (-19\,-16\,27\,-23)
DTSTART;TZID=Europe/Berlin:20221203T130000
DTEND;TZID=Europe/Berlin:20221203T150000
LOCATION:Základní škola Česká Třebová Habrmanova\, Na Skále\, Na Skále 566 
 Česká Třebová
SUMMARY:1-U18Z-B: Česká Třebová-Lanškroun
END:VEVENT
BEGIN:VEVENT
UID:37666665-6338-4035-a561-356433323937
DTSTAMP:20260422T014837Z
DESCRIPTION:17/50 Česká Třebová - Demlova 3:0 (21\,18\,21)
DTSTART;TZID=Europe/Berlin:20221217T110000
DTEND;TZID=Europe/Berlin:20221217T130000
LOCATION:Základní škola Česká Třebová Habrmanova\, Na Skále\, Na Skále 566 
 Česká Třebová
SUMMARY:1-U18Z-B: Česká Třebová-Demlova
END:VEVENT
BEGIN:VEVENT
UID:32353862-3363-4635-b137-646265303934
DTSTAMP:20260422T014837Z
DESCRIPTION:18/53 Česká Třebová - Demlova 3:0 (18\,23\,23)
DTSTART;TZID=Europe/Berlin:20221217T150000
DTEND;TZID=Europe/Berlin:20221217T170000
LOCATION:Základní škola Česká Třebová Habrmanova\, Na Skále\, Na Skále 566 
 Česká Třebová
SUMMARY:1-U18Z-B: Česká Třebová-Demlova
END:VEVENT
BEGIN:VEVENT
UID:61623535-3432-4237-b139-353531343933
DTSTAMP:20260422T014837Z
DESCRIPTION:1/3 Hradec Králové - Česká Třebová 3:2 (-21\,9\,-24\,15\,13)
DTSTART;TZID=Europe/Berlin:20220917T100000
DTEND;TZID=Europe/Berlin:20220917T120000
LOCATION:TJ Slavia Hradec Králové\, Víta Nejedlého 1216 Hradec Králové
SUMMARY:1-U18Z-B: Hradec Králové-Česká Třebová
END:VEVENT
BEGIN:VEVENT
UID:31303630-6436-4830-a332-653430306262
DTSTAMP:20260422T014837Z
DESCRIPTION:2/6 Hradec Králové - Česká Třebová 1:3 (-21\,17\,-20\,-16)
DTSTART;TZID=Europe/Berlin:20220917T140000
DTEND;TZID=Europe/Berlin:20220917T160000
LOCATION:TJ Slavia Hradec Králové\, Víta Nejedlého 1216 Hradec Králové
SUMMARY:1-U18Z-B: Hradec Králové-Česká Třebová
END:VEVENT
BEGIN:VEVENT
UID:66363666-3530-4339-b635-323063623233
DTSTAMP:20260422T014837Z
DESCRIPTION:3/7 Lanškroun - Česká Třebová 3:1 (17\,-17\,15\,9)
DTSTART;TZID=Europe/Berlin:20221001T100000
DTEND;TZID=Europe/Berlin:20221001T120000
LOCATION:SOŠ a SOU Lanškroun\, Sokolská 288 Lanškroun - Ostrovské Předměstí
SUMMARY:1-U18Z-B: Lanškroun-Česká Třebová
END:VEVENT
BEGIN:VEVENT
UID:33393736-6531-4239-b637-626430316233
DTSTAMP:20260422T014837Z
DESCRIPTION:4/10 Lanškroun - Česká Třebová 3:1 (21\,13\,-23\,19)
DTSTART;TZID=Europe/Berlin:20221001T140000
DTEND;TZID=Europe/Berlin:20221001T160000
LOCATION:SOŠ a SOU Lanškroun\, Sokolská 288 Lanškroun - Ostrovské Předměstí
SUMMARY:1-U18Z-B: Lanškroun-Česká Třebová
END:VEVENT
BEGIN:VEVENT
UID:32373735-6539-4665-a539-356530346334
DTSTAMP:20260422T014837Z
DESCRIPTION:7/20 Demlova - Česká Třebová 3:0 (18\,16\,20)
DTSTART;TZID=Europe/Berlin:20221029T100000
DTEND;TZID=Europe/Berlin:20221029T120000
LOCATION:ZŠ Jihlava Demlova\, Demlova 4178 Jihlava
SUMMARY:1-U18Z-B: Demlova-Česká Třebová
END:VEVENT
BEGIN:VEVENT
UID:34383261-3862-4135-a661-313065623566
DTSTAMP:20260422T014837Z
DESCRIPTION:8/23 Demlova - Česká Třebová 3:0 (24\,25\,20)
DTSTART;TZID=Europe/Berlin:20221029T140000
DTEND;TZID=Europe/Berlin:20221029T160000
LOCATION:ZŠ Jihlava Demlova\, Demlova 4178 Jihlava
SUMMARY:1-U18Z-B: Demlova-Česká Třebová
END:VEVENT
BEGIN:VEVENT
UID:35313737-6438-4537-a139-636364373765
DTSTAMP:20260422T014837Z
DESCRIPTION:15/45 Olomouc - Česká Třebová 3:0 (23\,14\,21)
DTSTART;TZID=Europe/Berlin:20221210T100000
DTEND;TZID=Europe/Berlin:20221210T120000
LOCATION:VOŠ a SPŠE Olomouc\, Božetěchova 755 Olomouc - Hodolany
SUMMARY:1-U18Z-B: Olomouc-Česká Třebová
END:VEVENT
BEGIN:VEVENT
UID:38356332-3538-4631-b139-326136613730
DTSTAMP:20260422T014837Z
DESCRIPTION:16/48 Olomouc - Česká Třebová 3:1 (14\,14\,-21\,16)
DTSTART;TZID=Europe/Berlin:20221210T140000
DTEND;TZID=Europe/Berlin:20221210T160000
LOCATION:VOŠ a SPŠE Olomouc\, Božetěchova 755 Olomouc - Hodolany
SUMMARY:1-U18Z-B: Olomouc-Česká Třebová
END:VEVENT
BEGIN:VEVENT
UID:30666265-3364-4535-a265-623932376335
DTSTAMP:20260422T014837Z
DESCRIPTION:19/56 Svitavy - Česká Třebová 2:3 (25\,23\,-13\,-6\,-13)
DTSTART;TZID=Europe/Berlin:20230115T100000
DTEND;TZID=Europe/Berlin:20230115T120000
LOCATION:Sportovní hala Na Střelnici\, Pražská 2162 Svitavy - Předměstí
SUMMARY:1-U18Z-B: Svitavy-Česká Třebová
END:VEVENT
BEGIN:VEVENT
UID:36643762-6332-4535-b436-613830626439
DTSTAMP:20260422T014837Z
DESCRIPTION:20/59 Svitavy - Česká Třebová 0:3 (-17\,-24\,-19)
DTSTART;TZID=Europe/Berlin:20230115T140000
DTEND;TZID=Europe/Berlin:20230115T160000
LOCATION:Sportovní hala Na Střelnici\, Pražská 2162 Svitavy - Předměstí
SUMMARY:1-U18Z-B: Svitavy-Česká Třebová
END:VEVENT
BEGIN:VEVENT
UID:31633765-6161-4635-b666-333234323263
DTSTAMP:20260422T014837Z
DESCRIPTION:3/8 Česká Třebová - Kometa 3:0 (9\,20\,11)
DTSTART;TZID=Europe/Berlin:20230204T100000
DTEND;TZID=Europe/Berlin:20230204T120000
LOCATION:Základní škola Česká Třebová Habrmanova\, Na Skále\, Na Skále 566 
 Česká Třebová
SUMMARY:1-U18Z-N: Česká Třebová-Kometa
END:VEVENT
BEGIN:VEVENT
UID:36343635-3530-4936-b033-396165396361
DTSTAMP:20260422T014837Z
DESCRIPTION:4/11 Česká Třebová - Kometa 3:0 (12\,17\,16)
DTSTART;TZID=Europe/Berlin:20230204T140000
DTEND;TZID=Europe/Berlin:20230204T160000
LOCATION:Základní škola Česká Třebová Habrmanova\, Na Skále\, Na Skále 566 
 Česká Třebová
SUMMARY:1-U18Z-N: Česká Třebová-Kometa
END:VEVENT
BEGIN:VEVENT
UID:33636563-6637-4338-b566-363530666234
DTSTAMP:20260422T014837Z
DESCRIPTION:7/21 Česká Třebová - Příbram 2:3 (-23\,-24\,6\,13\,-13)
DTSTART;TZID=Europe/Berlin:20230219T110000
DTEND;TZID=Europe/Berlin:20230219T130000
LOCATION:Základní škola Česká Třebová Habrmanova\, Na Skále\, Na Skále 566 
 Česká Třebová
SUMMARY:1-U18Z-N: Česká Třebová-Příbram
END:VEVENT
BEGIN:VEVENT
UID:62613761-3234-4130-b566-366534336233
DTSTAMP:20260422T014837Z
DESCRIPTION:8/24 Česká Třebová - Příbram 3:1 (25\,14\,-21\,24)
DTSTART;TZID=Europe/Berlin:20230219T140000
DTEND;TZID=Europe/Berlin:20230219T160000
LOCATION:Základní škola Česká Třebová Habrmanova\, Na Skále\, Na Skále 566 
 Česká Třebová
SUMMARY:1-U18Z-N: Česká Třebová-Příbram
END:VEVENT
BEGIN:VEVENT
UID:62313361-3739-4036-a164-346138613862
DTSTAMP:20260422T014837Z
DESCRIPTION:11/31 Česká Třebová - Kladno 3:1 (23\,19\,-20\,18)
DTSTART;TZID=Europe/Berlin:20230402T100000
DTEND;TZID=Europe/Berlin:20230402T120000
LOCATION:Základní škola Česká Třebová Habrmanova\, Na Skále\, Na Skále 566 
 Česká Třebová
SUMMARY:1-U18Z-N: Česká Třebová-Kladno
END:VEVENT
BEGIN:VEVENT
UID:34633933-6235-4534-b836-353834386636
DTSTAMP:20260422T014837Z
DESCRIPTION:12/34 Česká Třebová - Kladno 3:1 (23\,17\,-20\,22)
DTSTART;TZID=Europe/Berlin:20230402T140000
DTEND;TZID=Europe/Berlin:20230402T160000
LOCATION:Základní škola Česká Třebová Habrmanova\, Na Skále\, Na Skále 566 
 Česká Třebová
SUMMARY:1-U18Z-N: Česká Třebová-Kladno
END:VEVENT
BEGIN:VEVENT
UID:31666230-6538-4438-b134-656236343733
DTSTAMP:20260422T014837Z
DESCRIPTION:1/3 Příbram - Česká Třebová 2:3 (16\,-17\,-21\,20\,-8)
DTSTART;TZID=Europe/Berlin:20230128T110000
DTEND;TZID=Europe/Berlin:20230128T130000
LOCATION:Tělocvična ZŠ Balbínova\, Balbínova 328 Příbram - Příbram II
SUMMARY:1-U18Z-N: Příbram-Česká Třebová
END:VEVENT
BEGIN:VEVENT
UID:62646663-6662-4432-a639-633331623430
DTSTAMP:20260422T014837Z
DESCRIPTION:2/6 Příbram - Česká Třebová 3:1 (-22\,20\,11\,14)
DTSTART;TZID=Europe/Berlin:20230128T150000
DTEND;TZID=Europe/Berlin:20230128T170000
LOCATION:Tělocvična ZŠ Balbínova\, Balbínova 328 Příbram - Příbram II
SUMMARY:1-U18Z-N: Příbram-Česká Třebová
END:VEVENT
BEGIN:VEVENT
UID:39626231-3031-4264-b934-616164643132
DTSTAMP:20260422T014837Z
DESCRIPTION:5/13 Kladno - Česká Třebová 1:3 (21\,-17\,-13\,-13)
DTSTART;TZID=Europe/Berlin:20230211T110000
DTEND;TZID=Europe/Berlin:20230211T130000
LOCATION:Hala BIOS\, Jana Palacha 1840 Kladno
SUMMARY:1-U18Z-N: Kladno-Česká Třebová
END:VEVENT
BEGIN:VEVENT
UID:39356661-3833-4264-a535-623864313131
DTSTAMP:20260422T014837Z
DESCRIPTION:6/16 Kladno - Česká Třebová 2:3 (21\,-26\,-26\,25\,-8)
DTSTART;TZID=Europe/Berlin:20230211T150000
DTEND;TZID=Europe/Berlin:20230211T170000
LOCATION:Hala BIOS\, Jana Palacha 1840 Kladno
SUMMARY:1-U18Z-N: Kladno-Česká Třebová
END:VEVENT
BEGIN:VEVENT
UID:61663138-3463-4365-a637-336636653836
DTSTAMP:20260422T014837Z
DESCRIPTION:9/26 Kometa - Česká Třebová 3:1 (-24\,16\,20\,14)
DTSTART;TZID=Europe/Berlin:20230311T100000
DTEND;TZID=Europe/Berlin:20230311T120000
LOCATION:Tělocvična ZŠ Na Šutce\, Na Šutce 440 Praha - Troja
SUMMARY:1-U18Z-N: Kometa-Česká Třebová
END:VEVENT
BEGIN:VEVENT
UID:64313265-3138-4838-b462-353634343565
DTSTAMP:20260422T014837Z
DESCRIPTION:10/29 Kometa - Česká Třebová 3:0 (18\,26\,17)
DTSTART;TZID=Europe/Berlin:20230311T140000
DTEND;TZID=Europe/Berlin:20230311T160000
LOCATION:Tělocvična ZŠ Na Šutce\, Na Šutce 440 Praha - Troja
SUMMARY:1-U18Z-N: Kometa-Česká Třebová
END:VEVENT
END:VCALENDAR
