BEGIN:VCALENDAR
VERSION:2.0
PRODID:-//TJ Slavia Hradec Králové79296//NONSGML kigkonsult.se iCalcreator 2.41.80//
CALSCALE:GREGORIAN
UID:66373666-3037-4564-a339-373731656137
BEGIN:VEVENT
UID:31393933-3734-4631-a330-323762636439
DTSTAMP:20260422T002605Z
DESCRIPTION:1/3 Hradec Králové - Česká Třebová 3:2 (-21\,9\,-24\,15\,13)
DTSTART;TZID=Europe/Berlin:20220917T100000
DTEND;TZID=Europe/Berlin:20220917T120000
LOCATION:TJ Slavia Hradec Králové\, Víta Nejedlého 1216 Hradec Králové
SUMMARY:1-U18Z-B: Hradec Králové-Česká Třebová
END:VEVENT
BEGIN:VEVENT
UID:66626235-3133-4665-a638-356366653661
DTSTAMP:20260422T002605Z
DESCRIPTION:2/6 Hradec Králové - Česká Třebová 1:3 (-21\,17\,-20\,-16)
DTSTART;TZID=Europe/Berlin:20220917T140000
DTEND;TZID=Europe/Berlin:20220917T160000
LOCATION:TJ Slavia Hradec Králové\, Víta Nejedlého 1216 Hradec Králové
SUMMARY:1-U18Z-B: Hradec Králové-Česká Třebová
END:VEVENT
BEGIN:VEVENT
UID:31386139-3435-4665-b765-306237393536
DTSTAMP:20260422T002605Z
DESCRIPTION:5/14 Hradec Králové - Demlova 0:3 (-18\,-17\,-20)
DTSTART;TZID=Europe/Berlin:20221008T100000
DTEND;TZID=Europe/Berlin:20221008T120000
LOCATION:TJ Slavia Hradec Králové\, Víta Nejedlého 1216 Hradec Králové
SUMMARY:1-U18Z-B: Hradec Králové-Demlova
END:VEVENT
BEGIN:VEVENT
UID:30396239-6362-4830-b961-313632636163
DTSTAMP:20260422T002605Z
DESCRIPTION:6/17 Hradec Králové - Demlova 3:1 (22\,-19\,19\,15)
DTSTART;TZID=Europe/Berlin:20221008T140000
DTEND;TZID=Europe/Berlin:20221008T160000
LOCATION:TJ Slavia Hradec Králové\, Víta Nejedlého 1216 Hradec Králové
SUMMARY:1-U18Z-B: Hradec Králové-Demlova
END:VEVENT
BEGIN:VEVENT
UID:36633363-6635-4830-b461-343036393263
DTSTAMP:20260422T002605Z
DESCRIPTION:9/25 Hradec Králové - Lanškroun 1:3 (24\,-20\,-20\,-13)
DTSTART;TZID=Europe/Berlin:20221105T100000
DTEND;TZID=Europe/Berlin:20221105T120000
LOCATION:TJ Slavia Hradec Králové\, Víta Nejedlého 1216 Hradec Králové
SUMMARY:1-U18Z-B: Hradec Králové-Lanškroun
END:VEVENT
BEGIN:VEVENT
UID:66636461-3063-4031-a565-613562306665
DTSTAMP:20260422T002605Z
DESCRIPTION:10/28 Hradec Králové - Lanškroun 0:3 (-13\,-13\,-22)
DTSTART;TZID=Europe/Berlin:20221105T140000
DTEND;TZID=Europe/Berlin:20221105T160000
LOCATION:TJ Slavia Hradec Králové\, Víta Nejedlého 1216 Hradec Králové
SUMMARY:1-U18Z-B: Hradec Králové-Lanškroun
END:VEVENT
BEGIN:VEVENT
UID:64346464-3061-4139-b631-303639396132
DTSTAMP:20260422T002605Z
DESCRIPTION:13/38 Hradec Králové - Olomouc 0:3 (-11\,-21\,-10)
DTSTART;TZID=Europe/Berlin:20221203T100000
DTEND;TZID=Europe/Berlin:20221203T120000
LOCATION:Hala Vocelova 1338\, Vocelova 1338 Hradec Králové - Pražské Předmě
 stí
SUMMARY:1-U18Z-B: Hradec Králové-Olomouc
END:VEVENT
BEGIN:VEVENT
UID:61636162-3065-4866-a238-323137363236
DTSTAMP:20260422T002605Z
DESCRIPTION:14/41 Hradec Králové - Olomouc 1:3 (-23\,-12\,21\,-21)
DTSTART;TZID=Europe/Berlin:20221203T140000
DTEND;TZID=Europe/Berlin:20221203T160000
LOCATION:Hala Vocelova 1338\, Vocelova 1338 Hradec Králové - Pražské Předmě
 stí
SUMMARY:1-U18Z-B: Hradec Králové-Olomouc
END:VEVENT
BEGIN:VEVENT
UID:66333135-3531-4137-b730-313438393030
DTSTAMP:20260422T002605Z
DESCRIPTION:17/51 Hradec Králové - Svitavy 3:0 (23\,14\,20)
DTSTART;TZID=Europe/Berlin:20221211T100000
DTEND;TZID=Europe/Berlin:20221211T120000
LOCATION:TJ Slavia Hradec Králové\, Víta Nejedlého 1216 Hradec Králové
SUMMARY:1-U18Z-B: Hradec Králové-Svitavy
END:VEVENT
BEGIN:VEVENT
UID:64376663-3237-4263-a633-333730636162
DTSTAMP:20260422T002605Z
DESCRIPTION:18/54 Hradec Králové - Svitavy 3:1 (-29\,9\,28\,21)
DTSTART;TZID=Europe/Berlin:20221211T140000
DTEND;TZID=Europe/Berlin:20221211T160000
LOCATION:TJ Slavia Hradec Králové\, Víta Nejedlého 1216 Hradec Králové
SUMMARY:1-U18Z-B: Hradec Králové-Svitavy
END:VEVENT
BEGIN:VEVENT
UID:36363030-3762-4264-a336-323235393937
DTSTAMP:20260422T002605Z
DESCRIPTION:3/8 Olomouc - Hradec Králové 3:0 (11\,18\,20)
DTSTART;TZID=Europe/Berlin:20221001T100000
DTEND;TZID=Europe/Berlin:20221001T120000
LOCATION:VOŠ a SPŠE Olomouc\, Božetěchova 755 Olomouc - Hodolany
SUMMARY:1-U18Z-B: Olomouc-Hradec Králové
END:VEVENT
BEGIN:VEVENT
UID:35316561-3234-4330-b437-343638353834
DTSTAMP:20260422T002605Z
DESCRIPTION:4/11 Olomouc - Hradec Králové 3:0 (14\,20\,19)
DTSTART;TZID=Europe/Berlin:20221001T140000
DTEND;TZID=Europe/Berlin:20221001T160000
LOCATION:VOŠ a SPŠE Olomouc\, Božetěchova 755 Olomouc - Hodolany
SUMMARY:1-U18Z-B: Olomouc-Hradec Králové
END:VEVENT
BEGIN:VEVENT
UID:36333935-6235-4835-b962-653262663935
DTSTAMP:20260422T002605Z
DESCRIPTION:7/21 Svitavy - Hradec Králové 3:2 (15\,-14\,21\,-19\,8)
DTSTART;TZID=Europe/Berlin:20221029T100000
DTEND;TZID=Europe/Berlin:20221029T120000
LOCATION:Sportovní hala Na Střelnici\, Pražská 2162 Svitavy - Předměstí
SUMMARY:1-U18Z-B: Svitavy-Hradec Králové
END:VEVENT
BEGIN:VEVENT
UID:61646135-3737-4663-a163-343933396430
DTSTAMP:20260422T002605Z
DESCRIPTION:8/24 Svitavy - Hradec Králové 3:1 (-12\,23\,21\,21)
DTSTART;TZID=Europe/Berlin:20221029T140000
DTEND;TZID=Europe/Berlin:20221029T160000
LOCATION:Sportovní hala Na Střelnici\, Pražská 2162 Svitavy - Předměstí
SUMMARY:1-U18Z-B: Svitavy-Hradec Králové
END:VEVENT
BEGIN:VEVENT
UID:65306335-3739-4234-a266-643561363938
DTSTAMP:20260422T002605Z
DESCRIPTION:11/33 Česká Třebová - Hradec Králové 3:1 (-24\,18\,16\,20)
DTSTART;TZID=Europe/Berlin:20221112T090000
DTEND;TZID=Europe/Berlin:20221112T110000
LOCATION:Základní škola Česká Třebová Habrmanova\, Na Skále\, Na Skále 566 
 Česká Třebová
SUMMARY:1-U18Z-B: Česká Třebová-Hradec Králové
END:VEVENT
BEGIN:VEVENT
UID:30666137-3139-4332-b561-636539633936
DTSTAMP:20260422T002605Z
DESCRIPTION:12/36 Česká Třebová - Hradec Králové 3:2 (-21\,18\,-14\,19\,11)
DTSTART;TZID=Europe/Berlin:20221112T130000
DTEND;TZID=Europe/Berlin:20221112T150000
LOCATION:Základní škola Česká Třebová Habrmanova\, Na Skále\, Na Skále 566 
 Česká Třebová
SUMMARY:1-U18Z-B: Česká Třebová-Hradec Králové
END:VEVENT
BEGIN:VEVENT
UID:31333837-6365-4433-b437-363932663661
DTSTAMP:20260422T002605Z
DESCRIPTION:15/44 Demlova - Hradec Králové 0:3 (-16\,-25\,-19)
DTSTART;TZID=Europe/Berlin:20221210T100000
DTEND;TZID=Europe/Berlin:20221210T120000
LOCATION:ZŠ Jihlava Demlova\, Demlova 4178 Jihlava
SUMMARY:1-U18Z-B: Demlova-Hradec Králové
END:VEVENT
BEGIN:VEVENT
UID:36373136-6432-4863-b930-383131633037
DTSTAMP:20260422T002605Z
DESCRIPTION:16/47 Demlova - Hradec Králové 0:3 (-22\,-20\,-15)
DTSTART;TZID=Europe/Berlin:20221210T140000
DTEND;TZID=Europe/Berlin:20221210T160000
LOCATION:ZŠ Jihlava Demlova\, Demlova 4178 Jihlava
SUMMARY:1-U18Z-B: Demlova-Hradec Králové
END:VEVENT
BEGIN:VEVENT
UID:61643462-3331-4737-b739-363637343230
DTSTAMP:20260422T002605Z
DESCRIPTION:19/55 Lanškroun - Hradec Králové 0:3 (-13\,-15\,-20)
DTSTART;TZID=Europe/Berlin:20230114T100000
DTEND;TZID=Europe/Berlin:20230114T120000
LOCATION:SOŠ a SOU Lanškroun\, Sokolská 288 Lanškroun - Ostrovské Předměstí
SUMMARY:1-U18Z-B: Lanškroun-Hradec Králové
END:VEVENT
BEGIN:VEVENT
UID:30363436-6334-4131-b732-373163316462
DTSTAMP:20260422T002605Z
DESCRIPTION:20/58 Lanškroun - Hradec Králové 0:3 (-14\,-22\,-22)
DTSTART;TZID=Europe/Berlin:20230114T140000
DTEND;TZID=Europe/Berlin:20230114T160000
LOCATION:SOŠ a SOU Lanškroun\, Sokolská 288 Lanškroun - Ostrovské Předměstí
SUMMARY:1-U18Z-B: Lanškroun-Hradec Králové
END:VEVENT
BEGIN:VEVENT
UID:36373564-6530-4439-b737-623363343661
DTSTAMP:20260422T002605Z
DESCRIPTION:3/7 Hradec Králové - Kladno 3:1 (20\,-23\,13\,19)
DTSTART;TZID=Europe/Berlin:20230204T100000
DTEND;TZID=Europe/Berlin:20230204T120000
LOCATION:TJ Slavia Hradec Králové\, Víta Nejedlého 1216 Hradec Králové
SUMMARY:1-U18Z-N: Hradec Králové-Kladno
END:VEVENT
BEGIN:VEVENT
UID:61666364-6435-4230-b134-353230636563
DTSTAMP:20260422T002605Z
DESCRIPTION:4/10 Hradec Králové - Kladno 3:1 (-23\,15\,22\,17)
DTSTART;TZID=Europe/Berlin:20230204T140000
DTEND;TZID=Europe/Berlin:20230204T160000
LOCATION:TJ Slavia Hradec Králové\, Víta Nejedlého 1216 Hradec Králové
SUMMARY:1-U18Z-N: Hradec Králové-Kladno
END:VEVENT
BEGIN:VEVENT
UID:31373762-6435-4233-a365-343361643431
DTSTAMP:20260422T002605Z
DESCRIPTION:7/20 Hradec Králové - Kometa 3:0 (22\,5\,17)
DTSTART;TZID=Europe/Berlin:20230304T100000
DTEND;TZID=Europe/Berlin:20230304T120000
LOCATION:TJ Slavia Hradec Králové\, Víta Nejedlého 1216 Hradec Králové
SUMMARY:1-U18Z-N: Hradec Králové-Kometa
END:VEVENT
BEGIN:VEVENT
UID:33396362-3231-4231-a132-343932353665
DTSTAMP:20260422T002605Z
DESCRIPTION:8/23 Hradec Králové - Kometa 3:0 (16\,17\,21)
DTSTART;TZID=Europe/Berlin:20230304T140000
DTEND;TZID=Europe/Berlin:20230304T160000
LOCATION:TJ Slavia Hradec Králové\, Víta Nejedlého 1216 Hradec Králové
SUMMARY:1-U18Z-N: Hradec Králové-Kometa
END:VEVENT
BEGIN:VEVENT
UID:66613234-3731-4239-b966-343132333761
DTSTAMP:20260422T002605Z
DESCRIPTION:11/33 Hradec Králové - Příbram 3:0 (11\,10\,13)
DTSTART;TZID=Europe/Berlin:20230401T100000
DTEND;TZID=Europe/Berlin:20230401T120000
LOCATION:Speciální školy Hradec Králové\, Hradecká 1231 Hradec Králové
SUMMARY:1-U18Z-N: Hradec Králové-Příbram
END:VEVENT
BEGIN:VEVENT
UID:31323833-3337-4233-a165-313632333364
DTSTAMP:20260422T002605Z
DESCRIPTION:12/36 Hradec Králové - Příbram 3:0 (16\,12\,14)
DTSTART;TZID=Europe/Berlin:20230401T140000
DTEND;TZID=Europe/Berlin:20230401T160000
LOCATION:Speciální školy Hradec Králové\, Hradecká 1231 Hradec Králové
SUMMARY:1-U18Z-N: Hradec Králové-Příbram
END:VEVENT
BEGIN:VEVENT
UID:63306237-3366-4165-a636-313033613338
DTSTAMP:20260422T002605Z
DESCRIPTION:1/2 Kometa - Hradec Králové 2:3 (-24\,20\,-11\,20\,-6)
DTSTART;TZID=Europe/Berlin:20230128T100000
DTEND;TZID=Europe/Berlin:20230128T120000
LOCATION:Tělocvična ZŠ Na Šutce\, Na Šutce 440 Praha - Troja
SUMMARY:1-U18Z-N: Kometa-Hradec Králové
END:VEVENT
BEGIN:VEVENT
UID:39666331-6334-4361-a565-613534626434
DTSTAMP:20260422T002605Z
DESCRIPTION:2/5 Kometa - Hradec Králové 2:3 (-17\,12\,22\,-20\,-14)
DTSTART;TZID=Europe/Berlin:20230128T140000
DTEND;TZID=Europe/Berlin:20230128T160000
LOCATION:Tělocvična ZŠ Na Šutce\, Na Šutce 440 Praha - Troja
SUMMARY:1-U18Z-N: Kometa-Hradec Králové
END:VEVENT
BEGIN:VEVENT
UID:36383562-3162-4138-b836-666537346236
DTSTAMP:20260422T002605Z
DESCRIPTION:5/15 Příbram - Hradec Králové 1:3 (-13\,-23\,23\,-23)
DTSTART;TZID=Europe/Berlin:20230211T110000
DTEND;TZID=Europe/Berlin:20230211T130000
LOCATION:Tělocvična ZŠ Balbínova\, Balbínova 328 Příbram - Příbram II
SUMMARY:1-U18Z-N: Příbram-Hradec Králové
END:VEVENT
BEGIN:VEVENT
UID:36343333-3330-4134-b732-336263313837
DTSTAMP:20260422T002605Z
DESCRIPTION:6/18 Příbram - Hradec Králové 2:3 (16\,-24\,-22\,19\,-8)
DTSTART;TZID=Europe/Berlin:20230211T150000
DTEND;TZID=Europe/Berlin:20230211T170000
LOCATION:Tělocvična ZŠ Balbínova\, Balbínova 328 Příbram - Příbram II
SUMMARY:1-U18Z-N: Příbram-Hradec Králové
END:VEVENT
BEGIN:VEVENT
UID:32643665-6531-4261-b534-356335363839
DTSTAMP:20260422T002605Z
DESCRIPTION:9/25 Kladno - Hradec Králové 0:3 (-17\,-13\,-20)
DTSTART;TZID=Europe/Berlin:20230311T090000
DTEND;TZID=Europe/Berlin:20230311T110000
LOCATION:Přetlaková sportovní hala Brjanská\, Severní 3127 Kladno
SUMMARY:1-U18Z-N: Kladno-Hradec Králové
END:VEVENT
BEGIN:VEVENT
UID:38366334-6564-4132-a136-343632343130
DTSTAMP:20260422T002605Z
DESCRIPTION:10/28 Kladno - Hradec Králové 3:2 (-22\,22\,15\,-17\,8)
DTSTART;TZID=Europe/Berlin:20230311T130000
DTEND;TZID=Europe/Berlin:20230311T150000
LOCATION:Přetlaková sportovní hala Brjanská\, Severní 3127 Kladno
SUMMARY:1-U18Z-N: Kladno-Hradec Králové
END:VEVENT
END:VCALENDAR
