BEGIN:VCALENDAR
VERSION:2.0
PRODID:-//TJ Sokol Havlíčkův Brod79306//NONSGML kigkonsult.se iCalcreator 2.41.80//
CALSCALE:GREGORIAN
UID:64386232-3435-4839-b766-366363343563
BEGIN:VEVENT
UID:61316637-6533-4165-b036-616633633462
DTSTAMP:20260422T093617Z
DESCRIPTION:3/8 Sokol H. Brod - Rychnov n. K. 3:0 (16\,9\,11)
DTSTART;TZID=Europe/Berlin:20221001T100000
DTEND;TZID=Europe/Berlin:20221001T120000
LOCATION:Střední zdravotnická škola Havlíčkův Brod\, Masarykova 2033 Havlíč
 kův Brod
SUMMARY:2-U18Z-C: Sokol H. Brod-Rychnov n. K.
END:VEVENT
BEGIN:VEVENT
UID:66383165-3831-4361-b434-363638626439
DTSTAMP:20260422T093617Z
DESCRIPTION:4/11 Sokol H. Brod - Rychnov n. K. 3:0 (21\,10\,14)
DTSTART;TZID=Europe/Berlin:20221001T140000
DTEND;TZID=Europe/Berlin:20221001T160000
LOCATION:Střední zdravotnická škola Havlíčkův Brod\, Masarykova 2033 Havlíč
 kův Brod
SUMMARY:2-U18Z-C: Sokol H. Brod-Rychnov n. K.
END:VEVENT
BEGIN:VEVENT
UID:37343738-6131-4431-a238-636238333731
DTSTAMP:20260422T093617Z
DESCRIPTION:9/27 Sokol H. Brod - Hronov 3:1 (16\,24\,-19\,17)
DTSTART;TZID=Europe/Berlin:20221105T100000
DTEND;TZID=Europe/Berlin:20221105T120000
LOCATION:Střední zdravotnická škola Havlíčkův Brod\, Masarykova 2033 Havlíč
 kův Brod
SUMMARY:2-U18Z-C: Sokol H. Brod-Hronov
END:VEVENT
BEGIN:VEVENT
UID:38336435-6534-4134-b366-343534663635
DTSTAMP:20260422T093617Z
DESCRIPTION:10/30 Sokol H. Brod - Hronov 3:1 (24\,-17\,21\,13)
DTSTART;TZID=Europe/Berlin:20221105T140000
DTEND;TZID=Europe/Berlin:20221105T160000
LOCATION:Střední zdravotnická škola Havlíčkův Brod\, Masarykova 2033 Havlíč
 kův Brod
SUMMARY:2-U18Z-C: Sokol H. Brod-Hronov
END:VEVENT
BEGIN:VEVENT
UID:65383535-3063-4537-a435-356634623139
DTSTAMP:20260422T093617Z
DESCRIPTION:11/32 Sokol H. Brod - Bedřichov 0:3 (-19\,-17\,-14)
DTSTART;TZID=Europe/Berlin:20221112T110000
DTEND;TZID=Europe/Berlin:20221112T130000
LOCATION:Střední zdravotnická škola Havlíčkův Brod\, Masarykova 2033 Havlíč
 kův Brod
SUMMARY:2-U18Z-C: Sokol H. Brod-Bedřichov
END:VEVENT
BEGIN:VEVENT
UID:65376265-3231-4132-b336-633962613939
DTSTAMP:20260422T093617Z
DESCRIPTION:12/35 Sokol H. Brod - Bedřichov 1:3 (-19\,-17\,19\,-15)
DTSTART;TZID=Europe/Berlin:20221112T150000
DTEND;TZID=Europe/Berlin:20221112T170000
LOCATION:Střední zdravotnická škola Havlíčkův Brod\, Masarykova 2033 Havlíč
 kův Brod
SUMMARY:2-U18Z-C: Sokol H. Brod-Bedřichov
END:VEVENT
BEGIN:VEVENT
UID:61373861-3838-4866-b763-373864393862
DTSTAMP:20260422T093617Z
DESCRIPTION:15/45 Sokol H. Brod - Pardubice 3:1 (26\,16\,-23\,8)
DTSTART;TZID=Europe/Berlin:20221210T110000
DTEND;TZID=Europe/Berlin:20221210T130000
LOCATION:Střední zdravotnická škola Havlíčkův Brod\, Masarykova 2033 Havlíč
 kův Brod
SUMMARY:2-U18Z-C: Sokol H. Brod-Pardubice
END:VEVENT
BEGIN:VEVENT
UID:61616362-3639-4662-b834-353134636635
DTSTAMP:20260422T093617Z
DESCRIPTION:16/48 Sokol H. Brod - Pardubice 3:0 (12\,13\,22)
DTSTART;TZID=Europe/Berlin:20221210T150000
DTEND;TZID=Europe/Berlin:20221210T170000
LOCATION:Střední zdravotnická škola Havlíčkův Brod\, Masarykova 2033 Havlíč
 kův Brod
SUMMARY:2-U18Z-C: Sokol H. Brod-Pardubice
END:VEVENT
BEGIN:VEVENT
UID:66326533-3334-4133-b537-393132326366
DTSTAMP:20260422T093617Z
DESCRIPTION:17/49 Sokol H. Brod - Jiskra H. Brod B 2:3 (-20\,20\,9\,-21\,-9
 )
DTSTART;TZID=Europe/Berlin:20221217T100000
DTEND;TZID=Europe/Berlin:20221217T120000
LOCATION:Střední zdravotnická škola Havlíčkův Brod\, Masarykova 2033 Havlíč
 kův Brod
SUMMARY:2-U18Z-C: Sokol H. Brod-Jiskra H. Brod B
END:VEVENT
BEGIN:VEVENT
UID:35323437-6366-4338-a237-393536626139
DTSTAMP:20260422T093617Z
DESCRIPTION:18/52 Sokol H. Brod - Jiskra H. Brod B 3:0 (10\,16\,14)
DTSTART;TZID=Europe/Berlin:20221217T140000
DTEND;TZID=Europe/Berlin:20221217T160000
LOCATION:Střední zdravotnická škola Havlíčkův Brod\, Masarykova 2033 Havlíč
 kův Brod
SUMMARY:2-U18Z-C: Sokol H. Brod-Jiskra H. Brod B
END:VEVENT
BEGIN:VEVENT
UID:36336632-3966-4332-b566-613164343137
DTSTAMP:20260422T093617Z
DESCRIPTION:1/2 Bedřichov - Sokol H. Brod 1:3 (-21\,23\,-21\,-25)
DTSTART;TZID=Europe/Berlin:20220917T100000
DTEND;TZID=Europe/Berlin:20220917T120000
LOCATION:TJ Sokol Bedřichov\, Jihlava\, Sokolovská 4656 Jihlava
SUMMARY:2-U18Z-C: Bedřichov-Sokol H. Brod
END:VEVENT
BEGIN:VEVENT
UID:36646238-6466-4638-a461-653033346163
DTSTAMP:20260422T093617Z
DESCRIPTION:2/5 Bedřichov - Sokol H. Brod 1:3 (20\,-16\,-24\,-15)
DTSTART;TZID=Europe/Berlin:20220917T140000
DTEND;TZID=Europe/Berlin:20220917T160000
LOCATION:TJ Sokol Bedřichov\, Jihlava\, Sokolovská 4656 Jihlava
SUMMARY:2-U18Z-C: Bedřichov-Sokol H. Brod
END:VEVENT
BEGIN:VEVENT
UID:65363063-6533-4065-b061-343630653465
DTSTAMP:20260422T093617Z
DESCRIPTION:5/15 Pardubice - Sokol H. Brod 1:3 (-20\,20\,-23\,-21)
DTSTART;TZID=Europe/Berlin:20221008T110000
DTEND;TZID=Europe/Berlin:20221008T130000
LOCATION:Sportovní hala\, Masarykovo nám. 108 Lázně Bohdaneč
SUMMARY:2-U18Z-C: Pardubice-Sokol H. Brod
END:VEVENT
BEGIN:VEVENT
UID:37643138-6139-4635-a562-626530663364
DTSTAMP:20260422T093617Z
DESCRIPTION:6/18 Pardubice - Sokol H. Brod 2:3 (-23\,20\,12\,-21\,-10)
DTSTART;TZID=Europe/Berlin:20221008T150000
DTEND;TZID=Europe/Berlin:20221008T170000
LOCATION:Sportovní hala\, Masarykovo nám. 108 Lázně Bohdaneč
SUMMARY:2-U18Z-C: Pardubice-Sokol H. Brod
END:VEVENT
BEGIN:VEVENT
UID:33393066-6663-4564-a566-343364333030
DTSTAMP:20260422T093617Z
DESCRIPTION:7/19 Jiskra H. Brod B - Sokol H. Brod 0:3 (-8\,-7\,-22)
DTSTART;TZID=Europe/Berlin:20221029T100000
DTEND;TZID=Europe/Berlin:20221029T120000
LOCATION:Tělocvična OA a hotelové školy\, Bratříků 851 Havlíčkův Brod
SUMMARY:2-U18Z-C: Jiskra H. Brod B-Sokol H. Brod
END:VEVENT
BEGIN:VEVENT
UID:66613963-6236-4631-a662-383262636237
DTSTAMP:20260422T093617Z
DESCRIPTION:8/22 Jiskra H. Brod B - Sokol H. Brod 0:3 (-7\,-23\,-22)
DTSTART;TZID=Europe/Berlin:20221029T140000
DTEND;TZID=Europe/Berlin:20221029T160000
LOCATION:Tělocvična OA a hotelové školy\, Bratříků 851 Havlíčkův Brod
SUMMARY:2-U18Z-C: Jiskra H. Brod B-Sokol H. Brod
END:VEVENT
BEGIN:VEVENT
UID:64373839-3236-4037-a666-333533333137
DTSTAMP:20260422T093617Z
DESCRIPTION:13/38 Rychnov n. K. - Sokol H. Brod 0:3 (-21\,-20\,-11)
DTSTART;TZID=Europe/Berlin:20221203T110000
DTEND;TZID=Europe/Berlin:20221203T130000
LOCATION:Hala VOŠ a SPŠS\, U Stadionu 1166 Rychnov nad Kněžnou
SUMMARY:2-U18Z-C: Rychnov n. K.-Sokol H. Brod
END:VEVENT
BEGIN:VEVENT
UID:35616235-6561-4136-a266-643161373934
DTSTAMP:20260422T093617Z
DESCRIPTION:14/41 Rychnov n. K. - Sokol H. Brod 0:3 (-13\,-9\,-15)
DTSTART;TZID=Europe/Berlin:20221203T150000
DTEND;TZID=Europe/Berlin:20221203T170000
LOCATION:Hala VOŠ a SPŠS\, U Stadionu 1166 Rychnov nad Kněžnou
SUMMARY:2-U18Z-C: Rychnov n. K.-Sokol H. Brod
END:VEVENT
BEGIN:VEVENT
UID:63636435-6138-4336-b830-336666303065
DTSTAMP:20260422T093617Z
DESCRIPTION:19/57 Hronov - Sokol H. Brod 2:3 (19\,-23\,17\,-13\,-6)
DTSTART;TZID=Europe/Berlin:20230107T100000
DTEND;TZID=Europe/Berlin:20230107T120000
LOCATION:ZŠ Hronov\, Palackého 162 Hronov
SUMMARY:2-U18Z-C: Hronov-Sokol H. Brod
END:VEVENT
BEGIN:VEVENT
UID:34646165-3364-4131-b065-313930356531
DTSTAMP:20260422T093617Z
DESCRIPTION:20/60 Hronov - Sokol H. Brod 0:3 (-19\,-21\,-15)
DTSTART;TZID=Europe/Berlin:20230107T140000
DTEND;TZID=Europe/Berlin:20230107T160000
LOCATION:ZŠ Hronov\, Palackého 162 Hronov
SUMMARY:2-U18Z-C: Hronov-Sokol H. Brod
END:VEVENT
BEGIN:VEVENT
UID:39333562-3363-4533-a665-303830666339
DTSTAMP:20260422T093617Z
DESCRIPTION:1/2 Sokol H. Brod - Olomouc 3:1 (-12\,15\,20\,21)
DTSTART;TZID=Europe/Berlin:20230128T100000
DTEND;TZID=Europe/Berlin:20230128T120000
LOCATION:Střední zdravotnická škola Havlíčkův Brod\, Masarykova 2033 Havlíč
 kův Brod
SUMMARY:2-U18Z-II: Sokol H. Brod-Olomouc
END:VEVENT
BEGIN:VEVENT
UID:34333230-3833-4338-b564-663636663038
DTSTAMP:20260422T093617Z
DESCRIPTION:2/5 Sokol H. Brod - Olomouc 2:3 (21\,11\,-22\,-22\,-12)
DTSTART;TZID=Europe/Berlin:20230128T140000
DTEND;TZID=Europe/Berlin:20230128T160000
LOCATION:Střední zdravotnická škola Havlíčkův Brod\, Masarykova 2033 Havlíč
 kův Brod
SUMMARY:2-U18Z-II: Sokol H. Brod-Olomouc
END:VEVENT
BEGIN:VEVENT
UID:63353231-3632-4963-a336-346335346237
DTSTAMP:20260422T093617Z
DESCRIPTION:5/14 Sokol H. Brod - Ostrava B 3:0 (17\,15\,12)
DTSTART;TZID=Europe/Berlin:20230211T110000
DTEND;TZID=Europe/Berlin:20230211T130000
LOCATION:Střední zdravotnická škola Havlíčkův Brod\, Masarykova 2033 Havlíč
 kův Brod
SUMMARY:2-U18Z-II: Sokol H. Brod-Ostrava B
END:VEVENT
BEGIN:VEVENT
UID:61353861-3166-4761-b837-643466393966
DTSTAMP:20260422T093617Z
DESCRIPTION:6/17 Sokol H. Brod - Ostrava B 3:0 (9\,12\,15)
DTSTART;TZID=Europe/Berlin:20230211T150000
DTEND;TZID=Europe/Berlin:20230211T170000
LOCATION:Střední zdravotnická škola Havlíčkův Brod\, Masarykova 2033 Havlíč
 kův Brod
SUMMARY:2-U18Z-II: Sokol H. Brod-Ostrava B
END:VEVENT
BEGIN:VEVENT
UID:35663361-3836-4031-b063-653464653562
DTSTAMP:20260422T093617Z
DESCRIPTION:9/26 Sokol H. Brod - Kr. Pole B 0:3 (-25\,-19\,-17)
DTSTART;TZID=Europe/Berlin:20230311T110000
DTEND;TZID=Europe/Berlin:20230311T130000
LOCATION:Střední zdravotnická škola Havlíčkův Brod\, Masarykova 2033 Havlíč
 kův Brod
SUMMARY:2-U18Z-II: Sokol H. Brod-Kr. Pole B
END:VEVENT
BEGIN:VEVENT
UID:31303432-3762-4933-a433-633731636232
DTSTAMP:20260422T093617Z
DESCRIPTION:10/29 Sokol H. Brod - Kr. Pole B 1:3 (-15\,-11\,20\,-19)
DTSTART;TZID=Europe/Berlin:20230311T150000
DTEND;TZID=Europe/Berlin:20230311T170000
LOCATION:Střední zdravotnická škola Havlíčkův Brod\, Masarykova 2033 Havlíč
 kův Brod
SUMMARY:2-U18Z-II: Sokol H. Brod-Kr. Pole B
END:VEVENT
BEGIN:VEVENT
UID:35313461-3034-4261-a431-626133626330
DTSTAMP:20260422T093617Z
DESCRIPTION:3/8 Kr. Pole B - Sokol H. Brod 3:0 (21\,23\,22)
DTSTART;TZID=Europe/Berlin:20230204T110000
DTEND;TZID=Europe/Berlin:20230204T130000
LOCATION:Sportovní gymnázium Ludvíka Daňka\, Botanická 63 Brno - Ponava
SUMMARY:2-U18Z-II: Kr. Pole B-Sokol H. Brod
END:VEVENT
BEGIN:VEVENT
UID:34373564-3033-4461-b934-663334616165
DTSTAMP:20260422T093617Z
DESCRIPTION:4/11 Kr. Pole B - Sokol H. Brod 3:1 (19\,12\,-15\,17)
DTSTART;TZID=Europe/Berlin:20230204T140000
DTEND;TZID=Europe/Berlin:20230204T160000
LOCATION:Sportovní gymnázium Ludvíka Daňka\, Botanická 63 Brno - Ponava
SUMMARY:2-U18Z-II: Kr. Pole B-Sokol H. Brod
END:VEVENT
BEGIN:VEVENT
UID:37303239-3331-4937-b666-333333353363
DTSTAMP:20260422T093617Z
DESCRIPTION:7/20 Olomouc - Sokol H. Brod 0:3 (-12\,-16\,-14)
DTSTART;TZID=Europe/Berlin:20230304T100000
DTEND;TZID=Europe/Berlin:20230304T120000
LOCATION:UP Olomouc\, U sportovní haly 38 Olomouc - Lazce
SUMMARY:2-U18Z-II: Olomouc-Sokol H. Brod
END:VEVENT
BEGIN:VEVENT
UID:30333238-6131-4932-b663-366666373463
DTSTAMP:20260422T093617Z
DESCRIPTION:8/23 Olomouc - Sokol H. Brod 0:3 (-22\,-22\,-23)
DTSTART;TZID=Europe/Berlin:20230304T140000
DTEND;TZID=Europe/Berlin:20230304T160000
LOCATION:UP Olomouc\, U sportovní haly 38 Olomouc - Lazce
SUMMARY:2-U18Z-II: Olomouc-Sokol H. Brod
END:VEVENT
BEGIN:VEVENT
UID:65336339-3436-4131-b761-663963623164
DTSTAMP:20260422T093617Z
DESCRIPTION:11/32 Ostrava B - Sokol H. Brod 2:3 (22\,-10\,18\,-22\,-10)
DTSTART;TZID=Europe/Berlin:20230402T100000
DTEND;TZID=Europe/Berlin:20230402T120000
LOCATION:Hala mládeže\, Gajdošova 1893 Ostrava - Moravská Ostrava
SUMMARY:2-U18Z-II: Ostrava B-Sokol H. Brod
END:VEVENT
BEGIN:VEVENT
UID:36373231-3637-4232-a161-623530346561
DTSTAMP:20260422T093617Z
DESCRIPTION:12/35 Ostrava B - Sokol H. Brod 0:3 (-15\,-23\,-19)
DTSTART;TZID=Europe/Berlin:20230402T140000
DTEND;TZID=Europe/Berlin:20230402T160000
LOCATION:Hala mládeže\, Gajdošova 1893 Ostrava - Moravská Ostrava
SUMMARY:2-U18Z-II: Ostrava B-Sokol H. Brod
END:VEVENT
END:VCALENDAR
