BEGIN:VCALENDAR
VERSION:2.0
PRODID:-//VKM RÉMA Rychnov nad Kněžnou79310//NONSGML kigkonsult.se iCalcreator 2.41.80//
CALSCALE:GREGORIAN
UID:66643662-3235-4538-a130-393531663261
BEGIN:VEVENT
UID:38616136-3730-4538-a131-666266346462
DTSTAMP:20260422T165917Z
DESCRIPTION:1/3 Rychnov n. K. - Pardubice 0:3 (-15\,-21\,-23)
DTSTART;TZID=Europe/Berlin:20220917T100000
DTEND;TZID=Europe/Berlin:20220917T120000
LOCATION:Hala VOŠ a SPŠS\, U Stadionu 1166 Rychnov nad Kněžnou
SUMMARY:2-U18Z-C: Rychnov n. K.-Pardubice
END:VEVENT
BEGIN:VEVENT
UID:37613434-6236-4432-b062-643232386165
DTSTAMP:20260422T165917Z
DESCRIPTION:2/6 Rychnov n. K. - Pardubice 0:3 (-22\,-16\,-18)
DTSTART;TZID=Europe/Berlin:20220917T140000
DTEND;TZID=Europe/Berlin:20220917T160000
LOCATION:Hala VOŠ a SPŠS\, U Stadionu 1166 Rychnov nad Kněžnou
SUMMARY:2-U18Z-C: Rychnov n. K.-Pardubice
END:VEVENT
BEGIN:VEVENT
UID:38656530-3033-4637-b936-356137376664
DTSTAMP:20260422T165917Z
DESCRIPTION:5/14 Rychnov n. K. - Hronov 0:3 (-21\,-16\,-18)
DTSTART;TZID=Europe/Berlin:20221008T110000
DTEND;TZID=Europe/Berlin:20221008T130000
LOCATION:Hala VOŠ a SPŠS\, U Stadionu 1166 Rychnov nad Kněžnou
SUMMARY:2-U18Z-C: Rychnov n. K.-Hronov
END:VEVENT
BEGIN:VEVENT
UID:36363739-6566-4130-a162-313962326366
DTSTAMP:20260422T165917Z
DESCRIPTION:6/17 Rychnov n. K. - Hronov 0:3 (-20\,-16\,-17)
DTSTART;TZID=Europe/Berlin:20221008T150000
DTEND;TZID=Europe/Berlin:20221008T170000
LOCATION:Hala VOŠ a SPŠS\, U Stadionu 1166 Rychnov nad Kněžnou
SUMMARY:2-U18Z-C: Rychnov n. K.-Hronov
END:VEVENT
BEGIN:VEVENT
UID:64666232-3738-4265-a266-633230396234
DTSTAMP:20260422T165917Z
DESCRIPTION:9/25 Rychnov n. K. - Jiskra H. Brod B 0:3 (-11\,-21\,-14)
DTSTART;TZID=Europe/Berlin:20221105T110000
DTEND;TZID=Europe/Berlin:20221105T130000
LOCATION:Hala VOŠ a SPŠS\, U Stadionu 1166 Rychnov nad Kněžnou
SUMMARY:2-U18Z-C: Rychnov n. K.-Jiskra H. Brod B
END:VEVENT
BEGIN:VEVENT
UID:34646330-3464-4037-b466-616439643363
DTSTAMP:20260422T165917Z
DESCRIPTION:10/28 Rychnov n. K. - Jiskra H. Brod B 2:3 (25\,-22\,19\,-12\,-
 11)
DTSTART;TZID=Europe/Berlin:20221105T150000
DTEND;TZID=Europe/Berlin:20221105T170000
LOCATION:Hala VOŠ a SPŠS\, U Stadionu 1166 Rychnov nad Kněžnou
SUMMARY:2-U18Z-C: Rychnov n. K.-Jiskra H. Brod B
END:VEVENT
BEGIN:VEVENT
UID:65633866-6461-4536-a261-303865336535
DTSTAMP:20260422T165917Z
DESCRIPTION:13/38 Rychnov n. K. - Sokol H. Brod 0:3 (-21\,-20\,-11)
DTSTART;TZID=Europe/Berlin:20221203T110000
DTEND;TZID=Europe/Berlin:20221203T130000
LOCATION:Hala VOŠ a SPŠS\, U Stadionu 1166 Rychnov nad Kněžnou
SUMMARY:2-U18Z-C: Rychnov n. K.-Sokol H. Brod
END:VEVENT
BEGIN:VEVENT
UID:30333162-3636-4635-a638-643338343466
DTSTAMP:20260422T165917Z
DESCRIPTION:14/41 Rychnov n. K. - Sokol H. Brod 0:3 (-13\,-9\,-15)
DTSTART;TZID=Europe/Berlin:20221203T150000
DTEND;TZID=Europe/Berlin:20221203T170000
LOCATION:Hala VOŠ a SPŠS\, U Stadionu 1166 Rychnov nad Kněžnou
SUMMARY:2-U18Z-C: Rychnov n. K.-Sokol H. Brod
END:VEVENT
BEGIN:VEVENT
UID:65613836-3131-4862-b834-633038663462
DTSTAMP:20260422T165917Z
DESCRIPTION:17/51 Rychnov n. K. - Bedřichov 0:3 (-20\,-18\,-13)
DTSTART;TZID=Europe/Berlin:20221217T090000
DTEND;TZID=Europe/Berlin:20221217T110000
LOCATION:Hala VOŠ a SPŠS\, U Stadionu 1166 Rychnov nad Kněžnou
SUMMARY:2-U18Z-C: Rychnov n. K.-Bedřichov
END:VEVENT
BEGIN:VEVENT
UID:64623134-3732-4065-a537-356334343734
DTSTAMP:20260422T165917Z
DESCRIPTION:18/54 Rychnov n. K. - Bedřichov 0:3 (-19\,-11\,-18)
DTSTART;TZID=Europe/Berlin:20221217T130000
DTEND;TZID=Europe/Berlin:20221217T150000
LOCATION:Hala VOŠ a SPŠS\, U Stadionu 1166 Rychnov nad Kněžnou
SUMMARY:2-U18Z-C: Rychnov n. K.-Bedřichov
END:VEVENT
BEGIN:VEVENT
UID:37363236-6237-4939-b165-363665333030
DTSTAMP:20260422T165917Z
DESCRIPTION:3/8 Sokol H. Brod - Rychnov n. K. 3:0 (16\,9\,11)
DTSTART;TZID=Europe/Berlin:20221001T100000
DTEND;TZID=Europe/Berlin:20221001T120000
LOCATION:Střední zdravotnická škola Havlíčkův Brod\, Masarykova 2033 Havlíč
 kův Brod
SUMMARY:2-U18Z-C: Sokol H. Brod-Rychnov n. K.
END:VEVENT
BEGIN:VEVENT
UID:61373836-6464-4934-b464-343532636435
DTSTAMP:20260422T165917Z
DESCRIPTION:4/11 Sokol H. Brod - Rychnov n. K. 3:0 (21\,10\,14)
DTSTART;TZID=Europe/Berlin:20221001T140000
DTEND;TZID=Europe/Berlin:20221001T160000
LOCATION:Střední zdravotnická škola Havlíčkův Brod\, Masarykova 2033 Havlíč
 kův Brod
SUMMARY:2-U18Z-C: Sokol H. Brod-Rychnov n. K.
END:VEVENT
BEGIN:VEVENT
UID:30383430-3839-4161-a437-353836336431
DTSTAMP:20260422T165917Z
DESCRIPTION:7/21 Bedřichov - Rychnov n. K. 3:1 (6\,-20\,11\,12)
DTSTART;TZID=Europe/Berlin:20221029T100000
DTEND;TZID=Europe/Berlin:20221029T120000
LOCATION:TJ Sokol Bedřichov\, Jihlava\, Sokolovská 4656 Jihlava
SUMMARY:2-U18Z-C: Bedřichov-Rychnov n. K.
END:VEVENT
BEGIN:VEVENT
UID:38663565-6637-4130-a261-313439353538
DTSTAMP:20260422T165917Z
DESCRIPTION:8/24 Bedřichov - Rychnov n. K. 3:0 (18\,15\,18)
DTSTART;TZID=Europe/Berlin:20221029T140000
DTEND;TZID=Europe/Berlin:20221029T160000
LOCATION:TJ Sokol Bedřichov\, Jihlava\, Sokolovská 4656 Jihlava
SUMMARY:2-U18Z-C: Bedřichov-Rychnov n. K.
END:VEVENT
BEGIN:VEVENT
UID:39373230-6637-4634-b439-666238383432
DTSTAMP:20260422T165917Z
DESCRIPTION:11/33 Pardubice - Rychnov n. K. 3:1 (13\,13\,-16\,23)
DTSTART;TZID=Europe/Berlin:20221112T110000
DTEND;TZID=Europe/Berlin:20221112T130000
LOCATION:Sokolovna\, Jiráskova 29 Pardubice - Zelené Předměstí
SUMMARY:2-U18Z-C: Pardubice-Rychnov n. K.
END:VEVENT
BEGIN:VEVENT
UID:36613766-6337-4333-b666-373266616139
DTSTAMP:20260422T165917Z
DESCRIPTION:12/36 Pardubice - Rychnov n. K. 2:3 (-23\,-20\,13\,23\,-9)
DTSTART;TZID=Europe/Berlin:20221112T150000
DTEND;TZID=Europe/Berlin:20221112T170000
LOCATION:Sokolovna\, Jiráskova 29 Pardubice - Zelené Předměstí
SUMMARY:2-U18Z-C: Pardubice-Rychnov n. K.
END:VEVENT
BEGIN:VEVENT
UID:64326232-3132-4733-b032-643766393862
DTSTAMP:20260422T165917Z
DESCRIPTION:15/44 Hronov - Rychnov n. K. 3:0 (19\,7\,17)
DTSTART;TZID=Europe/Berlin:20221210T090000
DTEND;TZID=Europe/Berlin:20221210T110000
LOCATION:ZŠ Hronov\, Palackého 162 Hronov
SUMMARY:2-U18Z-C: Hronov-Rychnov n. K.
END:VEVENT
BEGIN:VEVENT
UID:38323161-6338-4536-b762-633738303139
DTSTAMP:20260422T165917Z
DESCRIPTION:16/47 Hronov - Rychnov n. K. 3:0 (21\,13\,17)
DTSTART;TZID=Europe/Berlin:20221210T130000
DTEND;TZID=Europe/Berlin:20221210T150000
LOCATION:ZŠ Hronov\, Palackého 162 Hronov
SUMMARY:2-U18Z-C: Hronov-Rychnov n. K.
END:VEVENT
BEGIN:VEVENT
UID:39346564-3335-4962-b164-663234663838
DTSTAMP:20260422T165917Z
DESCRIPTION:19/55 Jiskra H. Brod B - Rychnov n. K. 3:0 (16\,18\,17)
DTSTART;TZID=Europe/Berlin:20230107T103000
DTEND;TZID=Europe/Berlin:20230107T123000
LOCATION:Tělocvična OA a hotelové školy\, Bratříků 851 Havlíčkův Brod
SUMMARY:2-U18Z-C: Jiskra H. Brod B-Rychnov n. K.
END:VEVENT
BEGIN:VEVENT
UID:33333339-3833-4037-b834-306466303364
DTSTAMP:20260422T165917Z
DESCRIPTION:20/58 Jiskra H. Brod B - Rychnov n. K. 3:0 (20\,14\,18)
DTSTART;TZID=Europe/Berlin:20230107T140000
DTEND;TZID=Europe/Berlin:20230107T160000
LOCATION:Tělocvična OA a hotelové školy\, Bratříků 851 Havlíčkův Brod
SUMMARY:2-U18Z-C: Jiskra H. Brod B-Rychnov n. K.
END:VEVENT
BEGIN:VEVENT
UID:63633163-3938-4832-b237-373965336461
DTSTAMP:20260422T165917Z
DESCRIPTION:1/3 Rychnov n. K. - Šlapanice 3:0 (14\,17\,14)
DTSTART;TZID=Europe/Berlin:20230128T110000
DTEND;TZID=Europe/Berlin:20230128T130000
LOCATION:Hala VOŠ a SPŠS\, U Stadionu 1166 Rychnov nad Kněžnou
SUMMARY:2-U18Z-O: Rychnov n. K.-Šlapanice
END:VEVENT
BEGIN:VEVENT
UID:61646236-6565-4438-b730-383338656431
DTSTAMP:20260422T165917Z
DESCRIPTION:2/6 Rychnov n. K. - Šlapanice 3:1 (14\,-19\,13\,26)
DTSTART;TZID=Europe/Berlin:20230128T150000
DTEND;TZID=Europe/Berlin:20230128T170000
LOCATION:Hala VOŠ a SPŠS\, U Stadionu 1166 Rychnov nad Kněžnou
SUMMARY:2-U18Z-O: Rychnov n. K.-Šlapanice
END:VEVENT
BEGIN:VEVENT
UID:61656430-6364-4762-b363-613430626137
DTSTAMP:20260422T165917Z
DESCRIPTION:5/15 Rychnov n. K. - Frenštát p. R. 3:0 (24\,18\,21)
DTSTART;TZID=Europe/Berlin:20230211T100000
DTEND;TZID=Europe/Berlin:20230211T120000
LOCATION:Hala VOŠ a SPŠS\, U Stadionu 1166 Rychnov nad Kněžnou
SUMMARY:2-U18Z-O: Rychnov n. K.-Frenštát p. R.
END:VEVENT
BEGIN:VEVENT
UID:30653661-3935-4439-b761-656630616661
DTSTAMP:20260422T165917Z
DESCRIPTION:6/18 Rychnov n. K. - Frenštát p. R. 3:0 (19\,22\,19)
DTSTART;TZID=Europe/Berlin:20230211T140000
DTEND;TZID=Europe/Berlin:20230211T160000
LOCATION:Hala VOŠ a SPŠS\, U Stadionu 1166 Rychnov nad Kněžnou
SUMMARY:2-U18Z-O: Rychnov n. K.-Frenštát p. R.
END:VEVENT
BEGIN:VEVENT
UID:65623337-3734-4035-b338-323865643664
DTSTAMP:20260422T165917Z
DESCRIPTION:9/27 Rychnov n. K. - Ostrava C 3:0 (19\,22\,13)
DTSTART;TZID=Europe/Berlin:20230311T110000
DTEND;TZID=Europe/Berlin:20230311T130000
LOCATION:Hala VOŠ a SPŠS\, U Stadionu 1166 Rychnov nad Kněžnou
SUMMARY:2-U18Z-O: Rychnov n. K.-Ostrava C
END:VEVENT
BEGIN:VEVENT
UID:36616337-3931-4065-a132-373163636537
DTSTAMP:20260422T165917Z
DESCRIPTION:10/30 Rychnov n. K. - Ostrava C 3:0 (15\,24\,17)
DTSTART;TZID=Europe/Berlin:20230311T150000
DTEND;TZID=Europe/Berlin:20230311T170000
LOCATION:Hala VOŠ a SPŠS\, U Stadionu 1166 Rychnov nad Kněžnou
SUMMARY:2-U18Z-O: Rychnov n. K.-Ostrava C
END:VEVENT
BEGIN:VEVENT
UID:36623063-6233-4636-a238-343466633332
DTSTAMP:20260422T165917Z
DESCRIPTION:3/9 Ostrava C - Rychnov n. K. 0:3 (-26\,-12\,-18)
DTSTART;TZID=Europe/Berlin:20230204T120000
DTEND;TZID=Europe/Berlin:20230204T140000
LOCATION:Tělocvična ZŠ Gen. Píky \, Gen. Píky 2975 Ostrava - Moravská Ostra
 va
SUMMARY:2-U18Z-O: Ostrava C-Rychnov n. K.
END:VEVENT
BEGIN:VEVENT
UID:39373336-6231-4530-a436-353764396464
DTSTAMP:20260422T165917Z
DESCRIPTION:4/12 Ostrava C - Rychnov n. K. 1:3 (16\,-19\,-8\,-12)
DTSTART;TZID=Europe/Berlin:20230204T160000
DTEND;TZID=Europe/Berlin:20230204T180000
LOCATION:Tělocvična ZŠ Gen. Píky \, Gen. Píky 2975 Ostrava - Moravská Ostra
 va
SUMMARY:2-U18Z-O: Ostrava C-Rychnov n. K.
END:VEVENT
BEGIN:VEVENT
UID:63633063-6231-4163-b461-333536663764
DTSTAMP:20260422T165917Z
DESCRIPTION:7/21 Šlapanice - Rychnov n. K. 2:3 (21\,-22\,11\,-19\,-11)
DTSTART;TZID=Europe/Berlin:20230304T100000
DTEND;TZID=Europe/Berlin:20230304T120000
LOCATION:Tělocvična ZŠ Šlapanice\, Masarykovo náměstí 1594 Šlapanice
SUMMARY:2-U18Z-O: Šlapanice-Rychnov n. K.
END:VEVENT
BEGIN:VEVENT
UID:33656632-3938-4131-b037-313566623939
DTSTAMP:20260422T165917Z
DESCRIPTION:8/24 Šlapanice - Rychnov n. K. 3:0 (21\,17\,8)
DTSTART;TZID=Europe/Berlin:20230304T140000
DTEND;TZID=Europe/Berlin:20230304T160000
LOCATION:Tělocvična ZŠ Šlapanice\, Masarykovo náměstí 1594 Šlapanice
SUMMARY:2-U18Z-O: Šlapanice-Rychnov n. K.
END:VEVENT
BEGIN:VEVENT
UID:61313339-3034-4262-b936-393535613163
DTSTAMP:20260422T165917Z
DESCRIPTION:11/33 Frenštát p. R. - Rychnov n. K. 1:3 (-23\,21\,-21\,-7)
DTSTART;TZID=Europe/Berlin:20230402T100000
DTEND;TZID=Europe/Berlin:20230402T120000
LOCATION:Tělocvična ZŠ Tyršova\, Frenštát\, Tyršova 913 Frenštát pod Radhoš
 těm
SUMMARY:2-U18Z-O: Frenštát p. R.-Rychnov n. K.
END:VEVENT
BEGIN:VEVENT
UID:34393161-6634-4638-a662-383863666333
DTSTAMP:20260422T165917Z
DESCRIPTION:12/36 Frenštát p. R. - Rychnov n. K. 3:2 (22\,21\,-15\,-21\,10)
DTSTART;TZID=Europe/Berlin:20230402T140000
DTEND;TZID=Europe/Berlin:20230402T160000
LOCATION:Tělocvična ZŠ Tyršova\, Frenštát\, Tyršova 913 Frenštát pod Radhoš
 těm
SUMMARY:2-U18Z-O: Frenštát p. R.-Rychnov n. K.
END:VEVENT
END:VCALENDAR
