BEGIN:VCALENDAR
VERSION:2.0
PRODID:-//Volejbal Ústí nad Labem79312//NONSGML kigkonsult.se iCalcreator 2.41.80//
CALSCALE:GREGORIAN
UID:61613361-6162-4832-a639-353864643666
BEGIN:VEVENT
UID:38346236-3634-4334-b565-363339613763
DTSTAMP:20260422T052757Z
DESCRIPTION:3/7 Volejbal Ústí n. L. - Jirkov 3:0 (12\,23\,25)
DTSTART;TZID=Europe/Berlin:20221001T100000
DTEND;TZID=Europe/Berlin:20221001T120000
LOCATION:Gymnázium dr. Václava Šmejkala\, Ústí nad Labem\, Stavbařů 2857 Ús
 tí nad Labem - Severní Terasa
SUMMARY:2-U18Z-A: Volejbal Ústí n. L.-Jirkov
END:VEVENT
BEGIN:VEVENT
UID:65393936-6261-4536-a239-316264383836
DTSTAMP:20260422T052757Z
DESCRIPTION:4/10 Volejbal Ústí n. L. - Jirkov 3:1 (13\,28\,-23\,20)
DTSTART;TZID=Europe/Berlin:20221001T140000
DTEND;TZID=Europe/Berlin:20221001T160000
LOCATION:Gymnázium dr. Václava Šmejkala\, Ústí nad Labem\, Stavbařů 2857 Ús
 tí nad Labem - Severní Terasa
SUMMARY:2-U18Z-A: Volejbal Ústí n. L.-Jirkov
END:VEVENT
BEGIN:VEVENT
UID:33366566-3361-4566-b662-376232323433
DTSTAMP:20260422T052757Z
DESCRIPTION:7/19 Volejbal Ústí n. L. - Sokolov 3:0 (11\,9\,15)
DTSTART;TZID=Europe/Berlin:20221029T100000
DTEND;TZID=Europe/Berlin:20221029T120000
LOCATION:Gymnázium dr. Václava Šmejkala\, Ústí nad Labem\, Stavbařů 2857 Ús
 tí nad Labem - Severní Terasa
SUMMARY:2-U18Z-A: Volejbal Ústí n. L.-Sokolov
END:VEVENT
BEGIN:VEVENT
UID:35393336-3363-4338-a661-396339666438
DTSTAMP:20260422T052757Z
DESCRIPTION:8/22 Volejbal Ústí n. L. - Sokolov 3:0 (20\,12\,6)
DTSTART;TZID=Europe/Berlin:20221029T140000
DTEND;TZID=Europe/Berlin:20221029T160000
LOCATION:Gymnázium dr. Václava Šmejkala\, Ústí nad Labem\, Stavbařů 2857 Ús
 tí nad Labem - Severní Terasa
SUMMARY:2-U18Z-A: Volejbal Ústí n. L.-Sokolov
END:VEVENT
BEGIN:VEVENT
UID:33373961-3836-4834-b433-343465626665
DTSTAMP:20260422T052757Z
DESCRIPTION:11/31 Volejbal Ústí n. L. - Teplice 3:0 (15\,11\,12)
DTSTART;TZID=Europe/Berlin:20221112T100000
DTEND;TZID=Europe/Berlin:20221112T120000
LOCATION:Gymnázium dr. Václava Šmejkala\, Ústí nad Labem\, Stavbařů 2857 Ús
 tí nad Labem - Severní Terasa
SUMMARY:2-U18Z-A: Volejbal Ústí n. L.-Teplice
END:VEVENT
BEGIN:VEVENT
UID:32626435-6333-4761-a539-396664393965
DTSTAMP:20260422T052757Z
DESCRIPTION:12/34 Volejbal Ústí n. L. - Teplice 3:0 (14\,17\,11)
DTSTART;TZID=Europe/Berlin:20221112T140000
DTEND;TZID=Europe/Berlin:20221112T160000
LOCATION:Gymnázium dr. Václava Šmejkala\, Ústí nad Labem\, Stavbařů 2857 Ús
 tí nad Labem - Severní Terasa
SUMMARY:2-U18Z-A: Volejbal Ústí n. L.-Teplice
END:VEVENT
BEGIN:VEVENT
UID:63343931-3234-4037-b830-656238663065
DTSTAMP:20260422T052757Z
DESCRIPTION:15/43 Volejbal Ústí n. L. - SKV Ústí n. L. 3:0 (16\,8\,14)
DTSTART;TZID=Europe/Berlin:20221210T110000
DTEND;TZID=Europe/Berlin:20221210T130000
LOCATION:Gymnázium dr. Václava Šmejkala\, Ústí nad Labem\, Stavbařů 2857 Ús
 tí nad Labem - Severní Terasa
SUMMARY:2-U18Z-A: Volejbal Ústí n. L.-SKV Ústí n. L.
END:VEVENT
BEGIN:VEVENT
UID:30353964-3463-4236-b330-623430343432
DTSTAMP:20260422T052757Z
DESCRIPTION:16/46 Volejbal Ústí n. L. - SKV Ústí n. L. 3:0 (24\,19\,14)
DTSTART;TZID=Europe/Berlin:20221210T150000
DTEND;TZID=Europe/Berlin:20221210T170000
LOCATION:Gymnázium dr. Václava Šmejkala\, Ústí nad Labem\, Stavbařů 2857 Ús
 tí nad Labem - Severní Terasa
SUMMARY:2-U18Z-A: Volejbal Ústí n. L.-SKV Ústí n. L.
END:VEVENT
BEGIN:VEVENT
UID:32663639-6136-4537-a436-373562663563
DTSTAMP:20260422T052757Z
DESCRIPTION:19/55 Volejbal Ústí n. L. - Chodov 3:0 (10\,12\,9)
DTSTART;TZID=Europe/Berlin:20221105T110000
DTEND;TZID=Europe/Berlin:20221105T130000
LOCATION:Gymnázium dr. Václava Šmejkala\, Ústí nad Labem\, Stavbařů 2857 Ús
 tí nad Labem - Severní Terasa
SUMMARY:2-U18Z-A: Volejbal Ústí n. L.-Chodov
END:VEVENT
BEGIN:VEVENT
UID:37633030-3566-4137-b836-383036393639
DTSTAMP:20260422T052757Z
DESCRIPTION:20/58 Volejbal Ústí n. L. - Chodov 3:0 (21\,14\,15)
DTSTART;TZID=Europe/Berlin:20221105T150000
DTEND;TZID=Europe/Berlin:20221105T170000
LOCATION:Gymnázium dr. Václava Šmejkala\, Ústí nad Labem\, Stavbařů 2857 Ús
 tí nad Labem - Severní Terasa
SUMMARY:2-U18Z-A: Volejbal Ústí n. L.-Chodov
END:VEVENT
BEGIN:VEVENT
UID:65393966-6134-4630-a331-616436646438
DTSTAMP:20260422T052757Z
DESCRIPTION:1/1 Teplice - Volejbal Ústí n. L. 0:3 (-16\,-21\,-15)
DTSTART;TZID=Europe/Berlin:20220917T100000
DTEND;TZID=Europe/Berlin:20220917T120000
LOCATION:Hotelová škola\, Smetanovo náměstí 786 Teplice - Trnovany
SUMMARY:2-U18Z-A: Teplice-Volejbal Ústí n. L.
END:VEVENT
BEGIN:VEVENT
UID:39623834-6437-4531-b562-616536336538
DTSTAMP:20260422T052757Z
DESCRIPTION:2/4 Teplice - Volejbal Ústí n. L. 0:3 (-18\,-22\,-15)
DTSTART;TZID=Europe/Berlin:20220917T140000
DTEND;TZID=Europe/Berlin:20220917T160000
LOCATION:Hotelová škola\, Smetanovo náměstí 786 Teplice - Trnovany
SUMMARY:2-U18Z-A: Teplice-Volejbal Ústí n. L.
END:VEVENT
BEGIN:VEVENT
UID:61333838-3161-4966-a233-613036373631
DTSTAMP:20260422T052757Z
DESCRIPTION:5/13 SKV Ústí n. L. - Volejbal Ústí n. L. 1:3 (-18\,19\,-16\,-1
 4)
DTSTART;TZID=Europe/Berlin:20221008T100000
DTEND;TZID=Europe/Berlin:20221008T120000
LOCATION:Střední průmyslová škola strojní a elektro\, Resslova 210 Ústí nad
  Labem - Klíše
SUMMARY:2-U18Z-A: SKV Ústí n. L.-Volejbal Ústí n. L.
END:VEVENT
BEGIN:VEVENT
UID:38306232-3534-4233-a230-663766356238
DTSTAMP:20260422T052757Z
DESCRIPTION:6/16 SKV Ústí n. L. - Volejbal Ústí n. L. 0:3 (-15\,-18\,-9)
DTSTART;TZID=Europe/Berlin:20221008T140000
DTEND;TZID=Europe/Berlin:20221008T160000
LOCATION:Střední průmyslová škola strojní a elektro\, Resslova 210 Ústí nad
  Labem - Klíše
SUMMARY:2-U18Z-A: SKV Ústí n. L.-Volejbal Ústí n. L.
END:VEVENT
BEGIN:VEVENT
UID:63613463-6239-4461-b866-383962633232
DTSTAMP:20260422T052757Z
DESCRIPTION:9/25 Chodov - Volejbal Ústí n. L. 1:3 (23\,-20\,-21\,-24)
DTSTART;TZID=Europe/Berlin:20230114T100000
DTEND;TZID=Europe/Berlin:20230114T120000
LOCATION:Městská sportovní hala Chodov\, Tyršova 1201 Chodov
SUMMARY:2-U18Z-A: Chodov-Volejbal Ústí n. L.
END:VEVENT
BEGIN:VEVENT
UID:30636265-6430-4431-a662-393263393065
DTSTAMP:20260422T052757Z
DESCRIPTION:10/28 Chodov - Volejbal Ústí n. L. 1:3 (-16\,-16\,18\,-21)
DTSTART;TZID=Europe/Berlin:20230114T140000
DTEND;TZID=Europe/Berlin:20230114T160000
LOCATION:Městská sportovní hala Chodov\, Tyršova 1201 Chodov
SUMMARY:2-U18Z-A: Chodov-Volejbal Ústí n. L.
END:VEVENT
BEGIN:VEVENT
UID:39396535-6234-4463-b635-303434356533
DTSTAMP:20260422T052757Z
DESCRIPTION:13/37 Jirkov - Volejbal Ústí n. L. 0:3 (-22\,-15\,-19)
DTSTART;TZID=Europe/Berlin:20221203T090000
DTEND;TZID=Europe/Berlin:20221203T110000
LOCATION:Sportovní hala MG a ZŠ Jirkov\, Krušnohorská 1675 Jirkov
SUMMARY:2-U18Z-A: Jirkov-Volejbal Ústí n. L.
END:VEVENT
BEGIN:VEVENT
UID:38313436-3064-4166-b230-343536393533
DTSTAMP:20260422T052757Z
DESCRIPTION:14/40 Jirkov - Volejbal Ústí n. L. 0:3 (-14\,-18\,-19)
DTSTART;TZID=Europe/Berlin:20221203T130000
DTEND;TZID=Europe/Berlin:20221203T150000
LOCATION:Sportovní hala MG a ZŠ Jirkov\, Krušnohorská 1675 Jirkov
SUMMARY:2-U18Z-A: Jirkov-Volejbal Ústí n. L.
END:VEVENT
BEGIN:VEVENT
UID:63646366-3235-4532-b462-366263306161
DTSTAMP:20260422T052757Z
DESCRIPTION:17/49 Sokolov - Volejbal Ústí n. L. 0:3 (-11\,-14\,-15)
DTSTART;TZID=Europe/Berlin:20221217T090000
DTEND;TZID=Europe/Berlin:20221217T110000
LOCATION:Jiskra\, Maxima Gorkého 280 Sokolov
SUMMARY:2-U18Z-A: Sokolov-Volejbal Ústí n. L.
END:VEVENT
BEGIN:VEVENT
UID:62323433-6231-4634-b038-666537356361
DTSTAMP:20260422T052757Z
DESCRIPTION:18/52 Sokolov - Volejbal Ústí n. L. 0:3 (-14\,-19\,-7)
DTSTART;TZID=Europe/Berlin:20221217T130000
DTEND;TZID=Europe/Berlin:20221217T150000
LOCATION:Jiskra\, Maxima Gorkého 280 Sokolov
SUMMARY:2-U18Z-A: Sokolov-Volejbal Ústí n. L.
END:VEVENT
BEGIN:VEVENT
UID:35653939-6665-4866-b638-636363613063
DTSTAMP:20260422T052757Z
DESCRIPTION:1/1 Volejbal Ústí n. L. - Meteor 3:1 (16\,-21\,19\,17)
DTSTART;TZID=Europe/Berlin:20230128T110000
DTEND;TZID=Europe/Berlin:20230128T130000
LOCATION:Gymnázium dr. Václava Šmejkala\, Ústí nad Labem\, Stavbařů 2857 Ús
 tí nad Labem - Severní Terasa
SUMMARY:2-U18Z-I: Volejbal Ústí n. L.-Meteor
END:VEVENT
BEGIN:VEVENT
UID:31346363-3939-4531-a233-366166313166
DTSTAMP:20260422T052757Z
DESCRIPTION:2/4 Volejbal Ústí n. L. - Meteor 3:1 (13\,-21\,13\,16)
DTSTART;TZID=Europe/Berlin:20230128T150000
DTEND;TZID=Europe/Berlin:20230128T170000
LOCATION:Gymnázium dr. Václava Šmejkala\, Ústí nad Labem\, Stavbařů 2857 Ús
 tí nad Labem - Severní Terasa
SUMMARY:2-U18Z-I: Volejbal Ústí n. L.-Meteor
END:VEVENT
BEGIN:VEVENT
UID:36336433-6335-4734-b339-653139656639
DTSTAMP:20260422T052757Z
DESCRIPTION:5/13 Volejbal Ústí n. L. - Lvi 3:0 (14\,16\,16)
DTSTART;TZID=Europe/Berlin:20230211T100000
DTEND;TZID=Europe/Berlin:20230211T120000
LOCATION:Gymnázium dr. Václava Šmejkala\, Ústí nad Labem\, Stavbařů 2857 Ús
 tí nad Labem - Severní Terasa
SUMMARY:2-U18Z-I: Volejbal Ústí n. L.-Lvi
END:VEVENT
BEGIN:VEVENT
UID:61303361-3237-4133-b866-353233373932
DTSTAMP:20260422T052757Z
DESCRIPTION:6/16 Volejbal Ústí n. L. - Lvi 3:2 (21\,-19\,-22\,18\,16)
DTSTART;TZID=Europe/Berlin:20230211T140000
DTEND;TZID=Europe/Berlin:20230211T160000
LOCATION:Gymnázium dr. Václava Šmejkala\, Ústí nad Labem\, Stavbařů 2857 Ús
 tí nad Labem - Severní Terasa
SUMMARY:2-U18Z-I: Volejbal Ústí n. L.-Lvi
END:VEVENT
BEGIN:VEVENT
UID:66666233-6634-4638-b637-333438316464
DTSTAMP:20260422T052757Z
DESCRIPTION:9/25 Volejbal Ústí n. L. - Nymburk 3:0 (22\,21\,21)
DTSTART;TZID=Europe/Berlin:20230311T100000
DTEND;TZID=Europe/Berlin:20230311T120000
LOCATION:Gymnázium dr. Václava Šmejkala\, Ústí nad Labem\, Stavbařů 2857 Ús
 tí nad Labem - Severní Terasa
SUMMARY:2-U18Z-I: Volejbal Ústí n. L.-Nymburk
END:VEVENT
BEGIN:VEVENT
UID:61396534-3834-4839-b733-396535313833
DTSTAMP:20260422T052757Z
DESCRIPTION:10/28 Volejbal Ústí n. L. - Nymburk 3:0 (20\,20\,21)
DTSTART;TZID=Europe/Berlin:20230311T140000
DTEND;TZID=Europe/Berlin:20230311T160000
LOCATION:Gymnázium dr. Václava Šmejkala\, Ústí nad Labem\, Stavbařů 2857 Ús
 tí nad Labem - Severní Terasa
SUMMARY:2-U18Z-I: Volejbal Ústí n. L.-Nymburk
END:VEVENT
BEGIN:VEVENT
UID:63666664-3962-4538-a265-393336633538
DTSTAMP:20260422T052757Z
DESCRIPTION:3/7 Nymburk - Volejbal Ústí n. L. 1:3 (22\,-16\,-24\,-15)
DTSTART;TZID=Europe/Berlin:20230204T110000
DTEND;TZID=Europe/Berlin:20230204T130000
LOCATION:Zimní stadion\, U Stadionu 12 Nymburk
SUMMARY:2-U18Z-I: Nymburk-Volejbal Ústí n. L.
END:VEVENT
BEGIN:VEVENT
UID:34333466-6263-4366-b963-626632303566
DTSTAMP:20260422T052757Z
DESCRIPTION:4/10 Nymburk - Volejbal Ústí n. L. 0:3 (-19\,-22\,-20)
DTSTART;TZID=Europe/Berlin:20230204T150000
DTEND;TZID=Europe/Berlin:20230204T170000
LOCATION:Zimní stadion\, U Stadionu 12 Nymburk
SUMMARY:2-U18Z-I: Nymburk-Volejbal Ústí n. L.
END:VEVENT
BEGIN:VEVENT
UID:38313730-6661-4166-b234-313035373864
DTSTAMP:20260422T052757Z
DESCRIPTION:7/19 Meteor - Volejbal Ústí n. L. 3:2 (23\,-21\,-20\,25\,8)
DTSTART;TZID=Europe/Berlin:20230304T100000
DTEND;TZID=Europe/Berlin:20230304T120000
LOCATION:ZŠ Žernosecká\, Žernosecká 1597 Praha - Kobylisy
SUMMARY:2-U18Z-I: Meteor-Volejbal Ústí n. L.
END:VEVENT
BEGIN:VEVENT
UID:63353736-3566-4134-b230-616338316331
DTSTAMP:20260422T052757Z
DESCRIPTION:8/22 Meteor - Volejbal Ústí n. L. 0:3 (-19\,-21\,-24)
DTSTART;TZID=Europe/Berlin:20230304T140000
DTEND;TZID=Europe/Berlin:20230304T160000
LOCATION:ZŠ Žernosecká\, Žernosecká 1597 Praha - Kobylisy
SUMMARY:2-U18Z-I: Meteor-Volejbal Ústí n. L.
END:VEVENT
BEGIN:VEVENT
UID:61323935-3133-4033-b965-316535393562
DTSTAMP:20260422T052757Z
DESCRIPTION:11/31 Lvi - Volejbal Ústí n. L. 3:0 (14\,23\,24)
DTSTART;TZID=Europe/Berlin:20230401T100000
DTEND;TZID=Europe/Berlin:20230401T120000
LOCATION:ZŠ Balabenka\, náměstí Na Balabence 800 Praha - Libeň
SUMMARY:2-U18Z-I: Lvi-Volejbal Ústí n. L.
END:VEVENT
BEGIN:VEVENT
UID:37323634-6532-4035-a264-376566643434
DTSTAMP:20260422T052757Z
DESCRIPTION:12/34 Lvi - Volejbal Ústí n. L. 3:0 (10\,23\,19)
DTSTART;TZID=Europe/Berlin:20230401T140000
DTEND;TZID=Europe/Berlin:20230401T160000
LOCATION:ZŠ Balabenka\, náměstí Na Balabence 800 Praha - Libeň
SUMMARY:2-U18Z-I: Lvi-Volejbal Ústí n. L.
END:VEVENT
BEGIN:VEVENT
UID:65396166-6364-4530-b961-313331643831
DTSTAMP:20260422T052757Z
DESCRIPTION:1/2 Kr. Pole B - Volejbal Ústí n. L. 0:3 (-19\,-18\,-27)\nZlatý
  set: 15:10
DTSTART;TZID=Europe/Berlin:20230415T170000
DTEND;TZID=Europe/Berlin:20230415T190000
LOCATION:ZŠ Milénova 14\, Milénova 808 Brno - Lesná
SUMMARY:1-U18Z-KI: Kr. Pole B-Volejbal Ústí n. L.
END:VEVENT
BEGIN:VEVENT
UID:33333532-3138-4666-a439-356131643765
DTSTAMP:20260422T052757Z
DESCRIPTION:2/4 Kr. Pole B - Volejbal Ústí n. L. 3:0 (17\,28\,19)
DTSTART;TZID=Europe/Berlin:20230415T140000
DTEND;TZID=Europe/Berlin:20230415T160000
LOCATION:ZŠ Milénova 14\, Milénova 808 Brno - Lesná
SUMMARY:1-U18Z-KI: Kr. Pole B-Volejbal Ústí n. L.
END:VEVENT
END:VCALENDAR
