BEGIN:VCALENDAR
VERSION:2.0
PRODID:-//VK Šanov Teplice79319//NONSGML kigkonsult.se iCalcreator 2.41.80//
CALSCALE:GREGORIAN
UID:34376363-6261-4736-a534-666566393130
BEGIN:VEVENT
UID:62356234-3362-4332-b666-313030623937
DTSTAMP:20260422T235649Z
DESCRIPTION:1/1 Teplice - Volejbal Ústí n. L. 0:3 (-16\,-21\,-15)
DTSTART;TZID=Europe/Berlin:20220917T100000
DTEND;TZID=Europe/Berlin:20220917T120000
LOCATION:Hotelová škola\, Smetanovo náměstí 786 Teplice - Trnovany
SUMMARY:2-U18Z-A: Teplice-Volejbal Ústí n. L.
END:VEVENT
BEGIN:VEVENT
UID:39383633-3838-4736-a138-393135343332
DTSTAMP:20260422T235649Z
DESCRIPTION:2/4 Teplice - Volejbal Ústí n. L. 0:3 (-18\,-22\,-15)
DTSTART;TZID=Europe/Berlin:20220917T140000
DTEND;TZID=Europe/Berlin:20220917T160000
LOCATION:Hotelová škola\, Smetanovo náměstí 786 Teplice - Trnovany
SUMMARY:2-U18Z-A: Teplice-Volejbal Ústí n. L.
END:VEVENT
BEGIN:VEVENT
UID:37393931-3765-4865-b530-363830353535
DTSTAMP:20260422T235649Z
DESCRIPTION:3/9 Teplice - SKV Ústí n. L. 0:3 (-12\,-21\,-18)
DTSTART;TZID=Europe/Berlin:20221001T090000
DTEND;TZID=Europe/Berlin:20221001T110000
LOCATION:Hotelová škola\, Smetanovo náměstí 786 Teplice - Trnovany
SUMMARY:2-U18Z-A: Teplice-SKV Ústí n. L.
END:VEVENT
BEGIN:VEVENT
UID:65303033-3563-4866-a564-343735616236
DTSTAMP:20260422T235649Z
DESCRIPTION:4/12 Teplice - SKV Ústí n. L. 0:3 (-11\,-17\,-10)
DTSTART;TZID=Europe/Berlin:20221001T130000
DTEND;TZID=Europe/Berlin:20221001T150000
LOCATION:Hotelová škola\, Smetanovo náměstí 786 Teplice - Trnovany
SUMMARY:2-U18Z-A: Teplice-SKV Ústí n. L.
END:VEVENT
BEGIN:VEVENT
UID:38646161-3233-4131-b835-343830656334
DTSTAMP:20260422T235649Z
DESCRIPTION:7/20 Teplice - Jirkov 1:3 (-29\,-19\,23\,-15)
DTSTART;TZID=Europe/Berlin:20220924T100000
DTEND;TZID=Europe/Berlin:20220924T120000
LOCATION:Hotelová škola\, Smetanovo náměstí 786 Teplice - Trnovany
SUMMARY:2-U18Z-A: Teplice-Jirkov
END:VEVENT
BEGIN:VEVENT
UID:33613533-3435-4864-a433-656134613461
DTSTAMP:20260422T235649Z
DESCRIPTION:8/23 Teplice - Jirkov 1:3 (-21\,23\,-28\,-13)
DTSTART;TZID=Europe/Berlin:20220924T140000
DTEND;TZID=Europe/Berlin:20220924T160000
LOCATION:Hotelová škola\, Smetanovo náměstí 786 Teplice - Trnovany
SUMMARY:2-U18Z-A: Teplice-Jirkov
END:VEVENT
BEGIN:VEVENT
UID:36663233-3835-4164-a232-636135613865
DTSTAMP:20260422T235649Z
DESCRIPTION:15/44 Teplice - Chodov 1:3 (-14\,-18\,16\,-16)
DTSTART;TZID=Europe/Berlin:20221210T090000
DTEND;TZID=Europe/Berlin:20221210T110000
LOCATION:Hotelová škola\, Smetanovo náměstí 786 Teplice - Trnovany
SUMMARY:2-U18Z-A: Teplice-Chodov
END:VEVENT
BEGIN:VEVENT
UID:30663266-3230-4461-a435-653165613036
DTSTAMP:20260422T235649Z
DESCRIPTION:16/47 Teplice - Chodov 0:3 (-16\,-11\,-18)
DTSTART;TZID=Europe/Berlin:20221210T130000
DTEND;TZID=Europe/Berlin:20221210T150000
LOCATION:Hotelová škola\, Smetanovo náměstí 786 Teplice - Trnovany
SUMMARY:2-U18Z-A: Teplice-Chodov
END:VEVENT
BEGIN:VEVENT
UID:66613336-3938-4239-a236-616432393461
DTSTAMP:20260422T235649Z
DESCRIPTION:19/57 Teplice - Sokolov 1:3 (-16\,23\,-12\,-19)
DTSTART;TZID=Europe/Berlin:20230114T110000
DTEND;TZID=Europe/Berlin:20230114T130000
LOCATION:Hotelová škola\, Smetanovo náměstí 786 Teplice - Trnovany
SUMMARY:2-U18Z-A: Teplice-Sokolov
END:VEVENT
BEGIN:VEVENT
UID:66333438-6130-4863-b936-626461623461
DTSTAMP:20260422T235649Z
DESCRIPTION:20/60 Teplice - Sokolov 0:3 (-19\,-20\,-15)
DTSTART;TZID=Europe/Berlin:20230114T150000
DTEND;TZID=Europe/Berlin:20230114T170000
LOCATION:Hotelová škola\, Smetanovo náměstí 786 Teplice - Trnovany
SUMMARY:2-U18Z-A: Teplice-Sokolov
END:VEVENT
BEGIN:VEVENT
UID:38306638-3132-4663-a232-633236316430
DTSTAMP:20260422T235649Z
DESCRIPTION:5/14 Chodov - Teplice 3:0 (17\,15\,21)
DTSTART;TZID=Europe/Berlin:20221008T100000
DTEND;TZID=Europe/Berlin:20221008T120000
LOCATION:Městská sportovní hala Chodov\, Tyršova 1201 Chodov
SUMMARY:2-U18Z-A: Chodov-Teplice
END:VEVENT
BEGIN:VEVENT
UID:31343564-3564-4033-b534-616138393131
DTSTAMP:20260422T235649Z
DESCRIPTION:6/17 Chodov - Teplice 3:0 (22\,15\,16)
DTSTART;TZID=Europe/Berlin:20221008T140000
DTEND;TZID=Europe/Berlin:20221008T160000
LOCATION:Městská sportovní hala Chodov\, Tyršova 1201 Chodov
SUMMARY:2-U18Z-A: Chodov-Teplice
END:VEVENT
BEGIN:VEVENT
UID:32326335-6566-4163-b134-343234316364
DTSTAMP:20260422T235649Z
DESCRIPTION:9/27 Sokolov - Teplice 3:0 (9\,14\,10)
DTSTART;TZID=Europe/Berlin:20221105T100000
DTEND;TZID=Europe/Berlin:20221105T120000
LOCATION:Jiskra\, Maxima Gorkého 280 Sokolov
SUMMARY:2-U18Z-A: Sokolov-Teplice
END:VEVENT
BEGIN:VEVENT
UID:34366232-6131-4365-a432-646364623034
DTSTAMP:20260422T235649Z
DESCRIPTION:10/30 Sokolov - Teplice 3:1 (-22\,8\,13\,19)
DTSTART;TZID=Europe/Berlin:20221105T140000
DTEND;TZID=Europe/Berlin:20221105T160000
LOCATION:Jiskra\, Maxima Gorkého 280 Sokolov
SUMMARY:2-U18Z-A: Sokolov-Teplice
END:VEVENT
BEGIN:VEVENT
UID:61653431-6133-4539-a234-623637393739
DTSTAMP:20260422T235649Z
DESCRIPTION:11/31 Volejbal Ústí n. L. - Teplice 3:0 (15\,11\,12)
DTSTART;TZID=Europe/Berlin:20221112T100000
DTEND;TZID=Europe/Berlin:20221112T120000
LOCATION:Gymnázium dr. Václava Šmejkala\, Ústí nad Labem\, Stavbařů 2857 Ús
 tí nad Labem - Severní Terasa
SUMMARY:2-U18Z-A: Volejbal Ústí n. L.-Teplice
END:VEVENT
BEGIN:VEVENT
UID:37386662-3833-4366-b133-356164363361
DTSTAMP:20260422T235649Z
DESCRIPTION:12/34 Volejbal Ústí n. L. - Teplice 3:0 (14\,17\,11)
DTSTART;TZID=Europe/Berlin:20221112T140000
DTEND;TZID=Europe/Berlin:20221112T160000
LOCATION:Gymnázium dr. Václava Šmejkala\, Ústí nad Labem\, Stavbařů 2857 Ús
 tí nad Labem - Severní Terasa
SUMMARY:2-U18Z-A: Volejbal Ústí n. L.-Teplice
END:VEVENT
BEGIN:VEVENT
UID:63383363-6335-4562-b565-626533636666
DTSTAMP:20260422T235649Z
DESCRIPTION:13/39 SKV Ústí n. L. - Teplice 3:0 (12\,21\,20)
DTSTART;TZID=Europe/Berlin:20221126T100000
DTEND;TZID=Europe/Berlin:20221126T120000
LOCATION:Střední průmyslová škola strojní a elektro\, Resslova 210 Ústí nad
  Labem - Klíše
SUMMARY:2-U18Z-A: SKV Ústí n. L.-Teplice
END:VEVENT
BEGIN:VEVENT
UID:65363735-3163-4539-b463-353533613430
DTSTAMP:20260422T235649Z
DESCRIPTION:14/42 SKV Ústí n. L. - Teplice 3:0 (12\,7\,15)
DTSTART;TZID=Europe/Berlin:20221126T140000
DTEND;TZID=Europe/Berlin:20221126T160000
LOCATION:Střední průmyslová škola strojní a elektro\, Resslova 210 Ústí nad
  Labem - Klíše
SUMMARY:2-U18Z-A: SKV Ústí n. L.-Teplice
END:VEVENT
BEGIN:VEVENT
UID:32356663-3634-4361-a665-373566656366
DTSTAMP:20260422T235649Z
DESCRIPTION:17/50 Jirkov - Teplice 3:0 (16\,18\,9)
DTSTART;TZID=Europe/Berlin:20221217T100000
DTEND;TZID=Europe/Berlin:20221217T120000
LOCATION:Sportovní hala MG a ZŠ Jirkov\, Krušnohorská 1675 Jirkov
SUMMARY:2-U18Z-A: Jirkov-Teplice
END:VEVENT
BEGIN:VEVENT
UID:61656532-6466-4335-a230-383139646336
DTSTAMP:20260422T235649Z
DESCRIPTION:18/53 Jirkov - Teplice 3:0 (18\,17\,11)
DTSTART;TZID=Europe/Berlin:20221217T140000
DTEND;TZID=Europe/Berlin:20221217T160000
LOCATION:Sportovní hala MG a ZŠ Jirkov\, Krušnohorská 1675 Jirkov
SUMMARY:2-U18Z-A: Jirkov-Teplice
END:VEVENT
BEGIN:VEVENT
UID:30336136-6464-4561-a666-333863303432
DTSTAMP:20260422T235649Z
DESCRIPTION:1/3 Teplice - Plzeň B 3:1 (-18\,23\,14\,28)
DTSTART;TZID=Europe/Berlin:20230128T100000
DTEND;TZID=Europe/Berlin:20230128T120000
LOCATION:Hotelová škola\, Smetanovo náměstí 786 Teplice - Trnovany
SUMMARY:2-U18Z-N: Teplice-Plzeň B
END:VEVENT
BEGIN:VEVENT
UID:37393364-3934-4561-b133-393564356432
DTSTAMP:20260422T235649Z
DESCRIPTION:2/6 Teplice - Plzeň B 3:0 (21\,23\,14)
DTSTART;TZID=Europe/Berlin:20230128T140000
DTEND;TZID=Europe/Berlin:20230128T160000
LOCATION:Hotelová škola\, Smetanovo náměstí 786 Teplice - Trnovany
SUMMARY:2-U18Z-N: Teplice-Plzeň B
END:VEVENT
BEGIN:VEVENT
UID:66633965-3833-4363-a635-633130303066
DTSTAMP:20260422T235649Z
DESCRIPTION:5/15 Teplice - Vejprnice 3:2 (-22\,-20\,19\,17\,7)
DTSTART;TZID=Europe/Berlin:20230318T110000
DTEND;TZID=Europe/Berlin:20230318T130000
LOCATION:Hotelová škola\, Smetanovo náměstí 786 Teplice - Trnovany
SUMMARY:2-U18Z-N: Teplice-Vejprnice
END:VEVENT
BEGIN:VEVENT
UID:61646533-3638-4631-b563-626664373937
DTSTAMP:20260422T235649Z
DESCRIPTION:6/18 Teplice - Vejprnice 3:1 (12\,22\,-23\,9)
DTSTART;TZID=Europe/Berlin:20230318T150000
DTEND;TZID=Europe/Berlin:20230318T170000
LOCATION:Hotelová škola\, Smetanovo náměstí 786 Teplice - Trnovany
SUMMARY:2-U18Z-N: Teplice-Vejprnice
END:VEVENT
BEGIN:VEVENT
UID:37366235-3739-4762-b864-336162316361
DTSTAMP:20260422T235649Z
DESCRIPTION:7/21 Plzeň B - Teplice 2:3 (-25\,20\,19\,-20\,-7)
DTSTART;TZID=Europe/Berlin:20230304T100000
DTEND;TZID=Europe/Berlin:20230304T120000
LOCATION:Sportovní hala - SG Plzeň\, Vejprnická 663 Plzeň - Skvrňany
SUMMARY:2-U18Z-N: Plzeň B-Teplice
END:VEVENT
BEGIN:VEVENT
UID:61646262-3139-4539-b736-326462316132
DTSTAMP:20260422T235649Z
DESCRIPTION:8/24 Plzeň B - Teplice 3:1 (22\,22\,-13\,22)
DTSTART;TZID=Europe/Berlin:20230304T140000
DTEND;TZID=Europe/Berlin:20230304T160000
LOCATION:Sportovní hala - SG Plzeň\, Vejprnická 663 Plzeň - Skvrňany
SUMMARY:2-U18Z-N: Plzeň B-Teplice
END:VEVENT
BEGIN:VEVENT
UID:38623731-3731-4238-b561-303331326561
DTSTAMP:20260422T235649Z
DESCRIPTION:11/33 Vejprnice - Teplice 3:0 (20\,15\,19)
DTSTART;TZID=Europe/Berlin:20230402T100000
DTEND;TZID=Europe/Berlin:20230402T120000
LOCATION:Tělocvična ZŠ Vejprnice\, Jakuba Husníka 527 Vejprnice
SUMMARY:2-U18Z-N: Vejprnice-Teplice
END:VEVENT
BEGIN:VEVENT
UID:36363139-6665-4830-b433-643733356662
DTSTAMP:20260422T235649Z
DESCRIPTION:12/36 Vejprnice - Teplice 3:0 (22\,20\,18)
DTSTART;TZID=Europe/Berlin:20230402T140000
DTEND;TZID=Europe/Berlin:20230402T160000
LOCATION:Tělocvična ZŠ Vejprnice\, Jakuba Husníka 527 Vejprnice
SUMMARY:2-U18Z-N: Vejprnice-Teplice
END:VEVENT
BEGIN:VEVENT
UID:66303164-3036-4339-a535-643834626433
DTSTAMP:20260422T235649Z
DESCRIPTION:1/4 Teplice - Šťáhlavy 3:0 (6\,10\,5)
DTSTART;TZID=Europe/Berlin:20230415T150000
DTEND;TZID=Europe/Berlin:20230415T170000
LOCATION:Hotelová škola\, Smetanovo náměstí 786 Teplice - Trnovany
SUMMARY:2-U18Z-KA: Teplice-Šťáhlavy
END:VEVENT
BEGIN:VEVENT
UID:36623564-6438-4539-a636-623864646165
DTSTAMP:20260422T235649Z
DESCRIPTION:2/7 Teplice - Třebín 0:3 (-17\,-4\,-22)
DTSTART;TZID=Europe/Berlin:20230416T110000
DTEND;TZID=Europe/Berlin:20230416T130000
LOCATION:Hotelová škola\, Smetanovo náměstí 786 Teplice - Trnovany
SUMMARY:2-U18Z-KA: Teplice-Třebín
END:VEVENT
BEGIN:VEVENT
UID:61373164-3035-4966-b439-393036303638
DTSTAMP:20260422T235649Z
DESCRIPTION:1/1 Děčín - Teplice 0:3 (-17\,-21\,-21)
DTSTART;TZID=Europe/Berlin:20230415T090000
DTEND;TZID=Europe/Berlin:20230415T110000
LOCATION:Hotelová škola\, Smetanovo náměstí 786 Teplice - Trnovany
SUMMARY:2-U18Z-KA: Děčín-Teplice
END:VEVENT
BEGIN:VEVENT
UID:35643033-3831-4930-b266-336566313630
DTSTAMP:20260422T235649Z
DESCRIPTION:2/10 Mikulova B - Teplice 0:3 (-18\,-15\,-26)
DTSTART;TZID=Europe/Berlin:20230416T170000
DTEND;TZID=Europe/Berlin:20230416T190000
LOCATION:Hotelová škola\, Smetanovo náměstí 786 Teplice - Trnovany
SUMMARY:2-U18Z-KA: Mikulova B-Teplice
END:VEVENT
END:VCALENDAR
