BEGIN:VCALENDAR
VERSION:2.0
PRODID:-//VK Brno, Vejrostova79337//NONSGML kigkonsult.se iCalcreator 2.41.80//
CALSCALE:GREGORIAN
UID:66373130-6538-4432-a532-376265306333
BEGIN:VEVENT
UID:39653561-6564-4831-b536-306666393465
DTSTAMP:20260422T145000Z
DESCRIPTION:9/9 VK Brno\, Vejrostova - VK Znojmo - Přímětice 'A' 1:2 (-22\,
 23\,-13)
DTSTART;TZID=Europe/Berlin:20220924T141500
DTEND;TZID=Europe/Berlin:20220924T161500
LOCATION:ZŠ Vejrostova\, Vejrostova 1066 Brno - Bystrc
SUMMARY:JM-U16M-KVB: VK Brno\, Vejrostova-VK Znojmo - Přímětice 'A'
END:VEVENT
BEGIN:VEVENT
UID:64633238-3730-4164-a636-303336363237
DTSTAMP:20260422T145000Z
DESCRIPTION:1/1 Brno - VK Brno\, Vejrostova 2:0 (6\,11)
DTSTART;TZID=Europe/Berlin:20220924T090000
DTEND;TZID=Europe/Berlin:20220924T110000
LOCATION:Sportovní gymnázium Ludvíka Daňka\, Botanická 63 Brno - Ponava
SUMMARY:JM-U16M-KVB: Brno-VK Brno\, Vejrostova
END:VEVENT
BEGIN:VEVENT
UID:34633632-3731-4134-b235-633639633666
DTSTAMP:20260422T145000Z
DESCRIPTION:5/5 VK Znojmo - Přímětice 'B' - VK Brno\, Vejrostova 0:2 (-10\,
 -13)
DTSTART;TZID=Europe/Berlin:20220924T114500
DTEND;TZID=Europe/Berlin:20220924T134500
LOCATION:Tělocvična ZŠ Prokopa Diviše a MŠ\, Ke Škole 569 Znojmo - Přímětic
 e
SUMMARY:JM-U16M-KVB: VK Znojmo - Přímětice 'B'-VK Brno\, Vejrostova
END:VEVENT
BEGIN:VEVENT
UID:63353236-6262-4261-b263-663830396330
DTSTAMP:20260422T145000Z
DESCRIPTION:8/8 VOLEJBAL VYŠKOV\, z.s. - VK Brno\, Vejrostova 0:2 (-7\,-10)
DTSTART;TZID=Europe/Berlin:20220924T130000
DTEND;TZID=Europe/Berlin:20220924T150000
LOCATION:Sokolovna Dědice\, náměstí Svobody 22 Vyškov - Dědice
SUMMARY:JM-U16M-KVB: VOLEJBAL VYŠKOV\, z.s.-VK Brno\, Vejrostova
END:VEVENT
BEGIN:VEVENT
UID:62343236-3561-4337-b462-656663616630
DTSTAMP:20260422T145000Z
DESCRIPTION:1/1 VK Brno\, Vejrostova - Volejbalový oddíl Vítovice\, z.s. 0:
 2 (-10\,-20)
DTSTART;TZID=Europe/Berlin:20221008T090000
DTEND;TZID=Europe/Berlin:20221008T110000
LOCATION:ZŠ Vejrostova\, Vejrostova 1066 Brno - Bystrc
SUMMARY:JM-U16M-IB: VK Brno\, Vejrostova-Volejbalový oddíl Vítovice\, z.s.
END:VEVENT
BEGIN:VEVENT
UID:35336661-3233-4264-b437-643165623834
DTSTAMP:20260422T145000Z
DESCRIPTION:3/3 Lokomotiva Fosfa Břeclav - VK Brno\, Vejrostova 2:0 (19\,24
 )
DTSTART;TZID=Europe/Berlin:20221008T114500
DTEND;TZID=Europe/Berlin:20221008T134500
LOCATION:TJ Lokomotiva Břeclav\, Veslařská 2753 Břeclav
SUMMARY:JM-U16M-IB: Lokomotiva Fosfa Břeclav-VK Brno\, Vejrostova
END:VEVENT
BEGIN:VEVENT
UID:34313336-3835-4261-a638-653333393632
DTSTAMP:20260422T145000Z
DESCRIPTION:1/1 VK Brno\, Vejrostova - VOLEJBAL VYŠKOV\, z.s. 2:0 (12\,7)
DTSTART;TZID=Europe/Berlin:20221112T090000
DTEND;TZID=Europe/Berlin:20221112T110000
LOCATION:ZŠ Vejrostova\, Vejrostova 1066 Brno - Bystrc
SUMMARY:JM-U16M-IIC: VK Brno\, Vejrostova-VOLEJBAL VYŠKOV\, z.s.
END:VEVENT
BEGIN:VEVENT
UID:35333262-3034-4366-a562-353436633061
DTSTAMP:20260422T145000Z
DESCRIPTION:3/3 TJ TESLA BRNO z.s. - VK Brno\, Vejrostova 2:1 (-19\,20\,7)
DTSTART;TZID=Europe/Berlin:20221112T114500
DTEND;TZID=Europe/Berlin:20221112T134500
LOCATION:ZŠ Milénova 14\, Milénova 808 Brno - Lesná
SUMMARY:JM-U16M-IIC: TJ TESLA BRNO z.s.-VK Brno\, Vejrostova
END:VEVENT
BEGIN:VEVENT
UID:64656433-3335-4334-a635-613633306339
DTSTAMP:20260422T145000Z
DESCRIPTION:2/2 VK Brno\, Vejrostova - VOLEJBAL VYŠKOV\, z.s. 2:0 (11\,19)
DTSTART;TZID=Europe/Berlin:20221126T103000
DTEND;TZID=Europe/Berlin:20221126T123000
LOCATION:ZŠ Vejrostova\, Vejrostova 1066 Brno - Bystrc
SUMMARY:JM-U16M-IIIC: VK Brno\, Vejrostova-VOLEJBAL VYŠKOV\, z.s.
END:VEVENT
BEGIN:VEVENT
UID:35333339-3035-4463-b962-373961346631
DTSTAMP:20260422T145000Z
DESCRIPTION:1/1 VK Znojmo - Přímětice 'B' - VK Brno\, Vejrostova 0:2 (-13\,
 -22)
DTSTART;TZID=Europe/Berlin:20221126T090000
DTEND;TZID=Europe/Berlin:20221126T110000
LOCATION:Tělocvična ZŠ Prokopa Diviše a MŠ\, Ke Škole 569 Znojmo - Přímětic
 e
SUMMARY:JM-U16M-IIIC: VK Znojmo - Přímětice 'B'-VK Brno\, Vejrostova
END:VEVENT
BEGIN:VEVENT
UID:36303666-3363-4336-b536-336233333331
DTSTAMP:20260422T145000Z
DESCRIPTION:3/3 VK Brno\, Vejrostova - Lokomotiva Fosfa Břeclav 0:2 (-23\,-
 9)
DTSTART;TZID=Europe/Berlin:20221210T114500
DTEND;TZID=Europe/Berlin:20221210T134500
LOCATION:ZŠ Vejrostova\, Vejrostova 1066 Brno - Bystrc
SUMMARY:JM-U16M-IVB: VK Brno\, Vejrostova-Lokomotiva Fosfa Břeclav
END:VEVENT
BEGIN:VEVENT
UID:64393964-3961-4230-b236-643230346366
DTSTAMP:20260422T145000Z
DESCRIPTION:2/2 Tělocvičná jednota Sokol Šlapanice u Brna - VK Brno\, Vejro
 stova 2:0 (10\,14)
DTSTART;TZID=Europe/Berlin:20221210T103000
DTEND;TZID=Europe/Berlin:20221210T123000
LOCATION:ZŠ Na Zahrádkách \, Na Zahrádkách 1716 Šlapanice
SUMMARY:JM-U16M-IVB: Tělocvičná jednota Sokol Šlapanice u Brna-VK Brno\, Ve
 jrostova
END:VEVENT
BEGIN:VEVENT
UID:30386165-3066-4137-b461-363939313836
DTSTAMP:20260422T145000Z
DESCRIPTION:1/1 VK Brno\, Vejrostova - VOLEJBAL VYŠKOV\, z.s. 2:0 (23\,5)
DTSTART;TZID=Europe/Berlin:20230107T090000
DTEND;TZID=Europe/Berlin:20230107T110000
LOCATION:ZŠ Vejrostova\, Vejrostova 1066 Brno - Bystrc
SUMMARY:JM-U16M-VC: VK Brno\, Vejrostova-VOLEJBAL VYŠKOV\, z.s.
END:VEVENT
BEGIN:VEVENT
UID:61353232-6532-4531-b531-636464326538
DTSTAMP:20260422T145000Z
DESCRIPTION:3/3 VK Znojmo - Přímětice 'B' - VK Brno\, Vejrostova 0:2 (-17\,
 -19)
DTSTART;TZID=Europe/Berlin:20230107T114500
DTEND;TZID=Europe/Berlin:20230107T134500
LOCATION:Tělocvična ZŠ Prokopa Diviše a MŠ\, Ke Škole 569 Znojmo - Přímětic
 e
SUMMARY:JM-U16M-VC: VK Znojmo - Přímětice 'B'-VK Brno\, Vejrostova
END:VEVENT
BEGIN:VEVENT
UID:66383936-3834-4439-a464-356232323931
DTSTAMP:20260422T145000Z
DESCRIPTION:1/1 Volejbalový oddíl Vítovice\, z.s. - VK Brno\, Vejrostova 2:
 X
DTSTART;TZID=Europe/Berlin:20230128T090000
DTEND;TZID=Europe/Berlin:20230128T110000
LOCATION:Sportovní hala Rousínov\, Habrovanská 1199 Rousínov
SUMMARY:JM-U16M-VIB: Volejbalový oddíl Vítovice\, z.s.-VK Brno\, Vejrostova
END:VEVENT
BEGIN:VEVENT
UID:31633530-3538-4435-b638-623762623930
DTSTAMP:20260422T145000Z
DESCRIPTION:3/3 TJ TESLA BRNO z.s. - VK Brno\, Vejrostova 2:X
DTSTART;TZID=Europe/Berlin:20230128T114500
DTEND;TZID=Europe/Berlin:20230128T134500
LOCATION:ZŠ Milénova 14\, Milénova 808 Brno - Lesná
SUMMARY:JM-U16M-VIB: TJ TESLA BRNO z.s.-VK Brno\, Vejrostova
END:VEVENT
BEGIN:VEVENT
UID:38323230-3065-4138-b430-386236316338
DTSTAMP:20260422T145000Z
DESCRIPTION:1/1 VK Brno\, Vejrostova - VOLEJBAL VYŠKOV\, z.s. 2:0 (15\,13)
DTSTART;TZID=Europe/Berlin:20230218T090000
DTEND;TZID=Europe/Berlin:20230218T110000
LOCATION:ZŠ Vejrostova\, Vejrostova 1066 Brno - Bystrc
SUMMARY:JM-U16M-VIIC: VK Brno\, Vejrostova-VOLEJBAL VYŠKOV\, z.s.
END:VEVENT
BEGIN:VEVENT
UID:39616639-3463-4037-a165-306135616539
DTSTAMP:20260422T145000Z
DESCRIPTION:3/3 VK Znojmo - Přímětice 'B' - VK Brno\, Vejrostova 2:1 (21\,-
 11\,10)
DTSTART;TZID=Europe/Berlin:20230218T114500
DTEND;TZID=Europe/Berlin:20230218T134500
LOCATION:Tělocvična ZŠ Prokopa Diviše a MŠ\, Ke Škole 569 Znojmo - Přímětic
 e
SUMMARY:JM-U16M-VIIC: VK Znojmo - Přímětice 'B'-VK Brno\, Vejrostova
END:VEVENT
BEGIN:VEVENT
UID:35343266-3838-4832-b631-383138346331
DTSTAMP:20260422T145000Z
DESCRIPTION:2/2 VK Brno\, Vejrostova - VOLEJBAL VYŠKOV\, z.s. 2:0 (11\,14)
DTSTART;TZID=Europe/Berlin:20230304T103000
DTEND;TZID=Europe/Berlin:20230304T123000
LOCATION:ZŠ Vejrostova\, Vejrostova 1066 Brno - Bystrc
SUMMARY:JM-U16M-VIIIC: VK Brno\, Vejrostova-VOLEJBAL VYŠKOV\, z.s.
END:VEVENT
BEGIN:VEVENT
UID:30653965-6638-4364-a566-343730383834
DTSTAMP:20260422T145000Z
DESCRIPTION:1/1 Tělocvičná jednota Sokol Šlapanice u Brna - VK Brno\, Vejro
 stova 2:0 (17\,15)
DTSTART;TZID=Europe/Berlin:20230304T090000
DTEND;TZID=Europe/Berlin:20230304T110000
LOCATION:ZŠ Na Zahrádkách \, Na Zahrádkách 1716 Šlapanice
SUMMARY:JM-U16M-VIIIC: Tělocvičná jednota Sokol Šlapanice u Brna-VK Brno\, 
 Vejrostova
END:VEVENT
END:VCALENDAR
