BEGIN:VCALENDAR
VERSION:2.0
PRODID:-//VS Drásov79342//NONSGML kigkonsult.se iCalcreator 2.41.80//
CALSCALE:GREGORIAN
UID:36616130-3532-4838-a438-343637366464
BEGIN:VEVENT
UID:36366538-3766-4836-b731-373438346561
DTSTAMP:20260425T020036Z
DESCRIPTION:4/4 VS Drásov - Boskovice 0:2 (-21\,-16)
DTSTART;TZID=Europe/Berlin:20220917T103000
DTEND;TZID=Europe/Berlin:20220917T123000
LOCATION:Hala u ZŠ TGM Drásov\, Školní 167 Drásov
SUMMARY:JM-U16Z-KVB: VS Drásov-Boskovice
END:VEVENT
BEGIN:VEVENT
UID:62326466-3766-4464-a133-323164343737
DTSTAMP:20260425T020036Z
DESCRIPTION:6/6 VS Drásov - Tělocvičná jednota Sokol Předklášteří 0:2 (-2\,
 -13)
DTSTART;TZID=Europe/Berlin:20220917T114500
DTEND;TZID=Europe/Berlin:20220917T134500
LOCATION:Hala u ZŠ TGM Drásov\, Školní 167 Drásov
SUMMARY:JM-U16Z-KVB: VS Drásov-Tělocvičná jednota Sokol Předklášteří
END:VEVENT
BEGIN:VEVENT
UID:32646333-6262-4638-a566-653934303336
DTSTAMP:20260425T020036Z
DESCRIPTION:7/7 VS Drásov - TJ JUNIOR Brno 0:2 (-19\,-13)
DTSTART;TZID=Europe/Berlin:20220917T130000
DTEND;TZID=Europe/Berlin:20220917T150000
LOCATION:Hala u ZŠ TGM Drásov\, Školní 167 Drásov
SUMMARY:JM-U16Z-KVB: VS Drásov-TJ JUNIOR Brno
END:VEVENT
BEGIN:VEVENT
UID:62653233-3166-4838-b837-336233383632
DTSTAMP:20260425T020036Z
DESCRIPTION:9/9 KP Brno D - VS Drásov 0:2 (-23\,-23)
DTSTART;TZID=Europe/Berlin:20220917T141500
DTEND;TZID=Europe/Berlin:20220917T161500
LOCATION:Sportovní gymnázium Ludvíka Daňka\, Botanická 63 Brno - Ponava
SUMMARY:JM-U16Z-KVB: KP Brno D-VS Drásov
END:VEVENT
BEGIN:VEVENT
UID:37333235-3034-4538-a633-303063353939
DTSTAMP:20260425T020036Z
DESCRIPTION:1/2 VS Drásov - TJ Sokol Jehnice 2:0 (20\,14)
DTSTART;TZID=Europe/Berlin:20221008T090000
DTEND;TZID=Europe/Berlin:20221008T110000
LOCATION:Hala u ZŠ TGM Drásov\, Školní 167 Drásov
SUMMARY:JM-U16Z-ID: VS Drásov-TJ Sokol Jehnice
END:VEVENT
BEGIN:VEVENT
UID:37316231-3838-4238-b238-616630643731
DTSTAMP:20260425T020036Z
DESCRIPTION:3/5 VS Drásov - VK Brno\, z.s. 0:2 (-13\,-14)
DTSTART;TZID=Europe/Berlin:20221008T114500
DTEND;TZID=Europe/Berlin:20221008T134500
LOCATION:Hala u ZŠ TGM Drásov\, Školní 167 Drásov
SUMMARY:JM-U16Z-ID: VS Drásov-VK Brno\, z.s.
END:VEVENT
BEGIN:VEVENT
UID:35326633-3330-4832-b139-643031613030
DTSTAMP:20260425T020036Z
DESCRIPTION:2/4 TJ Agrotec Hustopeče z.s. - VS Drásov 2:1 (24\,-13\,10)
DTSTART;TZID=Europe/Berlin:20221008T103000
DTEND;TZID=Europe/Berlin:20221008T123000
LOCATION:Městská sportovní hala\, Šafaříkova 1016 Hustopeče
SUMMARY:JM-U16Z-ID: TJ Agrotec Hustopeče z.s.-VS Drásov
END:VEVENT
BEGIN:VEVENT
UID:61323863-3936-4233-b466-333430643436
DTSTAMP:20260425T020036Z
DESCRIPTION:2/3 VS Drásov - VK Brno\, Vejrostova 0:2 (-22\,-11)
DTSTART;TZID=Europe/Berlin:20221105T103000
DTEND;TZID=Europe/Berlin:20221105T123000
LOCATION:Hala u ZŠ TGM Drásov\, Školní 167 Drásov
SUMMARY:JM-U16Z-IID: VS Drásov-VK Brno\, Vejrostova
END:VEVENT
BEGIN:VEVENT
UID:34616663-3631-4233-b035-663935643563
DTSTAMP:20260425T020036Z
DESCRIPTION:1/1 VK Brno\, z.s. - VS Drásov 2:0 (23\,15)
DTSTART;TZID=Europe/Berlin:20221105T090000
DTEND;TZID=Europe/Berlin:20221105T110000
LOCATION:Tělocvična ZŠ Bílovice nad Svitavou\, Komenského 151 Bílovice nad 
 Svitavou
SUMMARY:JM-U16Z-IID: VK Brno\, z.s.-VS Drásov
END:VEVENT
BEGIN:VEVENT
UID:61666364-3262-4238-b562-343133633134
DTSTAMP:20260425T020036Z
DESCRIPTION:3/5 TJ Sokol Újezd u Brna - VS Drásov 0:2 (-16\,-19)
DTSTART;TZID=Europe/Berlin:20221105T114500
DTEND;TZID=Europe/Berlin:20221105T134500
LOCATION:Hala ZŠ Újezd u Brna\, Školní 284 Újezd u Brna
SUMMARY:JM-U16Z-IID: TJ Sokol Újezd u Brna-VS Drásov
END:VEVENT
BEGIN:VEVENT
UID:38626634-3663-4466-b763-653062393833
DTSTAMP:20260425T020036Z
DESCRIPTION:1/1 VS Drásov - KP Brno MB 2:0 (27\,23)
DTSTART;TZID=Europe/Berlin:20221126T090000
DTEND;TZID=Europe/Berlin:20221126T110000
LOCATION:Hala u ZŠ TGM Drásov\, Školní 167 Drásov
SUMMARY:JM-U16Z-IIID: VS Drásov-KP Brno MB
END:VEVENT
BEGIN:VEVENT
UID:34356232-3332-4831-a465-396361303835
DTSTAMP:20260425T020036Z
DESCRIPTION:4/4 VS Drásov - Lokomotiva Fosfa Břeclav B 2:0 (19\,15)
DTSTART;TZID=Europe/Berlin:20221126T130000
DTEND;TZID=Europe/Berlin:20221126T150000
LOCATION:Hala u ZŠ TGM Drásov\, Školní 167 Drásov
SUMMARY:JM-U16Z-IIID: VS Drásov-Lokomotiva Fosfa Břeclav B
END:VEVENT
BEGIN:VEVENT
UID:37643039-6562-4231-a466-396236616537
DTSTAMP:20260425T020036Z
DESCRIPTION:6/6 VK Brno\, z.s. - VS Drásov 2:0 (24\,19)
DTSTART;TZID=Europe/Berlin:20221126T153000
DTEND;TZID=Europe/Berlin:20221126T173000
LOCATION:Tělocvična ZŠ Bílovice nad Svitavou\, Komenského 151 Bílovice nad 
 Svitavou
SUMMARY:JM-U16Z-IIID: VK Brno\, z.s.-VS Drásov
END:VEVENT
BEGIN:VEVENT
UID:38393634-3433-4530-b461-326532333934
DTSTAMP:20260425T020036Z
DESCRIPTION:3/3 VS Drásov - VK Brno\, Vejrostova 0:2 (-22\,-14)
DTSTART;TZID=Europe/Berlin:20221217T114500
DTEND;TZID=Europe/Berlin:20221217T134500
LOCATION:Hala u ZŠ TGM Drásov\, Školní 167 Drásov
SUMMARY:JM-U16Z-IVC: VS Drásov-VK Brno\, Vejrostova
END:VEVENT
BEGIN:VEVENT
UID:63306365-6165-4566-b433-383362323939
DTSTAMP:20260425T020036Z
DESCRIPTION:1/1 DDM Kuřim - VS Drásov 2:0 (22\,16)
DTSTART;TZID=Europe/Berlin:20221217T090000
DTEND;TZID=Europe/Berlin:20221217T110000
LOCATION:ZŠ Jungmannova Kuřim\, Jungmannova 813 Kuřim
SUMMARY:JM-U16Z-IVC: DDM Kuřim-VS Drásov
END:VEVENT
BEGIN:VEVENT
UID:30646430-3235-4466-b038-306238303831
DTSTAMP:20260425T020036Z
DESCRIPTION:5/5 VK Znojmo - Přímětice 'B' - VS Drásov 2:0 (10\,21)
DTSTART;TZID=Europe/Berlin:20221217T141500
DTEND;TZID=Europe/Berlin:20221217T161500
LOCATION:Tělocvična ZŠ Prokopa Diviše a MŠ\, Ke Škole 569 Znojmo - Přímětic
 e
SUMMARY:JM-U16Z-IVC: VK Znojmo - Přímětice 'B'-VS Drásov
END:VEVENT
BEGIN:VEVENT
UID:32653666-6535-4130-a437-613138656366
DTSTAMP:20260425T020036Z
DESCRIPTION:2/3 VS Drásov - KP Brno MB 2:0 (24\,22)
DTSTART;TZID=Europe/Berlin:20230114T114500
DTEND;TZID=Europe/Berlin:20230114T134500
LOCATION:Hala u ZŠ TGM Drásov\, Školní 167 Drásov
SUMMARY:JM-U16Z-VD: VS Drásov-KP Brno MB
END:VEVENT
BEGIN:VEVENT
UID:32386236-6266-4238-a433-663339386533
DTSTAMP:20260425T020036Z
DESCRIPTION:1/1 VK Brno\, z.s. - VS Drásov 1:2 (-13\,22\,-11)
DTSTART;TZID=Europe/Berlin:20230114T090000
DTEND;TZID=Europe/Berlin:20230114T110000
LOCATION:Tělocvična ZŠ Bílovice nad Svitavou\, Komenského 151 Bílovice nad 
 Svitavou
SUMMARY:JM-U16Z-VD: VK Brno\, z.s.-VS Drásov
END:VEVENT
BEGIN:VEVENT
UID:39343335-6237-4337-b365-333039353931
DTSTAMP:20260425T020036Z
DESCRIPTION:3/5 Sokol Šlapanice - VS Drásov 2:1 (22\,-12\,7)
DTSTART;TZID=Europe/Berlin:20230114T141500
DTEND;TZID=Europe/Berlin:20230114T161500
LOCATION:Tělocvična ZŠ Šlapanice\, Masarykovo náměstí 1594 Šlapanice
SUMMARY:JM-U16Z-VD: Sokol Šlapanice-VS Drásov
END:VEVENT
BEGIN:VEVENT
UID:31363032-6662-4638-a231-393563316564
DTSTAMP:20260425T020036Z
DESCRIPTION:2/2 VS Drásov - TJ Agrotec Hustopeče z.s. 2:0 (13\,15)
DTSTART;TZID=Europe/Berlin:20230204T103000
DTEND;TZID=Europe/Berlin:20230204T123000
LOCATION:Hala u ZŠ TGM Drásov\, Školní 167 Drásov
SUMMARY:JM-U16Z-VID: VS Drásov-TJ Agrotec Hustopeče z.s.
END:VEVENT
BEGIN:VEVENT
UID:61323035-6464-4432-a633-316339336265
DTSTAMP:20260425T020036Z
DESCRIPTION:5/5 VS Drásov - Sokol Šlapanice 2:X
DTSTART;TZID=Europe/Berlin:20230204T141500
DTEND;TZID=Europe/Berlin:20230204T161500
LOCATION:Hala u ZŠ TGM Drásov\, Školní 167 Drásov
SUMMARY:JM-U16Z-VID: VS Drásov-Sokol Šlapanice
END:VEVENT
BEGIN:VEVENT
UID:36663364-3331-4234-a633-383061343565
DTSTAMP:20260425T020036Z
DESCRIPTION:4/4 TJ Sokol Újezd u Brna - VS Drásov 1:2 (-21\,23\,-9)
DTSTART;TZID=Europe/Berlin:20230204T130000
DTEND;TZID=Europe/Berlin:20230204T150000
LOCATION:Hala ZŠ Újezd u Brna\, Školní 284 Újezd u Brna
SUMMARY:JM-U16Z-VID: TJ Sokol Újezd u Brna-VS Drásov
END:VEVENT
BEGIN:VEVENT
UID:35363766-6638-4732-a564-393235386562
DTSTAMP:20260425T020036Z
DESCRIPTION:3/3 VS Drásov - VK Brno\, Vejrostova 1:2 (-16\,23\,-14)
DTSTART;TZID=Europe/Berlin:20230225T114500
DTEND;TZID=Europe/Berlin:20230225T134500
LOCATION:Hala u ZŠ TGM Drásov\, Školní 167 Drásov
SUMMARY:JM-U16Z-VIIC: VS Drásov-VK Brno\, Vejrostova
END:VEVENT
BEGIN:VEVENT
UID:63326661-3335-4361-b266-396361393263
DTSTAMP:20260425T020036Z
DESCRIPTION:1/1 DDM Kuřim - VS Drásov 2:0 (17\,11)
DTSTART;TZID=Europe/Berlin:20230225T090000
DTEND;TZID=Europe/Berlin:20230225T110000
LOCATION:ZŠ Jungmannova Kuřim\, Jungmannova 813 Kuřim
SUMMARY:JM-U16Z-VIIC: DDM Kuřim-VS Drásov
END:VEVENT
BEGIN:VEVENT
UID:39303931-6135-4130-b031-386462313265
DTSTAMP:20260425T020036Z
DESCRIPTION:5/5 VK Znojmo - Přímětice 'B' - VS Drásov 2:1 (-22\,10\,6)
DTSTART;TZID=Europe/Berlin:20230225T141500
DTEND;TZID=Europe/Berlin:20230225T161500
LOCATION:Tělocvična ZŠ Prokopa Diviše a MŠ\, Ke Škole 569 Znojmo - Přímětic
 e
SUMMARY:JM-U16Z-VIIC: VK Znojmo - Přímětice 'B'-VS Drásov
END:VEVENT
BEGIN:VEVENT
UID:37383534-3362-4438-b864-643532653265
DTSTAMP:20260425T020036Z
DESCRIPTION:1/2 VS Drásov - VK Brno\, z.s. 2:0 (21\,15)
DTSTART;TZID=Europe/Berlin:20230311T090000
DTEND;TZID=Europe/Berlin:20230311T110000
LOCATION:Hala u ZŠ TGM Drásov\, Školní 167 Drásov
SUMMARY:JM-U16Z-VIIID: VS Drásov-VK Brno\, z.s.
END:VEVENT
BEGIN:VEVENT
UID:32363964-6234-4661-a566-313365313763
DTSTAMP:20260425T020036Z
DESCRIPTION:3/5 VS Drásov - KP Brno MB 2:1 (19\,-21\,7)
DTSTART;TZID=Europe/Berlin:20230311T114500
DTEND;TZID=Europe/Berlin:20230311T134500
LOCATION:Hala u ZŠ TGM Drásov\, Školní 167 Drásov
SUMMARY:JM-U16Z-VIIID: VS Drásov-KP Brno MB
END:VEVENT
BEGIN:VEVENT
UID:62396236-3834-4635-b538-376539373337
DTSTAMP:20260425T020036Z
DESCRIPTION:2/4 VOLEJBAL VYŠKOV C - VS Drásov 1:2 (-24\,24\,-8)
DTSTART;TZID=Europe/Berlin:20230311T103000
DTEND;TZID=Europe/Berlin:20230311T123000
LOCATION:Tělocvična ZŠ Nádražní\, Nádražní 5 Vyškov - Vyškov-Město
SUMMARY:JM-U16Z-VIIID: VOLEJBAL VYŠKOV C-VS Drásov
END:VEVENT
END:VCALENDAR
