BEGIN:VCALENDAR
VERSION:2.0
PRODID:-//TJ SOKOL LETOVICE, z.s.79348//NONSGML kigkonsult.se iCalcreator 2.41.80//
CALSCALE:GREGORIAN
UID:62613166-6636-4063-b835-346633356236
BEGIN:VEVENT
UID:64353765-3562-4436-a437-656536323766
DTSTAMP:20260422T183253Z
DESCRIPTION:6/6 TJ SOKOL LETOVICE\, z.s. - VS Cobry Drásov 0:2 (-14\,-20)
DTSTART;TZID=Europe/Berlin:20221009T153000
DTEND;TZID=Europe/Berlin:20221009T173000
LOCATION:Sportovní hala Letovice\, V zahradách 831 Letovice
SUMMARY:JM-U18Z-KVC: TJ SOKOL LETOVICE\, z.s.-VS Cobry Drásov
END:VEVENT
BEGIN:VEVENT
UID:36316235-3538-4938-b735-633831386164
DTSTAMP:20260422T183253Z
DESCRIPTION:2/2 TJ Sokol Újezd u Brna - TJ SOKOL LETOVICE\, z.s. 0:2 (-21\,
 -20)
DTSTART;TZID=Europe/Berlin:20221009T103000
DTEND;TZID=Europe/Berlin:20221009T123000
LOCATION:Hala ZŠ Újezd u Brna\, Školní 284 Újezd u Brna
SUMMARY:JM-U18Z-KVC: TJ Sokol Újezd u Brna-TJ SOKOL LETOVICE\, z.s.
END:VEVENT
BEGIN:VEVENT
UID:30346262-3237-4764-a436-343830636131
DTSTAMP:20260422T183253Z
DESCRIPTION:3/3 TJ JUNIOR Brno\, z.s. - TJ SOKOL LETOVICE\, z.s. 2:0 (14\,1
 6)
DTSTART;TZID=Europe/Berlin:20221009T114500
DTEND;TZID=Europe/Berlin:20221009T134500
LOCATION:tělocvičny ZŠ Novolíšeňská\, Brno\, Novolíšeňská 2411 Brno - Líšeň
SUMMARY:JM-U18Z-KVC: TJ JUNIOR Brno\, z.s.-TJ SOKOL LETOVICE\, z.s.
END:VEVENT
BEGIN:VEVENT
UID:34623062-6662-4231-a364-666131386262
DTSTAMP:20260422T183253Z
DESCRIPTION:2/2 TJ SOKOL LETOVICE\, z.s. - TJ Slovan Ivančice\, z.s. 1:3 (-
 17\,-12\,21\,-25)
DTSTART;TZID=Europe/Berlin:20221113T113000
DTEND;TZID=Europe/Berlin:20221113T133000
LOCATION:Sportovní hala Letovice\, V zahradách 831 Letovice
SUMMARY:JM-U18Z-IC: TJ SOKOL LETOVICE\, z.s.-TJ Slovan Ivančice\, z.s.
END:VEVENT
BEGIN:VEVENT
UID:31623464-6233-4365-a164-356635626637
DTSTAMP:20260422T183253Z
DESCRIPTION:1/1 TJ Sokol Veselí nad Moravou - TJ SOKOL LETOVICE\, z.s. 3:1 
 (13\,-20\,15\,10)
DTSTART;TZID=Europe/Berlin:20221113T090000
DTEND;TZID=Europe/Berlin:20221113T110000
LOCATION:Církevní ZŠ Veselí nad Moravou\, Školní 698 Veselí nad Moravou
SUMMARY:JM-U18Z-IC: TJ Sokol Veselí nad Moravou-TJ SOKOL LETOVICE\, z.s.
END:VEVENT
BEGIN:VEVENT
UID:61326463-3533-4534-a535-636164353263
DTSTAMP:20260422T183253Z
DESCRIPTION:2/2 TJ SOKOL LETOVICE\, z.s. - TJ Sokol Újezd u Brna 3:2 (18\,-
 19\,16\,-20\,6)
DTSTART;TZID=Europe/Berlin:20221204T113000
DTEND;TZID=Europe/Berlin:20221204T133000
LOCATION:Sportovní hala Letovice\, V zahradách 831 Letovice
SUMMARY:JM-U18Z-IID: TJ SOKOL LETOVICE\, z.s.-TJ Sokol Újezd u Brna
END:VEVENT
BEGIN:VEVENT
UID:64373238-6536-4139-b339-646337326266
DTSTAMP:20260422T183253Z
DESCRIPTION:1/1 DDM Kuřim - TJ SOKOL LETOVICE\, z.s. 1:3 (-17\,22\,-19\,-9)
DTSTART;TZID=Europe/Berlin:20221204T090000
DTEND;TZID=Europe/Berlin:20221204T110000
LOCATION:ZŠ Jungmannova Kuřim\, Jungmannova 813 Kuřim
SUMMARY:JM-U18Z-IID: DDM Kuřim-TJ SOKOL LETOVICE\, z.s.
END:VEVENT
BEGIN:VEVENT
UID:37363762-3433-4138-b030-376131353065
DTSTAMP:20260422T183253Z
DESCRIPTION:2/2 TJ SOKOL LETOVICE\, z.s. - TJ Sokol Veselí nad Moravou 1:3 
 (-16\,23\,-21\,-22)
DTSTART;TZID=Europe/Berlin:20221218T113000
DTEND;TZID=Europe/Berlin:20221218T133000
LOCATION:Sportovní hala Letovice\, V zahradách 831 Letovice
SUMMARY:JM-U18Z-IIIC: TJ SOKOL LETOVICE\, z.s.-TJ Sokol Veselí nad Moravou
END:VEVENT
BEGIN:VEVENT
UID:35323131-3261-4164-b439-633963376365
DTSTAMP:20260422T183253Z
DESCRIPTION:1/1 TJ Slovan Ivančice\, z.s. - TJ SOKOL LETOVICE\, z.s. 1:3 (-
 24\,12\,-15\,-14)
DTSTART;TZID=Europe/Berlin:20221218T090000
DTEND;TZID=Europe/Berlin:20221218T110000
LOCATION:sokolovna Ivančice\, Rybářská 1052 Ivančice
SUMMARY:JM-U18Z-IIIC: TJ Slovan Ivančice\, z.s.-TJ SOKOL LETOVICE\, z.s.
END:VEVENT
BEGIN:VEVENT
UID:30633138-3835-4536-b837-313866333766
DTSTAMP:20260422T183253Z
DESCRIPTION:1/1 TJ SOKOL LETOVICE\, z.s. - Orel Křenovice 3:2 (-22\,-23\,20
 \,21\,10)
DTSTART;TZID=Europe/Berlin:20230108T090000
DTEND;TZID=Europe/Berlin:20230108T110000
LOCATION:Sportovní hala Letovice\, V zahradách 831 Letovice
SUMMARY:JM-U18Z-IVC: TJ SOKOL LETOVICE\, z.s.-Orel Křenovice
END:VEVENT
BEGIN:VEVENT
UID:30393262-3439-4337-a633-386238396637
DTSTAMP:20260422T183253Z
DESCRIPTION:3/3 VK Znojmo - Přímětice - TJ SOKOL LETOVICE\, z.s. 3:0 (16\,1
 5\,16)
DTSTART;TZID=Europe/Berlin:20230108T140000
DTEND;TZID=Europe/Berlin:20230108T160000
LOCATION:Tělocvična PSK Znojmo\, Pražská 2486 Znojmo
SUMMARY:JM-U18Z-IVC: VK Znojmo - Přímětice-TJ SOKOL LETOVICE\, z.s.
END:VEVENT
BEGIN:VEVENT
UID:33656465-6465-4738-a332-353635396564
DTSTAMP:20260422T183253Z
DESCRIPTION:1/1 TJ SOKOL LETOVICE\, z.s. - VS Cobry Drásov 2:3 (-23\,22\,-1
 6\,22\,-11)
DTSTART;TZID=Europe/Berlin:20230129T090000
DTEND;TZID=Europe/Berlin:20230129T110000
LOCATION:Sportovní hala Letovice\, V zahradách 831 Letovice
SUMMARY:JM-U18Z-VC: TJ SOKOL LETOVICE\, z.s.-VS Cobry Drásov
END:VEVENT
BEGIN:VEVENT
UID:32663764-3735-4663-a464-636265373831
DTSTAMP:20260422T183253Z
DESCRIPTION:3/3 TJ Sokol Újezd u Brna - TJ SOKOL LETOVICE\, z.s. X:3
DTSTART;TZID=Europe/Berlin:20230129T140000
DTEND;TZID=Europe/Berlin:20230129T160000
LOCATION:Hala ZŠ Újezd u Brna\, Školní 284 Újezd u Brna
SUMMARY:JM-U18Z-VC: TJ Sokol Újezd u Brna-TJ SOKOL LETOVICE\, z.s.
END:VEVENT
BEGIN:VEVENT
UID:34636466-6437-4863-b230-393137333964
DTSTAMP:20260422T183253Z
DESCRIPTION:1/1 TJ SOKOL LETOVICE\, z.s. - TJ Slovan Ivančice\, z.s. 3:0 (2
 3\,10\,26)
DTSTART;TZID=Europe/Berlin:20230219T090000
DTEND;TZID=Europe/Berlin:20230219T110000
LOCATION:Sportovní hala Letovice\, V zahradách 831 Letovice
SUMMARY:JM-U18Z-VIC: TJ SOKOL LETOVICE\, z.s.-TJ Slovan Ivančice\, z.s.
END:VEVENT
BEGIN:VEVENT
UID:35353437-3937-4861-a135-633965326565
DTSTAMP:20260422T183253Z
DESCRIPTION:3/3 TJ SOKOL LETOVICE\, z.s. - VK Znojmo - Přímětice 3:0 (19\,8
 \,16)
DTSTART;TZID=Europe/Berlin:20230219T140000
DTEND;TZID=Europe/Berlin:20230219T160000
LOCATION:Sportovní hala Letovice\, V zahradách 831 Letovice
SUMMARY:JM-U18Z-VIC: TJ SOKOL LETOVICE\, z.s.-VK Znojmo - Přímětice
END:VEVENT
BEGIN:VEVENT
UID:37643961-3232-4464-b234-346332323938
DTSTAMP:20260422T183253Z
DESCRIPTION:3/3 TJ SOKOL LETOVICE\, z.s. - TJ JUNIOR Brno\, z.s. 0:3 (-17\,
 -18\,-18)
DTSTART;TZID=Europe/Berlin:20230305T140000
DTEND;TZID=Europe/Berlin:20230305T160000
LOCATION:Sportovní hala Letovice\, V zahradách 831 Letovice
SUMMARY:JM-U18Z-VIIB: TJ SOKOL LETOVICE\, z.s.-TJ JUNIOR Brno\, z.s.
END:VEVENT
BEGIN:VEVENT
UID:38363639-6234-4933-b662-666262653832
DTSTAMP:20260422T183253Z
DESCRIPTION:2/2 VK Brno\, Vejrostova - TJ SOKOL LETOVICE\, z.s. 2:3 (-26\,-
 21\,11\,16\,-16)
DTSTART;TZID=Europe/Berlin:20230305T113000
DTEND;TZID=Europe/Berlin:20230305T133000
LOCATION:ZŠ Vejrostova\, Vejrostova 1066 Brno - Bystrc
SUMMARY:JM-U18Z-VIIB: VK Brno\, Vejrostova-TJ SOKOL LETOVICE\, z.s.
END:VEVENT
END:VCALENDAR
