BEGIN:VCALENDAR
VERSION:2.0
PRODID:-//VOLEJBAL VYŠKOV, z.s.79350//NONSGML kigkonsult.se iCalcreator 2.41.80//
CALSCALE:GREGORIAN
UID:62346334-3230-4930-b135-633233646265
BEGIN:VEVENT
UID:65323961-3235-4837-a632-383430363031
DTSTAMP:20260422T165843Z
DESCRIPTION:9/9 VOLEJBAL VYŠKOV\, z.s. - TJ Sokol Veselí nad Moravou 2:0 (1
 9\,10)
DTSTART;TZID=Europe/Berlin:20221009T141500
DTEND;TZID=Europe/Berlin:20221009T161500
LOCATION:Tělocvična ZŠ Nádražní\, Nádražní 5 Vyškov - Vyškov-Město
SUMMARY:JM-U18Z-KVA: VOLEJBAL VYŠKOV\, z.s.-TJ Sokol Veselí nad Moravou
END:VEVENT
BEGIN:VEVENT
UID:35396464-6135-4637-b232-303266333861
DTSTAMP:20260422T165843Z
DESCRIPTION:1/1 Břeclav - VOLEJBAL VYŠKOV\, z.s. 2:0 (13\,23)
DTSTART;TZID=Europe/Berlin:20221009T090000
DTEND;TZID=Europe/Berlin:20221009T110000
LOCATION:TJ Lokomotiva Břeclav\, Veslařská 2753 Břeclav
SUMMARY:JM-U18Z-KVA: Břeclav-VOLEJBAL VYŠKOV\, z.s.
END:VEVENT
BEGIN:VEVENT
UID:64346265-3632-4335-b239-346638373333
DTSTAMP:20260422T165843Z
DESCRIPTION:5/5 VK Znojmo - Přímětice - VOLEJBAL VYŠKOV\, z.s. 1:2 (-20\,22
 \,-8)
DTSTART;TZID=Europe/Berlin:20221009T114500
DTEND;TZID=Europe/Berlin:20221009T134500
LOCATION:Tělocvična PSK Znojmo\, Pražská 2486 Znojmo
SUMMARY:JM-U18Z-KVA: VK Znojmo - Přímětice-VOLEJBAL VYŠKOV\, z.s.
END:VEVENT
BEGIN:VEVENT
UID:38643335-3635-4730-b030-316138356362
DTSTAMP:20260422T165843Z
DESCRIPTION:8/8 Orel Křenovice - VOLEJBAL VYŠKOV\, z.s. 1:2 (-11\,18\,-6)
DTSTART;TZID=Europe/Berlin:20221009T130000
DTEND;TZID=Europe/Berlin:20221009T150000
LOCATION:Sportovní hala Křenovice \, Bratří Mrázků 635 Křenovice
SUMMARY:JM-U18Z-KVA: Orel Křenovice-VOLEJBAL VYŠKOV\, z.s.
END:VEVENT
BEGIN:VEVENT
UID:30393466-3664-4462-b335-303232326639
DTSTAMP:20260422T165843Z
DESCRIPTION:6/6 VOLEJBAL VYŠKOV\, z.s. - TJ JUNIOR Brno\, z.s. 2:0 (16\,23)
DTSTART;TZID=Europe/Berlin:20221113T153000
DTEND;TZID=Europe/Berlin:20221113T173000
LOCATION:Tělocvična ZŠ Nádražní\, Nádražní 5 Vyškov - Vyškov-Město
SUMMARY:JM-U18Z-IA: VOLEJBAL VYŠKOV\, z.s.-TJ JUNIOR Brno\, z.s.
END:VEVENT
BEGIN:VEVENT
UID:62396563-3837-4133-b965-376366623637
DTSTAMP:20260422T165843Z
DESCRIPTION:2/2 Břeclav - VOLEJBAL VYŠKOV\, z.s. 0:2 (-12\,-20)
DTSTART;TZID=Europe/Berlin:20221113T103000
DTEND;TZID=Europe/Berlin:20221113T123000
LOCATION:TJ Lokomotiva Břeclav\, Veslařská 2753 Břeclav
SUMMARY:JM-U18Z-IA: Břeclav-VOLEJBAL VYŠKOV\, z.s.
END:VEVENT
BEGIN:VEVENT
UID:36666334-6537-4533-b562-396336616664
DTSTAMP:20260422T165843Z
DESCRIPTION:3/3 VK Brno\, Vejrostova - VOLEJBAL VYŠKOV\, z.s. 1:2 (20\,-22\
 ,-8)
DTSTART;TZID=Europe/Berlin:20221113T114500
DTEND;TZID=Europe/Berlin:20221113T134500
LOCATION:ZŠ Vejrostova\, Vejrostova 1066 Brno - Bystrc
SUMMARY:JM-U18Z-IA: VK Brno\, Vejrostova-VOLEJBAL VYŠKOV\, z.s.
END:VEVENT
BEGIN:VEVENT
UID:32356263-3462-4330-a534-376334626531
DTSTAMP:20260422T165843Z
DESCRIPTION:2/2 VOLEJBAL VYŠKOV\, z.s. - Břeclav 2:1 (25\,-23\,12)
DTSTART;TZID=Europe/Berlin:20221204T103000
DTEND;TZID=Europe/Berlin:20221204T123000
LOCATION:Tělocvična ZŠ Nádražní\, Nádražní 5 Vyškov - Vyškov-Město
SUMMARY:JM-U18Z-IIA: VOLEJBAL VYŠKOV\, z.s.-Břeclav
END:VEVENT
BEGIN:VEVENT
UID:37303237-6163-4361-b433-303166306163
DTSTAMP:20260422T165843Z
DESCRIPTION:5/5 VOLEJBAL VYŠKOV\, z.s. - TJ Sokol Jehnice 2:0 (21\,22)
DTSTART;TZID=Europe/Berlin:20221204T141500
DTEND;TZID=Europe/Berlin:20221204T161500
LOCATION:Tělocvična ZŠ Nádražní\, Nádražní 5 Vyškov - Vyškov-Město
SUMMARY:JM-U18Z-IIA: VOLEJBAL VYŠKOV\, z.s.-TJ Sokol Jehnice
END:VEVENT
BEGIN:VEVENT
UID:31613938-3165-4465-b766-353262653639
DTSTAMP:20260422T165843Z
DESCRIPTION:4/4 TJ JUNIOR Brno\, z.s. - VOLEJBAL VYŠKOV\, z.s. 0:2 (-8\,-20
 )
DTSTART;TZID=Europe/Berlin:20221204T130000
DTEND;TZID=Europe/Berlin:20221204T150000
LOCATION:tělocvičny ZŠ Novolíšeňská\, Brno\, Novolíšeňská 2411 Brno - Líšeň
SUMMARY:JM-U18Z-IIA: TJ JUNIOR Brno\, z.s.-VOLEJBAL VYŠKOV\, z.s.
END:VEVENT
BEGIN:VEVENT
UID:63373566-6430-4765-b533-646638316436
DTSTAMP:20260422T165843Z
DESCRIPTION:2/3 VOLEJBAL VYŠKOV\, z.s. - TJ Sokol Jehnice 2:0 (10\,17)
DTSTART;TZID=Europe/Berlin:20221218T103000
DTEND;TZID=Europe/Berlin:20221218T123000
LOCATION:Tělocvična ZŠ Nádražní\, Nádražní 5 Vyškov - Vyškov-Město
SUMMARY:JM-U18Z-IIIA: VOLEJBAL VYŠKOV\, z.s.-TJ Sokol Jehnice
END:VEVENT
BEGIN:VEVENT
UID:34316166-3066-4562-b364-623938306435
DTSTAMP:20260422T165843Z
DESCRIPTION:1/1 VK Brno\, Vejrostova - VOLEJBAL VYŠKOV\, z.s. 0:2 (-11\,-20
 )
DTSTART;TZID=Europe/Berlin:20221218T090000
DTEND;TZID=Europe/Berlin:20221218T110000
LOCATION:ZŠ Vejrostova\, Vejrostova 1066 Brno - Bystrc
SUMMARY:JM-U18Z-IIIA: VK Brno\, Vejrostova-VOLEJBAL VYŠKOV\, z.s.
END:VEVENT
BEGIN:VEVENT
UID:39353531-3861-4731-b963-646231303763
DTSTAMP:20260422T165843Z
DESCRIPTION:3/5 Břeclav - VOLEJBAL VYŠKOV\, z.s. 0:2 (-12\,-24)
DTSTART;TZID=Europe/Berlin:20221218T114500
DTEND;TZID=Europe/Berlin:20221218T134500
LOCATION:TJ Lokomotiva Břeclav\, Veslařská 2753 Břeclav
SUMMARY:JM-U18Z-IIIA: Břeclav-VOLEJBAL VYŠKOV\, z.s.
END:VEVENT
BEGIN:VEVENT
UID:63393238-6133-4139-b566-643036643432
DTSTAMP:20260422T165843Z
DESCRIPTION:2/3 VOLEJBAL VYŠKOV\, z.s. - VK Brno\, Vejrostova 1:2 (-18\,6\,
 -13)
DTSTART;TZID=Europe/Berlin:20230108T103000
DTEND;TZID=Europe/Berlin:20230108T123000
LOCATION:Tělocvična ZŠ Nádražní\, Nádražní 5 Vyškov - Vyškov-Město
SUMMARY:JM-U18Z-IVA: VOLEJBAL VYŠKOV\, z.s.-VK Brno\, Vejrostova
END:VEVENT
BEGIN:VEVENT
UID:65393338-6530-4233-b233-303436653534
DTSTAMP:20260422T165843Z
DESCRIPTION:1/1 Břeclav - VOLEJBAL VYŠKOV\, z.s. 2:0 (14\,16)
DTSTART;TZID=Europe/Berlin:20230108T090000
DTEND;TZID=Europe/Berlin:20230108T110000
LOCATION:TJ Lokomotiva Břeclav\, Veslařská 2753 Břeclav
SUMMARY:JM-U18Z-IVA: Břeclav-VOLEJBAL VYŠKOV\, z.s.
END:VEVENT
BEGIN:VEVENT
UID:30343061-6265-4264-a664-636564646634
DTSTAMP:20260422T165843Z
DESCRIPTION:3/5 TJ JUNIOR Brno\, z.s. - VOLEJBAL VYŠKOV\, z.s. 0:2 (-14\,-2
 1)
DTSTART;TZID=Europe/Berlin:20230108T114500
DTEND;TZID=Europe/Berlin:20230108T134500
LOCATION:tělocvičny ZŠ Novolíšeňská\, Brno\, Novolíšeňská 2411 Brno - Líšeň
SUMMARY:JM-U18Z-IVA: TJ JUNIOR Brno\, z.s.-VOLEJBAL VYŠKOV\, z.s.
END:VEVENT
BEGIN:VEVENT
UID:37633438-3632-4063-b864-623966616465
DTSTAMP:20260422T165843Z
DESCRIPTION:2/3 VOLEJBAL VYŠKOV\, z.s. - TJ Sokol Jehnice 2:0 (10\,20)
DTSTART;TZID=Europe/Berlin:20230129T103000
DTEND;TZID=Europe/Berlin:20230129T123000
LOCATION:Tělocvična ZŠ Nádražní\, Nádražní 5 Vyškov - Vyškov-Město
SUMMARY:JM-U18Z-VA: VOLEJBAL VYŠKOV\, z.s.-TJ Sokol Jehnice
END:VEVENT
BEGIN:VEVENT
UID:63346331-3735-4830-b763-373664343365
DTSTAMP:20260422T165843Z
DESCRIPTION:1/1 Břeclav - VOLEJBAL VYŠKOV\, z.s. 1:2 (23\,-25\,-9)
DTSTART;TZID=Europe/Berlin:20230129T090000
DTEND;TZID=Europe/Berlin:20230129T110000
LOCATION:TJ Lokomotiva Břeclav\, Veslařská 2753 Břeclav
SUMMARY:JM-U18Z-VA: Břeclav-VOLEJBAL VYŠKOV\, z.s.
END:VEVENT
BEGIN:VEVENT
UID:30363464-6461-4939-a131-663832313037
DTSTAMP:20260422T165843Z
DESCRIPTION:3/5 VK Brno\, Vejrostova - VOLEJBAL VYŠKOV\, z.s. 0:2 (-9\,-8)
DTSTART;TZID=Europe/Berlin:20230129T114500
DTEND;TZID=Europe/Berlin:20230129T134500
LOCATION:ZŠ Vejrostova\, Vejrostova 1066 Brno - Bystrc
SUMMARY:JM-U18Z-VA: VK Brno\, Vejrostova-VOLEJBAL VYŠKOV\, z.s.
END:VEVENT
BEGIN:VEVENT
UID:32336433-3463-4135-b832-313834303838
DTSTAMP:20260422T165843Z
DESCRIPTION:3/6 VOLEJBAL VYŠKOV\, z.s. - Břeclav 0:2 (-21\,-14)
DTSTART;TZID=Europe/Berlin:20230212T114500
DTEND;TZID=Europe/Berlin:20230212T134500
LOCATION:Tělocvična ZŠ Nádražní\, Nádražní 5 Vyškov - Vyškov-Město
SUMMARY:JM-U18Z-VIA: VOLEJBAL VYŠKOV\, z.s.-Břeclav
END:VEVENT
BEGIN:VEVENT
UID:65353234-3162-4361-b934-643536313234
DTSTAMP:20260422T165843Z
DESCRIPTION:1/2 VK Brno\, Vejrostova - VOLEJBAL VYŠKOV\, z.s. 0:2 (-21\,-11
 )
DTSTART;TZID=Europe/Berlin:20230212T090000
DTEND;TZID=Europe/Berlin:20230212T110000
LOCATION:ZŠ Vejrostova\, Vejrostova 1066 Brno - Bystrc
SUMMARY:JM-U18Z-VIA: VK Brno\, Vejrostova-VOLEJBAL VYŠKOV\, z.s.
END:VEVENT
BEGIN:VEVENT
UID:38623866-3535-4238-a666-313062636562
DTSTAMP:20260422T165843Z
DESCRIPTION:2/3 TJ Sokol Veselí nad Moravou - VOLEJBAL VYŠKOV\, z.s. 0:2 (-
 19\,-14)
DTSTART;TZID=Europe/Berlin:20230212T103000
DTEND;TZID=Europe/Berlin:20230212T123000
LOCATION:Církevní ZŠ Veselí nad Moravou\, Školní 698 Veselí nad Moravou
SUMMARY:JM-U18Z-VIA: TJ Sokol Veselí nad Moravou-VOLEJBAL VYŠKOV\, z.s.
END:VEVENT
BEGIN:VEVENT
UID:66316637-3361-4231-b433-666463303966
DTSTAMP:20260422T165843Z
DESCRIPTION:3/3 VOLEJBAL VYŠKOV\, z.s. - Břeclav 0:2 (-11\,-11)
DTSTART;TZID=Europe/Berlin:20230305T114500
DTEND;TZID=Europe/Berlin:20230305T134500
LOCATION:Tělocvična ZŠ Nádražní\, Nádražní 5 Vyškov - Vyškov-Město
SUMMARY:JM-U18Z-VIIA: VOLEJBAL VYŠKOV\, z.s.-Břeclav
END:VEVENT
BEGIN:VEVENT
UID:33643262-6137-4464-b432-376363643035
DTSTAMP:20260422T165843Z
DESCRIPTION:1/1 VS Cobry Drásov - VOLEJBAL VYŠKOV\, z.s. 2:1 (-18\,16\,12)
DTSTART;TZID=Europe/Berlin:20230305T090000
DTEND;TZID=Europe/Berlin:20230305T110000
LOCATION:Hala u ZŠ TGM Drásov\, Školní 167 Drásov
SUMMARY:JM-U18Z-VIIA: VS Cobry Drásov-VOLEJBAL VYŠKOV\, z.s.
END:VEVENT
BEGIN:VEVENT
UID:35323236-6339-4635-a666-336534656638
DTSTAMP:20260422T165843Z
DESCRIPTION:5/5 TJ Sokol Veselí nad Moravou - VOLEJBAL VYŠKOV\, z.s. 0:2 (-
 20\,-13)
DTSTART;TZID=Europe/Berlin:20230305T141500
DTEND;TZID=Europe/Berlin:20230305T161500
LOCATION:Církevní ZŠ Veselí nad Moravou\, Školní 698 Veselí nad Moravou
SUMMARY:JM-U18Z-VIIA: TJ Sokol Veselí nad Moravou-VOLEJBAL VYŠKOV\, z.s.
END:VEVENT
BEGIN:VEVENT
UID:64363164-3932-4736-b162-363864363036
DTSTAMP:20260422T165843Z
DESCRIPTION:1/2 VOLEJBAL VYŠKOV\, z.s. - TJ Sokol Veselí nad Moravou 2:0 (1
 2\,23)\n2. vs 7. Kurt 2
DTSTART;TZID=Europe/Berlin:20230402T090000
DTEND;TZID=Europe/Berlin:20230402T110000
LOCATION:Tělocvična ZŠ Nádražní\, Nádražní 5 Vyškov - Vyškov-Město
SUMMARY:JM-U18Z-F: VOLEJBAL VYŠKOV\, z.s.-TJ Sokol Veselí nad Moravou
END:VEVENT
END:VCALENDAR
