BEGIN:VCALENDAR
VERSION:2.0
PRODID:-//TJ ČZ Strakonice79385//NONSGML kigkonsult.se iCalcreator 2.41.80//
CALSCALE:GREGORIAN
UID:38396561-3235-4437-a234-633134306230
BEGIN:VEVENT
UID:63353162-3331-4937-a239-663163363533
DTSTAMP:20260422T221345Z
DESCRIPTION:1/4 Strakonice - VSK Slavia JU ČB 2:0 (12\,23)
DTSTART;TZID=Europe/Berlin:20220925T120000
DTEND;TZID=Europe/Berlin:20220925T140000
LOCATION:Hala TJ ČZ Strakonice\, Máchova 108 Strakonice - Strakonice I
SUMMARY:JC-U20Z-1A: Strakonice-VSK Slavia JU ČB
END:VEVENT
BEGIN:VEVENT
UID:36353830-6435-4838-b465-333834653831
DTSTAMP:20260422T221345Z
DESCRIPTION:1/2 VK Madeta C - Strakonice 2:0 (13\,13)
DTSTART;TZID=Europe/Berlin:20220925T100000
DTEND;TZID=Europe/Berlin:20220925T120000
LOCATION:Sportovní hala\, Stromovka 1216 České Budějovice - České Budějovic
 e 2
SUMMARY:JC-U20Z-1A: VK Madeta C-Strakonice
END:VEVENT
BEGIN:VEVENT
UID:36643131-3639-4664-a234-326332393337
DTSTAMP:20260422T221345Z
DESCRIPTION:1/6 Volejbal Rudolfov - Strakonice 2:0 (16\,16)
DTSTART;TZID=Europe/Berlin:20220925T140000
DTEND;TZID=Europe/Berlin:20220925T160000
LOCATION:Sportovní hala Rudolfov\, Adamovská 511 Rudolfov
SUMMARY:JC-U20Z-1A: Volejbal Rudolfov-Strakonice
END:VEVENT
BEGIN:VEVENT
UID:62333434-3963-4166-b139-373530306232
DTSTAMP:20260422T221345Z
DESCRIPTION:1/5 Strakonice - Volejbal Rudolfov 0:2 (-9\,-14)
DTSTART;TZID=Europe/Berlin:20221120T130000
DTEND;TZID=Europe/Berlin:20221120T150000
LOCATION:Hala TJ ČZ Strakonice\, Máchova 108 Strakonice - Strakonice I
SUMMARY:JC-U20Z-2A: Strakonice-Volejbal Rudolfov
END:VEVENT
BEGIN:VEVENT
UID:64303862-6166-4436-b463-643630313834
DTSTAMP:20260422T221345Z
DESCRIPTION:1/1 VK Madeta C - Strakonice 2:0 (17\,11)
DTSTART;TZID=Europe/Berlin:20221120T090000
DTEND;TZID=Europe/Berlin:20221120T110000
LOCATION:Sportovní hala\, Stromovka 1216 České Budějovice - České Budějovic
 e 2
SUMMARY:JC-U20Z-2A: VK Madeta C-Strakonice
END:VEVENT
BEGIN:VEVENT
UID:37326162-3961-4330-b132-353735396263
DTSTAMP:20260422T221345Z
DESCRIPTION:1/4 VK Madeta D - Strakonice 1:2 (-23\,11\,-11)
DTSTART;TZID=Europe/Berlin:20221120T120000
DTEND;TZID=Europe/Berlin:20221120T140000
LOCATION:Sportovní hala\, Stromovka 1216 České Budějovice - České Budějovic
 e 2
SUMMARY:JC-U20Z-2A: VK Madeta D-Strakonice
END:VEVENT
BEGIN:VEVENT
UID:38303535-3134-4439-b363-383461326433
DTSTAMP:20260422T221345Z
DESCRIPTION:1/2 VSK Český Krumlov - Strakonice 2:0 (23\,24)\nTábor
DTSTART;TZID=Europe/Berlin:20230122T100000
DTEND;TZID=Europe/Berlin:20230122T120000
LOCATION:ZŠ Za Nádražím Český Krumlov\, Za Nádražím 222 Český Krumlov - Nád
 ražní Předměstí
SUMMARY:JC-U20Z-3A: VSK Český Krumlov-Strakonice
END:VEVENT
BEGIN:VEVENT
UID:39376537-3634-4438-b961-386630356462
DTSTAMP:20260422T221345Z
DESCRIPTION:1/3 VK Madeta C - Strakonice 2:0 (20\,15)\nTábor
DTSTART;TZID=Europe/Berlin:20230122T110000
DTEND;TZID=Europe/Berlin:20230122T130000
LOCATION:Sportovní hala\, Stromovka 1216 České Budějovice - České Budějovic
 e 2
SUMMARY:JC-U20Z-3A: VK Madeta C-Strakonice
END:VEVENT
BEGIN:VEVENT
UID:34313466-3764-4233-a630-316564363635
DTSTAMP:20260422T221345Z
DESCRIPTION:1/6 Volejbal Rudolfov - Strakonice 0:2 (-17\,-13)\nTábor
DTSTART;TZID=Europe/Berlin:20230122T140000
DTEND;TZID=Europe/Berlin:20230122T160000
LOCATION:Sportovní hala Rudolfov\, Adamovská 511 Rudolfov
SUMMARY:JC-U20Z-3A: Volejbal Rudolfov-Strakonice
END:VEVENT
BEGIN:VEVENT
UID:35323439-3338-4563-a362-343039643461
DTSTAMP:20260422T221345Z
DESCRIPTION:1/5 Strakonice - VK Madeta D 2:0 (23\,21)
DTSTART;TZID=Europe/Berlin:20230319T120000
DTEND;TZID=Europe/Berlin:20230319T140000
LOCATION:Hala TJ ČZ Strakonice\, Máchova 108 Strakonice - Strakonice I
SUMMARY:JC-U20Z-4A: Strakonice-VK Madeta D
END:VEVENT
BEGIN:VEVENT
UID:35616561-3338-4332-b936-636136336430
DTSTAMP:20260422T221345Z
DESCRIPTION:1/1 VK Madeta C - Strakonice 2:0 (19\,19)
DTSTART;TZID=Europe/Berlin:20230319T090000
DTEND;TZID=Europe/Berlin:20230319T110000
LOCATION:Sportovní hala\, Stromovka 1216 České Budějovice - České Budějovic
 e 2
SUMMARY:JC-U20Z-4A: VK Madeta C-Strakonice
END:VEVENT
BEGIN:VEVENT
UID:30346230-6239-4066-b531-356464393235
DTSTAMP:20260422T221345Z
DESCRIPTION:1/4 VSK Český Krumlov - Strakonice 1:2 (20\,-24\,-14)
DTSTART;TZID=Europe/Berlin:20230319T103000
DTEND;TZID=Europe/Berlin:20230319T123000
LOCATION:ZŠ Za Nádražím Český Krumlov\, Za Nádražím 222 Český Krumlov - Nád
 ražní Předměstí
SUMMARY:JC-U20Z-4A: VSK Český Krumlov-Strakonice
END:VEVENT
BEGIN:VEVENT
UID:35656134-3264-4266-b135-613737323035
DTSTAMP:20260422T221345Z
DESCRIPTION:1/2 Strakonice - Hořovice 3:1 (-23\,19\,16\,23)
DTSTART;TZID=Europe/Berlin:20230429T120000
DTEND;TZID=Europe/Berlin:20230429T140000
LOCATION:Sportovní hala - SG Plzeň\, Vejprnická 663 Plzeň - Skvrňany
SUMMARY:2-U20Z-KA: Strakonice-Hořovice
END:VEVENT
BEGIN:VEVENT
UID:35313262-6363-4233-b634-653338356639
DTSTAMP:20260422T221345Z
DESCRIPTION:3/5 Strakonice - Rokycany 0:3 (-6\,-18\,-10)
DTSTART;TZID=Europe/Berlin:20230430T100000
DTEND;TZID=Europe/Berlin:20230430T120000
LOCATION:Sportovní hala - SG Plzeň\, Vejprnická 663 Plzeň - Skvrňany
SUMMARY:2-U20Z-KA: Strakonice-Rokycany
END:VEVENT
BEGIN:VEVENT
UID:66313562-6166-4135-b239-326665343733
DTSTAMP:20260422T221345Z
DESCRIPTION:2/4 Plzeň B - Strakonice 3:2 (-23\,19\,17\,-22\,10)
DTSTART;TZID=Europe/Berlin:20230429T160000
DTEND;TZID=Europe/Berlin:20230429T180000
LOCATION:Sportovní hala - SG Plzeň\, Vejprnická 663 Plzeň - Skvrňany
SUMMARY:2-U20Z-KA: Plzeň B-Strakonice
END:VEVENT
END:VCALENDAR
