BEGIN:VCALENDAR
VERSION:2.0
PRODID:-//START B679396//NONSGML kigkonsult.se iCalcreator 2.41.80//
CALSCALE:GREGORIAN
UID:65353339-6532-4438-b362-393564303432
BEGIN:VEVENT
UID:64633837-6634-4461-a264-396331363435
DTSTAMP:20260423T111502Z
DESCRIPTION:3/5 START B6 - KP Brno C 3:1 (17\,-22\,22\,14)
DTSTART;TZID=Europe/Berlin:20221001T100000
DTEND;TZID=Europe/Berlin:20221001T120000
LOCATION:Základní škola Brno\, Sirotkova 36\, Sirotkova 371 Brno - Žabovřes
 ky
SUMMARY:JM-U20Z-A: START B6-KP Brno C
END:VEVENT
BEGIN:VEVENT
UID:33303531-3738-4631-a637-396633613461
DTSTAMP:20260423T111502Z
DESCRIPTION:4/7 START B6 - KP Brno C 3:0 (10\,23\,24)
DTSTART;TZID=Europe/Berlin:20221001T130000
DTEND;TZID=Europe/Berlin:20221001T150000
LOCATION:Základní škola Brno\, Sirotkova 36\, Sirotkova 371 Brno - Žabovřes
 ky
SUMMARY:JM-U20Z-A: START B6-KP Brno C
END:VEVENT
BEGIN:VEVENT
UID:38333761-3930-4863-b965-373938326439
DTSTAMP:20260423T111502Z
DESCRIPTION:9/18 START B6 - TJ Minerva Boskovice 3:0 (23\,16\,20)
DTSTART;TZID=Europe/Berlin:20221119T100000
DTEND;TZID=Europe/Berlin:20221119T120000
LOCATION:Základní škola Brno\, Sirotkova 36\, Sirotkova 371 Brno - Žabovřes
 ky
SUMMARY:JM-U20Z-A: START B6-TJ Minerva Boskovice
END:VEVENT
BEGIN:VEVENT
UID:64373266-6665-4835-b238-393533643432
DTSTAMP:20260423T111502Z
DESCRIPTION:10/20 START B6 - TJ Minerva Boskovice 3:2 (-22\,13\,-24\,21\,11
 )
DTSTART;TZID=Europe/Berlin:20221119T130000
DTEND;TZID=Europe/Berlin:20221119T150000
LOCATION:Základní škola Brno\, Sirotkova 36\, Sirotkova 371 Brno - Žabovřes
 ky
SUMMARY:JM-U20Z-A: START B6-TJ Minerva Boskovice
END:VEVENT
BEGIN:VEVENT
UID:30623831-3538-4466-b432-633766343037
DTSTAMP:20260423T111502Z
DESCRIPTION:11/21 START B6 - Vyškov 1:3 (-20\,-14\,23\,-22)
DTSTART;TZID=Europe/Berlin:20221203T100000
DTEND;TZID=Europe/Berlin:20221203T120000
LOCATION:Základní škola Brno\, Sirotkova 36\, Sirotkova 371 Brno - Žabovřes
 ky
SUMMARY:JM-U20Z-A: START B6-Vyškov
END:VEVENT
BEGIN:VEVENT
UID:35343739-3136-4637-b236-393935373232
DTSTAMP:20260423T111502Z
DESCRIPTION:12/23 START B6 - Vyškov 0:3 (-13\,-22\,-16)
DTSTART;TZID=Europe/Berlin:20221203T130000
DTEND;TZID=Europe/Berlin:20221203T150000
LOCATION:Základní škola Brno\, Sirotkova 36\, Sirotkova 371 Brno - Žabovřes
 ky
SUMMARY:JM-U20Z-A: START B6-Vyškov
END:VEVENT
BEGIN:VEVENT
UID:39646434-3363-4531-a162-303430626239
DTSTAMP:20260423T111502Z
DESCRIPTION:15/30 START B6 - VK Brno\, z.s. 3:0 (11\,13\,18)
DTSTART;TZID=Europe/Berlin:20230107T100000
DTEND;TZID=Europe/Berlin:20230107T120000
LOCATION:Základní škola Brno\, Sirotkova 36\, Sirotkova 371 Brno - Žabovřes
 ky
SUMMARY:JM-U20Z-A: START B6-VK Brno\, z.s.
END:VEVENT
BEGIN:VEVENT
UID:30616164-6631-4436-b832-373437323237
DTSTAMP:20260423T111502Z
DESCRIPTION:16/32 START B6 - VK Brno\, z.s. 3:0 (17\,15\,17)
DTSTART;TZID=Europe/Berlin:20230107T130000
DTEND;TZID=Europe/Berlin:20230107T150000
LOCATION:Základní škola Brno\, Sirotkova 36\, Sirotkova 371 Brno - Žabovřes
 ky
SUMMARY:JM-U20Z-A: START B6-VK Brno\, z.s.
END:VEVENT
BEGIN:VEVENT
UID:36626638-3466-4234-b462-663263323737
DTSTAMP:20260423T111502Z
DESCRIPTION:1/1 Vyškov - START B6 3:0 (25\,19\,17)
DTSTART;TZID=Europe/Berlin:20220924T100000
DTEND;TZID=Europe/Berlin:20220924T120000
LOCATION:Tělocvična ZŠ Nádražní\, Nádražní 5 Vyškov - Vyškov-Město
SUMMARY:JM-U20Z-A: Vyškov-START B6
END:VEVENT
BEGIN:VEVENT
UID:61383437-3964-4162-b937-666439336231
DTSTAMP:20260423T111502Z
DESCRIPTION:2/3 Vyškov - START B6 3:1 (-23\,19\,8\,17)
DTSTART;TZID=Europe/Berlin:20220924T130000
DTEND;TZID=Europe/Berlin:20220924T150000
LOCATION:Tělocvična ZŠ Nádražní\, Nádražní 5 Vyškov - Vyškov-Město
SUMMARY:JM-U20Z-A: Vyškov-START B6
END:VEVENT
BEGIN:VEVENT
UID:61303534-3839-4430-b364-316265633738
DTSTAMP:20260423T111502Z
DESCRIPTION:5/10 VK Brno\, z.s. - START B6 0:3 (-15\,-18\,-17)
DTSTART;TZID=Europe/Berlin:20221015T100000
DTEND;TZID=Europe/Berlin:20221015T120000
LOCATION:Tělocvična ZŠ Bílovice nad Svitavou\, Komenského 151 Bílovice nad 
 Svitavou
SUMMARY:JM-U20Z-A: VK Brno\, z.s.-START B6
END:VEVENT
BEGIN:VEVENT
UID:66633734-6632-4264-b537-343363376661
DTSTAMP:20260423T111502Z
DESCRIPTION:6/12 VK Brno\, z.s. - START B6 0:3 (-11\,-12\,-20)
DTSTART;TZID=Europe/Berlin:20221015T130000
DTEND;TZID=Europe/Berlin:20221015T150000
LOCATION:Tělocvična ZŠ Bílovice nad Svitavou\, Komenského 151 Bílovice nad 
 Svitavou
SUMMARY:JM-U20Z-A: VK Brno\, z.s.-START B6
END:VEVENT
BEGIN:VEVENT
UID:31663236-6464-4464-b237-396662303231
DTSTAMP:20260423T111502Z
DESCRIPTION:13/25 KP Brno C - START B6 2:3 (-18\,17\,22\,-15\,-11)
DTSTART;TZID=Europe/Berlin:20221210T100000
DTEND;TZID=Europe/Berlin:20221210T120000
LOCATION:Sportovní gymnázium Ludvíka Daňka\, Botanická 63 Brno - Ponava
SUMMARY:JM-U20Z-A: KP Brno C-START B6
END:VEVENT
BEGIN:VEVENT
UID:64336365-3166-4935-b134-646365386138
DTSTAMP:20260423T111502Z
DESCRIPTION:14/27 KP Brno C - START B6 0:3 (-23\,-23\,-24)
DTSTART;TZID=Europe/Berlin:20221210T130000
DTEND;TZID=Europe/Berlin:20221210T150000
LOCATION:Sportovní gymnázium Ludvíka Daňka\, Botanická 63 Brno - Ponava
SUMMARY:JM-U20Z-A: KP Brno C-START B6
END:VEVENT
BEGIN:VEVENT
UID:65643836-6530-4563-a431-623934626535
DTSTAMP:20260423T111502Z
DESCRIPTION:19/38 TJ Minerva Boskovice - START B6 0:3 (-18\,-21\,-18)
DTSTART;TZID=Europe/Berlin:20230128T100000
DTEND;TZID=Europe/Berlin:20230128T120000
LOCATION:Tělocvična ZŠ\, Slovákova 2006 Boskovice
SUMMARY:JM-U20Z-A: TJ Minerva Boskovice-START B6
END:VEVENT
BEGIN:VEVENT
UID:38303461-6230-4966-b734-653962653062
DTSTAMP:20260423T111502Z
DESCRIPTION:20/40 TJ Minerva Boskovice - START B6 0:3 (-13\,-19\,-22)
DTSTART;TZID=Europe/Berlin:20230128T130000
DTEND;TZID=Europe/Berlin:20230128T150000
LOCATION:Tělocvična ZŠ\, Slovákova 2006 Boskovice
SUMMARY:JM-U20Z-A: TJ Minerva Boskovice-START B6
END:VEVENT
BEGIN:VEVENT
UID:62303866-6132-4339-b162-356137633732
DTSTAMP:20260423T111502Z
DESCRIPTION:1/2 START B6 - TJ Sokol Jehnice 0:3 (-6\,-13\,-26)
DTSTART;TZID=Europe/Berlin:20230225T100000
DTEND;TZID=Europe/Berlin:20230225T120000
LOCATION:Základní škola Brno\, Sirotkova 36\, Sirotkova 371 Brno - Žabovřes
 ky
SUMMARY:JM-U20Z-I: START B6-TJ Sokol Jehnice
END:VEVENT
BEGIN:VEVENT
UID:61343535-3165-4162-b431-343535663635
DTSTAMP:20260423T111502Z
DESCRIPTION:2/5 START B6 - TJ Sokol Jehnice 3:2 (24\,14\,-20\,-15\,11)
DTSTART;TZID=Europe/Berlin:20230225T130000
DTEND;TZID=Europe/Berlin:20230225T150000
LOCATION:Základní škola Brno\, Sirotkova 36\, Sirotkova 371 Brno - Žabovřes
 ky
SUMMARY:JM-U20Z-I: START B6-TJ Sokol Jehnice
END:VEVENT
BEGIN:VEVENT
UID:62306665-3333-4538-b663-366333393237
DTSTAMP:20260423T111502Z
DESCRIPTION:5/14 START B6 - Lokomotiva Fosfa Břeclav 3:1 (14\,11\,-23\,18)
DTSTART;TZID=Europe/Berlin:20230304T100000
DTEND;TZID=Europe/Berlin:20230304T120000
LOCATION:Základní škola Brno\, Sirotkova 36\, Sirotkova 371 Brno - Žabovřes
 ky
SUMMARY:JM-U20Z-I: START B6-Lokomotiva Fosfa Břeclav
END:VEVENT
BEGIN:VEVENT
UID:39383137-3835-4762-b665-386161366530
DTSTAMP:20260423T111502Z
DESCRIPTION:6/17 START B6 - Lokomotiva Fosfa Břeclav 3:0 (12\,9\,16)
DTSTART;TZID=Europe/Berlin:20230304T130000
DTEND;TZID=Europe/Berlin:20230304T150000
LOCATION:Základní škola Brno\, Sirotkova 36\, Sirotkova 371 Brno - Žabovřes
 ky
SUMMARY:JM-U20Z-I: START B6-Lokomotiva Fosfa Břeclav
END:VEVENT
BEGIN:VEVENT
UID:62316436-3065-4566-a333-626563376435
DTSTAMP:20260423T111502Z
DESCRIPTION:9/26 START B6 - KP Brno D 1:3 (-21\,-14\,25\,-20)
DTSTART;TZID=Europe/Berlin:20230325T100000
DTEND;TZID=Europe/Berlin:20230325T120000
LOCATION:Základní škola Brno\, Sirotkova 36\, Sirotkova 371 Brno - Žabovřes
 ky
SUMMARY:JM-U20Z-I: START B6-KP Brno D
END:VEVENT
BEGIN:VEVENT
UID:36653738-3030-4338-a661-366338646164
DTSTAMP:20260423T111502Z
DESCRIPTION:10/29 START B6 - KP Brno D 1:3 (-23\,27\,-7\,-14)
DTSTART;TZID=Europe/Berlin:20230325T130000
DTEND;TZID=Europe/Berlin:20230325T150000
LOCATION:Základní škola Brno\, Sirotkova 36\, Sirotkova 371 Brno - Žabovřes
 ky
SUMMARY:JM-U20Z-I: START B6-KP Brno D
END:VEVENT
BEGIN:VEVENT
UID:32653135-3830-4263-b965-636462383235
DTSTAMP:20260423T111502Z
DESCRIPTION:3/8 KP Brno D - START B6 3:0 (11\,20\,21)
DTSTART;TZID=Europe/Berlin:20230221T174000
DTEND;TZID=Europe/Berlin:20230221T194000
LOCATION:Základní škola Brno\, Sirotkova 36\, Sirotkova 371 Brno - Žabovřes
 ky
SUMMARY:JM-U20Z-I: KP Brno D-START B6
END:VEVENT
BEGIN:VEVENT
UID:32343264-3930-4239-b139-633564303431
DTSTAMP:20260423T111502Z
DESCRIPTION:4/11 KP Brno D - START B6 3:1 (17\,-17\,15\,21)
DTSTART;TZID=Europe/Berlin:20230221T194000
DTEND;TZID=Europe/Berlin:20230221T214000
LOCATION:Základní škola Brno\, Sirotkova 36\, Sirotkova 371 Brno - Žabovřes
 ky
SUMMARY:JM-U20Z-I: KP Brno D-START B6
END:VEVENT
BEGIN:VEVENT
UID:35396139-3535-4064-b137-393262323236
DTSTAMP:20260423T111502Z
DESCRIPTION:7/20 TJ Sokol Jehnice - START B6 3:1 (-24\,16\,18\,18)
DTSTART;TZID=Europe/Berlin:20230327T173000
DTEND;TZID=Europe/Berlin:20230327T193000
LOCATION:TJ Sokol Jehnice\, Blanenská 1 Brno - Jehnice
SUMMARY:JM-U20Z-I: TJ Sokol Jehnice-START B6
END:VEVENT
BEGIN:VEVENT
UID:66663936-3964-4637-b030-343335613665
DTSTAMP:20260423T111502Z
DESCRIPTION:8/23 TJ Sokol Jehnice - START B6 3:2 (-15\,20\,8\,-21\,8)
DTSTART;TZID=Europe/Berlin:20230330T173000
DTEND;TZID=Europe/Berlin:20230330T193000
LOCATION:TJ Sokol Jehnice\, Blanenská 1 Brno - Jehnice
SUMMARY:JM-U20Z-I: TJ Sokol Jehnice-START B6
END:VEVENT
BEGIN:VEVENT
UID:65343130-6430-4561-b633-396666626539
DTSTAMP:20260423T111502Z
DESCRIPTION:11/32 Lokomotiva Fosfa Břeclav - START B6 3:1 (17\,14\,-18\,27)
DTSTART;TZID=Europe/Berlin:20230401T100000
DTEND;TZID=Europe/Berlin:20230401T120000
LOCATION:TJ Lokomotiva Břeclav\, Veslařská 2753 Břeclav
SUMMARY:JM-U20Z-I: Lokomotiva Fosfa Břeclav-START B6
END:VEVENT
BEGIN:VEVENT
UID:31663334-3961-4264-b462-326633323938
DTSTAMP:20260423T111502Z
DESCRIPTION:12/35 Lokomotiva Fosfa Břeclav - START B6 0:3 (-19\,-22\,-22)
DTSTART;TZID=Europe/Berlin:20230401T130000
DTEND;TZID=Europe/Berlin:20230401T150000
LOCATION:TJ Lokomotiva Břeclav\, Veslařská 2753 Břeclav
SUMMARY:JM-U20Z-I: Lokomotiva Fosfa Břeclav-START B6
END:VEVENT
END:VCALENDAR
