BEGIN:VCALENDAR
VERSION:2.0
PRODID:-//TJ Vysoké nad Jizerou, z.s.79419//NONSGML kigkonsult.se iCalcreator 2.41.80//
CALSCALE:GREGORIAN
UID:34613363-3439-4064-a637-643039326161
BEGIN:VEVENT
UID:31393336-3732-4233-b835-386162653330
DTSTAMP:20260423T004321Z
DESCRIPTION:5/13 TJ Vysoké nad Jizerou\, z.s. - SKP Česká Lípa\, z.s. 2:3 (
 19\,-22\,15\,-17\,-15)
DTSTART;TZID=Europe/Berlin:20220924T100000
DTEND;TZID=Europe/Berlin:20220924T120000
LOCATION:Sokolovna\, Tyršova 295 Vysoké nad Jizerou
SUMMARY:LIB-Z-2: TJ Vysoké nad Jizerou\, z.s.-SKP Česká Lípa\, z.s.
END:VEVENT
BEGIN:VEVENT
UID:33616537-3031-4839-b035-386365306334
DTSTAMP:20260423T004321Z
DESCRIPTION:6/16 TJ Vysoké nad Jizerou\, z.s. - SKP Česká Lípa\, z.s. 3:1 (
 22\,23\,-9\,23)
DTSTART;TZID=Europe/Berlin:20220924T130000
DTEND;TZID=Europe/Berlin:20220924T150000
LOCATION:Sokolovna\, Tyršova 295 Vysoké nad Jizerou
SUMMARY:LIB-Z-2: TJ Vysoké nad Jizerou\, z.s.-SKP Česká Lípa\, z.s.
END:VEVENT
BEGIN:VEVENT
UID:63626466-6362-4365-b736-343332373632
DTSTAMP:20260423T004321Z
DESCRIPTION:9/27 TJ Vysoké nad Jizerou\, z.s. - VK  Malá Skála 3:2 (-17\,-1
 5\,22\,24\,10)
DTSTART;TZID=Europe/Berlin:20221008T100000
DTEND;TZID=Europe/Berlin:20221008T120000
LOCATION:Sokolovna\, Tyršova 295 Vysoké nad Jizerou
SUMMARY:LIB-Z-2: TJ Vysoké nad Jizerou\, z.s.-VK  Malá Skála
END:VEVENT
BEGIN:VEVENT
UID:61373831-6335-4633-b630-343063346230
DTSTAMP:20260423T004321Z
DESCRIPTION:10/30 TJ Vysoké nad Jizerou\, z.s. - VK  Malá Skála 2:3 (21\,-1
 7\,19\,-11\,-13)
DTSTART;TZID=Europe/Berlin:20221008T130000
DTEND;TZID=Europe/Berlin:20221008T150000
LOCATION:Sokolovna\, Tyršova 295 Vysoké nad Jizerou
SUMMARY:LIB-Z-2: TJ Vysoké nad Jizerou\, z.s.-VK  Malá Skála
END:VEVENT
BEGIN:VEVENT
UID:66353836-3132-4137-b862-333734373561
DTSTAMP:20260423T004321Z
DESCRIPTION:13/38 TJ Vysoké nad Jizerou\, z.s. - TJ Sokol Mnichovo Hradiště
  3:0 (25\,21\,19)\nzměna termínu
DTSTART;TZID=Europe/Berlin:20220903T100000
DTEND;TZID=Europe/Berlin:20220903T120000
LOCATION:Sokolovna\, Tyršova 295 Vysoké nad Jizerou
SUMMARY:LIB-Z-2: TJ Vysoké nad Jizerou\, z.s.-TJ Sokol Mnichovo Hradiště
END:VEVENT
BEGIN:VEVENT
UID:65316565-6139-4334-b664-323965333964
DTSTAMP:20260423T004321Z
DESCRIPTION:14/41 TJ Vysoké nad Jizerou\, z.s. - TJ Sokol Mnichovo Hradiště
  2:3 (-20\,21\,-14\,16\,-13)\nzměna termínu
DTSTART;TZID=Europe/Berlin:20220903T130000
DTEND;TZID=Europe/Berlin:20220903T150000
LOCATION:Sokolovna\, Tyršova 295 Vysoké nad Jizerou
SUMMARY:LIB-Z-2: TJ Vysoké nad Jizerou\, z.s.-TJ Sokol Mnichovo Hradiště
END:VEVENT
BEGIN:VEVENT
UID:36646462-3961-4131-a437-343538316565
DTSTAMP:20260423T004321Z
DESCRIPTION:15/43 TJ Vysoké nad Jizerou\, z.s. - TJ Zikuda Turnov 'B' 3:2 (
 21\,22\,-20\,-16\,10)
DTSTART;TZID=Europe/Berlin:20230506T100000
DTEND;TZID=Europe/Berlin:20230506T120000
LOCATION:Sokolovna\, Tyršova 295 Vysoké nad Jizerou
SUMMARY:LIB-Z-2: TJ Vysoké nad Jizerou\, z.s.-TJ Zikuda Turnov 'B'
END:VEVENT
BEGIN:VEVENT
UID:37333832-6338-4137-a363-326433626462
DTSTAMP:20260423T004321Z
DESCRIPTION:16/46 TJ Vysoké nad Jizerou\, z.s. - TJ Zikuda Turnov 'B' 3:1 (
 17\,-22\,13\,16)
DTSTART;TZID=Europe/Berlin:20230506T130000
DTEND;TZID=Europe/Berlin:20230506T150000
LOCATION:Sokolovna\, Tyršova 295 Vysoké nad Jizerou
SUMMARY:LIB-Z-2: TJ Vysoké nad Jizerou\, z.s.-TJ Zikuda Turnov 'B'
END:VEVENT
BEGIN:VEVENT
UID:66343864-6235-4431-a436-363033343961
DTSTAMP:20260423T004321Z
DESCRIPTION:21/62 TJ Vysoké nad Jizerou\, z.s. - TJ Sokol Poniklá 1:3 (-17\
 ,-17\,12\,-20)
DTSTART;TZID=Europe/Berlin:20230527T100000
DTEND;TZID=Europe/Berlin:20230527T120000
LOCATION:Sokolovna\, Tyršova 295 Vysoké nad Jizerou
SUMMARY:LIB-Z-2: TJ Vysoké nad Jizerou\, z.s.-TJ Sokol Poniklá
END:VEVENT
BEGIN:VEVENT
UID:31656536-3237-4563-a433-333765336130
DTSTAMP:20260423T004321Z
DESCRIPTION:22/65 TJ Vysoké nad Jizerou\, z.s. - TJ Sokol Poniklá 0:3 (-11\
 ,-14\,-8)
DTSTART;TZID=Europe/Berlin:20230527T130000
DTEND;TZID=Europe/Berlin:20230527T150000
LOCATION:Sokolovna\, Tyršova 295 Vysoké nad Jizerou
SUMMARY:LIB-Z-2: TJ Vysoké nad Jizerou\, z.s.-TJ Sokol Poniklá
END:VEVENT
BEGIN:VEVENT
UID:39643034-6635-4064-b966-353039303763
DTSTAMP:20260423T004321Z
DESCRIPTION:25/75 TJ Vysoké nad Jizerou\, z.s. - TJ Slovan Varnsdorf z.s. 3
 :0 (12\,13\,12)
DTSTART;TZID=Europe/Berlin:20230610T100000
DTEND;TZID=Europe/Berlin:20230610T120000
LOCATION:Sokolovna\, Tyršova 295 Vysoké nad Jizerou
SUMMARY:LIB-Z-2: TJ Vysoké nad Jizerou\, z.s.-TJ Slovan Varnsdorf z.s.
END:VEVENT
BEGIN:VEVENT
UID:31363231-3362-4137-a333-646533623262
DTSTAMP:20260423T004321Z
DESCRIPTION:26/78 TJ Vysoké nad Jizerou\, z.s. - TJ Slovan Varnsdorf z.s. 3
 :0 (22\,18\,8)
DTSTART;TZID=Europe/Berlin:20230610T130000
DTEND;TZID=Europe/Berlin:20230610T150000
LOCATION:Sokolovna\, Tyršova 295 Vysoké nad Jizerou
SUMMARY:LIB-Z-2: TJ Vysoké nad Jizerou\, z.s.-TJ Slovan Varnsdorf z.s.
END:VEVENT
BEGIN:VEVENT
UID:31303737-3838-4531-a337-376562656235
DTSTAMP:20260423T004321Z
DESCRIPTION:1/1 TJ Zikuda Turnov 'B' - TJ Vysoké nad Jizerou\, z.s. 0:3 (-1
 9\,-20\,-23)
DTSTART;TZID=Europe/Berlin:20220910T100000
DTEND;TZID=Europe/Berlin:20220910T120000
LOCATION:Tělocvična ZŠ Skálova\, Skálova 600 Turnov
SUMMARY:LIB-Z-2: TJ Zikuda Turnov 'B'-TJ Vysoké nad Jizerou\, z.s.
END:VEVENT
BEGIN:VEVENT
UID:63373738-3435-4938-b930-353061306334
DTSTAMP:20260423T004321Z
DESCRIPTION:2/4 TJ Zikuda Turnov 'B' - TJ Vysoké nad Jizerou\, z.s. 3:1 (-2
 3\,22\,21\,24)
DTSTART;TZID=Europe/Berlin:20220910T130000
DTEND;TZID=Europe/Berlin:20220910T150000
LOCATION:Tělocvična ZŠ Skálova\, Skálova 600 Turnov
SUMMARY:LIB-Z-2: TJ Zikuda Turnov 'B'-TJ Vysoké nad Jizerou\, z.s.
END:VEVENT
BEGIN:VEVENT
UID:35663631-6362-4133-a634-343932623330
DTSTAMP:20260423T004321Z
DESCRIPTION:7/20 TJ Sokol Poniklá - TJ Vysoké nad Jizerou\, z.s. 3:0 (16\,1
 9\,12)
DTSTART;TZID=Europe/Berlin:20221001T100000
DTEND;TZID=Europe/Berlin:20221001T120000
LOCATION:tělocvična při základní škole Poniklá\,  Poniklá148
SUMMARY:LIB-Z-2: TJ Sokol Poniklá-TJ Vysoké nad Jizerou\, z.s.
END:VEVENT
BEGIN:VEVENT
UID:30363166-6166-4539-a336-643539616131
DTSTAMP:20260423T004321Z
DESCRIPTION:8/23 TJ Sokol Poniklá - TJ Vysoké nad Jizerou\, z.s. 3:0 (13\,2
 0\,14)
DTSTART;TZID=Europe/Berlin:20221001T130000
DTEND;TZID=Europe/Berlin:20221001T150000
LOCATION:tělocvična při základní škole Poniklá\,  Poniklá148
SUMMARY:LIB-Z-2: TJ Sokol Poniklá-TJ Vysoké nad Jizerou\, z.s.
END:VEVENT
BEGIN:VEVENT
UID:31353562-3337-4631-a233-386437646439
DTSTAMP:20260423T004321Z
DESCRIPTION:11/33 TJ Slovan Varnsdorf z.s. - TJ Vysoké nad Jizerou\, z.s. 3
 :1 (-15\,20\,25\,17)
DTSTART;TZID=Europe/Berlin:20221015T100000
DTEND;TZID=Europe/Berlin:20221015T120000
LOCATION:Sportovní hala Varnsdorf\, Západní 2984 Varnsdorf
SUMMARY:LIB-Z-2: TJ Slovan Varnsdorf z.s.-TJ Vysoké nad Jizerou\, z.s.
END:VEVENT
BEGIN:VEVENT
UID:33343736-6238-4466-a339-313865333861
DTSTAMP:20260423T004321Z
DESCRIPTION:12/36 TJ Slovan Varnsdorf z.s. - TJ Vysoké nad Jizerou\, z.s. 3
 :0 (24\,21\,14)
DTSTART;TZID=Europe/Berlin:20221015T130000
DTEND;TZID=Europe/Berlin:20221015T150000
LOCATION:Sportovní hala Varnsdorf\, Západní 2984 Varnsdorf
SUMMARY:LIB-Z-2: TJ Slovan Varnsdorf z.s.-TJ Vysoké nad Jizerou\, z.s.
END:VEVENT
BEGIN:VEVENT
UID:62323134-6661-4262-a335-613932323464
DTSTAMP:20260423T004321Z
DESCRIPTION:19/55 SKP Česká Lípa\, z.s. - TJ Vysoké nad Jizerou\, z.s. 3:0 
 (22\,21\,21)
DTSTART;TZID=Europe/Berlin:20230520T100000
DTEND;TZID=Europe/Berlin:20230520T120000
LOCATION:Stará sportovní hala\, Wedrichova 1439 Česká Lípa
SUMMARY:LIB-Z-2: SKP Česká Lípa\, z.s.-TJ Vysoké nad Jizerou\, z.s.
END:VEVENT
BEGIN:VEVENT
UID:61623330-6133-4436-b036-343335646262
DTSTAMP:20260423T004321Z
DESCRIPTION:20/58 SKP Česká Lípa\, z.s. - TJ Vysoké nad Jizerou\, z.s. 3:2 
 (22\,-23\,21\,-22\,12)
DTSTART;TZID=Europe/Berlin:20230520T130000
DTEND;TZID=Europe/Berlin:20230520T150000
LOCATION:Stará sportovní hala\, Wedrichova 1439 Česká Lípa
SUMMARY:LIB-Z-2: SKP Česká Lípa\, z.s.-TJ Vysoké nad Jizerou\, z.s.
END:VEVENT
BEGIN:VEVENT
UID:33326131-3739-4237-b633-393862306430
DTSTAMP:20260423T004322Z
DESCRIPTION:23/69 VK  Malá Skála - TJ Vysoké nad Jizerou\, z.s. 3:1 (-19\,1
 3\,12\,13)
DTSTART;TZID=Europe/Berlin:20230603T100000
DTEND;TZID=Europe/Berlin:20230603T120000
LOCATION:tělocvična ZŠ\,  Malá Skála - Vranové 1.díl60
SUMMARY:LIB-Z-2: VK  Malá Skála-TJ Vysoké nad Jizerou\, z.s.
END:VEVENT
BEGIN:VEVENT
UID:30356432-3935-4133-a234-613761613361
DTSTAMP:20260423T004322Z
DESCRIPTION:24/72 VK  Malá Skála - TJ Vysoké nad Jizerou\, z.s. 3:0 (20\,18
 \,12)
DTSTART;TZID=Europe/Berlin:20230603T130000
DTEND;TZID=Europe/Berlin:20230603T150000
LOCATION:tělocvična ZŠ\,  Malá Skála - Vranové 1.díl60
SUMMARY:LIB-Z-2: VK  Malá Skála-TJ Vysoké nad Jizerou\, z.s.
END:VEVENT
BEGIN:VEVENT
UID:37326530-3634-4130-b031-376338343736
DTSTAMP:20260423T004322Z
DESCRIPTION:27/80 TJ Sokol Mnichovo Hradiště - TJ Vysoké nad Jizerou\, z.s.
  3:0 (16\,11\,22)
DTSTART;TZID=Europe/Berlin:20230617T100000
DTEND;TZID=Europe/Berlin:20230617T120000
LOCATION:Sokolovna\, Víta Nejedlého 596 Mnichovo Hradiště
SUMMARY:LIB-Z-2: TJ Sokol Mnichovo Hradiště-TJ Vysoké nad Jizerou\, z.s.
END:VEVENT
BEGIN:VEVENT
UID:37633334-6136-4862-b465-306431366334
DTSTAMP:20260423T004322Z
DESCRIPTION:28/83 TJ Sokol Mnichovo Hradiště - TJ Vysoké nad Jizerou\, z.s.
  3:0 (16\,18\,13)
DTSTART;TZID=Europe/Berlin:20230617T130000
DTEND;TZID=Europe/Berlin:20230617T150000
LOCATION:Sokolovna\, Víta Nejedlého 596 Mnichovo Hradiště
SUMMARY:LIB-Z-2: TJ Sokol Mnichovo Hradiště-TJ Vysoké nad Jizerou\, z.s.
END:VEVENT
END:VCALENDAR
