BEGIN:VCALENDAR
VERSION:2.0
PRODID:-//SK VOLEJBAL Ústí nad Labem, z.s. B79449//NONSGML kigkonsult.se iCalcreator 2.41.80//
CALSCALE:GREGORIAN
UID:66333261-6532-4961-b532-383836393966
BEGIN:VEVENT
UID:65313763-6434-4766-b963-653230646536
DTSTAMP:20260423T050033Z
DESCRIPTION:1/3 SK VOLEJBAL Ústí nad Labem\, z.s. B - Volejbal Ústí nad Lab
 em\, z.s. B 0:3 (-13\,-21\,-14)
DTSTART;TZID=Europe/Berlin:20221001T100000
DTEND;TZID=Europe/Berlin:20221001T120000
LOCATION:ZŠ Stříbrnická Stříbrnická 3031\, 400 11 Ústí nad Labem-Severní Te
 rasa
SUMMARY:US-U18Z: SK VOLEJBAL Ústí nad Labem\, z.s. B-Volejbal Ústí nad Labe
 m\, z.s. B
END:VEVENT
BEGIN:VEVENT
UID:65373433-3734-4638-b639-633331613662
DTSTAMP:20260423T050033Z
DESCRIPTION:2/6 SK VOLEJBAL Ústí nad Labem\, z.s. B - Volejbal Ústí nad Lab
 em\, z.s. B 0:3 (-13\,-16\,-23)
DTSTART;TZID=Europe/Berlin:20221001T140000
DTEND;TZID=Europe/Berlin:20221001T160000
LOCATION:ZŠ Stříbrnická Stříbrnická 3031\, 400 11 Ústí nad Labem-Severní Te
 rasa
SUMMARY:US-U18Z: SK VOLEJBAL Ústí nad Labem\, z.s. B-Volejbal Ústí nad Labe
 m\, z.s. B
END:VEVENT
BEGIN:VEVENT
UID:32396263-6635-4863-a261-623036363638
DTSTAMP:20260423T050033Z
DESCRIPTION:5/14 SK VOLEJBAL Ústí nad Labem\, z.s. B - Děčín 0:3 (-14\,-23\
 ,-10)
DTSTART;TZID=Europe/Berlin:20221105T100000
DTEND;TZID=Europe/Berlin:20221105T120000
LOCATION:ZŠ Stříbrnická Stříbrnická 3031\, 400 11 Ústí nad Labem-Severní Te
 rasa
SUMMARY:US-U18Z: SK VOLEJBAL Ústí nad Labem\, z.s. B-Děčín
END:VEVENT
BEGIN:VEVENT
UID:39633364-3537-4938-b865-616166303536
DTSTAMP:20260423T050033Z
DESCRIPTION:6/17 SK VOLEJBAL Ústí nad Labem\, z.s. B - Děčín 0:3 (-8\,-15\,
 -13)
DTSTART;TZID=Europe/Berlin:20221105T140000
DTEND;TZID=Europe/Berlin:20221105T160000
LOCATION:ZŠ Stříbrnická Stříbrnická 3031\, 400 11 Ústí nad Labem-Severní Te
 rasa
SUMMARY:US-U18Z: SK VOLEJBAL Ústí nad Labem\, z.s. B-Děčín
END:VEVENT
BEGIN:VEVENT
UID:34363061-6365-4466-b334-626262666437
DTSTAMP:20260423T050033Z
DESCRIPTION:9/25 SK VOLEJBAL Ústí nad Labem\, z.s. B - VTK Čížkovice\, z.s.
  0:3 (-15\,-10\,-13)
DTSTART;TZID=Europe/Berlin:20221203T100000
DTEND;TZID=Europe/Berlin:20221203T120000
LOCATION:ZŠ Stříbrnická Stříbrnická 3031\, 400 11 Ústí nad Labem-Severní Te
 rasa
SUMMARY:US-U18Z: SK VOLEJBAL Ústí nad Labem\, z.s. B-VTK Čížkovice\, z.s.
END:VEVENT
BEGIN:VEVENT
UID:62626261-3233-4764-b331-623133626266
DTSTAMP:20260423T050033Z
DESCRIPTION:10/28 SK VOLEJBAL Ústí nad Labem\, z.s. B - VTK Čížkovice\, z.s
 . 0:3 (-12\,-9\,-15)
DTSTART;TZID=Europe/Berlin:20221203T140000
DTEND;TZID=Europe/Berlin:20221203T160000
LOCATION:ZŠ Stříbrnická Stříbrnická 3031\, 400 11 Ústí nad Labem-Severní Te
 rasa
SUMMARY:US-U18Z: SK VOLEJBAL Ústí nad Labem\, z.s. B-VTK Čížkovice\, z.s.
END:VEVENT
BEGIN:VEVENT
UID:33376631-6266-4361-b562-643038303964
DTSTAMP:20260423T050033Z
DESCRIPTION:13/38 SK VOLEJBAL Ústí nad Labem\, z.s. B - Volejbal Ústí nad L
 abem\, z.s. C 3:0 (12\,23\,17)
DTSTART;TZID=Europe/Berlin:20230114T100000
DTEND;TZID=Europe/Berlin:20230114T120000
LOCATION:ZŠ Stříbrnická Stříbrnická 3031\, 400 11 Ústí nad Labem-Severní Te
 rasa
SUMMARY:US-U18Z: SK VOLEJBAL Ústí nad Labem\, z.s. B-Volejbal Ústí nad Labe
 m\, z.s. C
END:VEVENT
BEGIN:VEVENT
UID:39393665-6339-4637-a362-396433373335
DTSTAMP:20260423T050033Z
DESCRIPTION:14/41 SK VOLEJBAL Ústí nad Labem\, z.s. B - Volejbal Ústí nad L
 abem\, z.s. C 3:1 (-23\,11\,21\,21)
DTSTART;TZID=Europe/Berlin:20230114T140000
DTEND;TZID=Europe/Berlin:20230114T160000
LOCATION:ZŠ Stříbrnická Stříbrnická 3031\, 400 11 Ústí nad Labem-Severní Te
 rasa
SUMMARY:US-U18Z: SK VOLEJBAL Ústí nad Labem\, z.s. B-Volejbal Ústí nad Labe
 m\, z.s. C
END:VEVENT
BEGIN:VEVENT
UID:31383961-3732-4662-a461-613336376663
DTSTAMP:20260423T050033Z
DESCRIPTION:17/51 SK VOLEJBAL Ústí nad Labem\, z.s. B - VK Sever Žatec 0:3 
 (-10\,-15\,-12)
DTSTART;TZID=Europe/Berlin:20230218T100000
DTEND;TZID=Europe/Berlin:20230218T120000
LOCATION:ZŠ Stříbrnická Stříbrnická 3031\, 400 11 Ústí nad Labem-Severní Te
 rasa
SUMMARY:US-U18Z: SK VOLEJBAL Ústí nad Labem\, z.s. B-VK Sever Žatec
END:VEVENT
BEGIN:VEVENT
UID:37616637-3563-4164-a365-393333376532
DTSTAMP:20260423T050033Z
DESCRIPTION:18/54 SK VOLEJBAL Ústí nad Labem\, z.s. B - VK Sever Žatec 1:3 
 (-21\,22\,-15\,-6)
DTSTART;TZID=Europe/Berlin:20230218T140000
DTEND;TZID=Europe/Berlin:20230218T160000
LOCATION:ZŠ Stříbrnická Stříbrnická 3031\, 400 11 Ústí nad Labem-Severní Te
 rasa
SUMMARY:US-U18Z: SK VOLEJBAL Ústí nad Labem\, z.s. B-VK Sever Žatec
END:VEVENT
BEGIN:VEVENT
UID:62663031-3162-4134-a238-636165313561
DTSTAMP:20260423T050033Z
DESCRIPTION:3/8 Volejbal Ústí nad Labem\, z.s. C - SK VOLEJBAL Ústí nad Lab
 em\, z.s. B 0:3 (-20\,-12\,-17)
DTSTART;TZID=Europe/Berlin:20221008T090000
DTEND;TZID=Europe/Berlin:20221008T110000
LOCATION:Gymnázium a Střední odborná škola dr. Václava Šmejkala\, Ústí nad 
 Labem Stavbařů 2857/5\, 40011 Ústí nad Labem - Severní Terasa\, Česko
SUMMARY:US-U18Z: Volejbal Ústí nad Labem\, z.s. C-SK VOLEJBAL Ústí nad Labe
 m\, z.s. B
END:VEVENT
BEGIN:VEVENT
UID:36623663-6636-4233-b331-613332336535
DTSTAMP:20260423T050033Z
DESCRIPTION:4/11 Volejbal Ústí nad Labem\, z.s. C - SK VOLEJBAL Ústí nad La
 bem\, z.s. B 0:3 (-7\,-18\,-18)
DTSTART;TZID=Europe/Berlin:20221008T130000
DTEND;TZID=Europe/Berlin:20221008T150000
LOCATION:Gymnázium a Střední odborná škola dr. Václava Šmejkala\, Ústí nad 
 Labem Stavbařů 2857/5\, 40011 Ústí nad Labem - Severní Terasa\, Česko
SUMMARY:US-U18Z: Volejbal Ústí nad Labem\, z.s. C-SK VOLEJBAL Ústí nad Labe
 m\, z.s. B
END:VEVENT
BEGIN:VEVENT
UID:33336464-3835-4838-a333-623763306462
DTSTAMP:20260423T050033Z
DESCRIPTION:7/21 VK Sever Žatec - SK VOLEJBAL Ústí nad Labem\, z.s. B 3:0 (
 5\,13\,18)
DTSTART;TZID=Europe/Berlin:20221112T090000
DTEND;TZID=Europe/Berlin:20221112T110000
LOCATION:TJ Sever Žatec Plzeňská 2787
SUMMARY:US-U18Z: VK Sever Žatec-SK VOLEJBAL Ústí nad Labem\, z.s. B
END:VEVENT
BEGIN:VEVENT
UID:35313361-6139-4136-a164-386636346437
DTSTAMP:20260423T050033Z
DESCRIPTION:8/24 VK Sever Žatec - SK VOLEJBAL Ústí nad Labem\, z.s. B 3:0 (
 9\,6\,7)
DTSTART;TZID=Europe/Berlin:20221112T130000
DTEND;TZID=Europe/Berlin:20221112T150000
LOCATION:TJ Sever Žatec Plzeňská 2787
SUMMARY:US-U18Z: VK Sever Žatec-SK VOLEJBAL Ústí nad Labem\, z.s. B
END:VEVENT
BEGIN:VEVENT
UID:66653532-3062-4738-b639-353231333438
DTSTAMP:20260423T050033Z
DESCRIPTION:11/33 Volejbal Ústí nad Labem\, z.s. B - SK VOLEJBAL Ústí nad L
 abem\, z.s. B 2:3 (17\,-24\,-23\,26\,-9)
DTSTART;TZID=Europe/Berlin:20221210T090000
DTEND;TZID=Europe/Berlin:20221210T110000
LOCATION:Gymnázium a Střední odborná škola dr. Václava Šmejkala\, Ústí nad 
 Labem Stavbařů 2857/5\, 40011 Ústí nad Labem - Severní Terasa\, Česko
SUMMARY:US-U18Z: Volejbal Ústí nad Labem\, z.s. B-SK VOLEJBAL Ústí nad Labe
 m\, z.s. B
END:VEVENT
BEGIN:VEVENT
UID:62656137-3164-4663-b362-363031393965
DTSTAMP:20260423T050033Z
DESCRIPTION:12/36 Volejbal Ústí nad Labem\, z.s. B - SK VOLEJBAL Ústí nad L
 abem\, z.s. B 3:0 (10\,15\,22)
DTSTART;TZID=Europe/Berlin:20221210T110000
DTEND;TZID=Europe/Berlin:20221210T130000
LOCATION:Gymnázium a Střední odborná škola dr. Václava Šmejkala\, Ústí nad 
 Labem Stavbařů 2857/5\, 40011 Ústí nad Labem - Severní Terasa\, Česko
SUMMARY:US-U18Z: Volejbal Ústí nad Labem\, z.s. B-SK VOLEJBAL Ústí nad Labe
 m\, z.s. B
END:VEVENT
BEGIN:VEVENT
UID:61363338-3430-4035-b066-643665316535
DTSTAMP:20260423T050033Z
DESCRIPTION:15/44 Děčín - SK VOLEJBAL Ústí nad Labem\, z.s. B 3:0 (12\,14\,
 18)
DTSTART;TZID=Europe/Berlin:20230128T100000
DTEND;TZID=Europe/Berlin:20230128T120000
LOCATION:ZŠ Dr .Míroslava Tyrše Vokolkova ul. Děčín 2
SUMMARY:US-U18Z: Děčín-SK VOLEJBAL Ústí nad Labem\, z.s. B
END:VEVENT
BEGIN:VEVENT
UID:35383563-3831-4632-a665-656432393364
DTSTAMP:20260423T050033Z
DESCRIPTION:16/47 Děčín - SK VOLEJBAL Ústí nad Labem\, z.s. B 3:0 (23\,7\,1
 8)
DTSTART;TZID=Europe/Berlin:20230128T140000
DTEND;TZID=Europe/Berlin:20230128T160000
LOCATION:ZŠ Dr .Míroslava Tyrše Vokolkova ul. Děčín 2
SUMMARY:US-U18Z: Děčín-SK VOLEJBAL Ústí nad Labem\, z.s. B
END:VEVENT
BEGIN:VEVENT
UID:38356539-6463-4934-b732-613561646538
DTSTAMP:20260423T050033Z
DESCRIPTION:19/55 VTK Čížkovice\, z.s. - SK VOLEJBAL Ústí nad Labem\, z.s. 
 B 3:0 (7\,11\,5)
DTSTART;TZID=Europe/Berlin:20230325T100000
DTEND;TZID=Europe/Berlin:20230325T120000
LOCATION:Hala při ZŠ Benešova 65\, 41112 Čížkovice
SUMMARY:US-U18Z: VTK Čížkovice\, z.s.-SK VOLEJBAL Ústí nad Labem\, z.s. B
END:VEVENT
BEGIN:VEVENT
UID:64336232-6463-4538-b932-393762636266
DTSTAMP:20260423T050033Z
DESCRIPTION:20/58 VTK Čížkovice\, z.s. - SK VOLEJBAL Ústí nad Labem\, z.s. 
 B 3:0 (14\,12\,23)
DTSTART;TZID=Europe/Berlin:20230325T140000
DTEND;TZID=Europe/Berlin:20230325T160000
LOCATION:Hala při ZŠ Benešova 65\, 41112 Čížkovice
SUMMARY:US-U18Z: VTK Čížkovice\, z.s.-SK VOLEJBAL Ústí nad Labem\, z.s. B
END:VEVENT
END:VCALENDAR
