BEGIN:VCALENDAR
VERSION:2.0
PRODID:-//TJ LOKOMOTIVA TRUTNOV, z.s.79527//NONSGML kigkonsult.se iCalcreator 2.41.80//
CALSCALE:GREGORIAN
UID:34386130-3261-4265-a334-636134633334
BEGIN:VEVENT
UID:33373061-3434-4930-b130-396639306465
DTSTAMP:20260423T030610Z
DESCRIPTION:1/3 Trutnov - Rychnov 0:2 (-14\,-19)
DTSTART;TZID=Europe/Berlin:20220924T110000
DTEND;TZID=Europe/Berlin:20220924T130000
LOCATION:Základní škola. Trutnov\, V Domcích 488\, V Domcích 488 Trutnov - 
 Horní Předměstí
SUMMARY:HK-U18M: Trutnov-Rychnov
END:VEVENT
BEGIN:VEVENT
UID:37653962-3337-4862-b233-646333663835
DTSTAMP:20260423T030610Z
DESCRIPTION:1/4 Trutnov - Hronov 0:2 (-13\,-7)
DTSTART;TZID=Europe/Berlin:20220924T120000
DTEND;TZID=Europe/Berlin:20220924T140000
LOCATION:Základní škola. Trutnov\, V Domcích 488\, V Domcích 488 Trutnov - 
 Horní Předměstí
SUMMARY:HK-U18M: Trutnov-Hronov
END:VEVENT
BEGIN:VEVENT
UID:34643030-6535-4434-a532-653864323335
DTSTAMP:20260423T030610Z
DESCRIPTION:2/7 Trutnov - Dřevěnice U22 0:2 (-6\,-14)\nTrutnov
DTSTART;TZID=Europe/Berlin:20221008T090000
DTEND;TZID=Europe/Berlin:20221008T110000
LOCATION:Základní škola. Trutnov\, V Domcích 488\, V Domcích 488 Trutnov - 
 Horní Předměstí
SUMMARY:HK-U18M: Trutnov-Dřevěnice U22
END:VEVENT
BEGIN:VEVENT
UID:65303764-3666-4563-a438-663933353165
DTSTAMP:20260423T030610Z
DESCRIPTION:2/11 Trutnov - Hronov 0:2 (-16\,-17)
DTSTART;TZID=Europe/Berlin:20221008T130000
DTEND;TZID=Europe/Berlin:20221008T150000
LOCATION:Základní škola. Trutnov\, V Domcích 488\, V Domcích 488 Trutnov - 
 Horní Předměstí
SUMMARY:HK-U18M: Trutnov-Hronov
END:VEVENT
BEGIN:VEVENT
UID:38636534-3136-4435-b465-656535613239
DTSTAMP:20260423T030610Z
DESCRIPTION:2/12 Trutnov - Třebechovice 0:2 (-20\,-17)
DTSTART;TZID=Europe/Berlin:20221008T140000
DTEND;TZID=Europe/Berlin:20221008T160000
LOCATION:Základní škola. Trutnov\, V Domcích 488\, V Domcích 488 Trutnov - 
 Horní Předměstí
SUMMARY:HK-U18M: Trutnov-Třebechovice
END:VEVENT
BEGIN:VEVENT
UID:37653031-3933-4434-a533-363963336536
DTSTAMP:20260423T030610Z
DESCRIPTION:3/13 Trutnov - Rychnov 0:2 (-15\,-18)\nRychnov
DTSTART;TZID=Europe/Berlin:20221029T090000
DTEND;TZID=Europe/Berlin:20221029T110000
LOCATION:Základní škola. Trutnov\, V Domcích 488\, V Domcích 488 Trutnov - 
 Horní Předměstí
SUMMARY:HK-U18M: Trutnov-Rychnov
END:VEVENT
BEGIN:VEVENT
UID:30656534-3933-4638-a434-376430643262
DTSTAMP:20260423T030610Z
DESCRIPTION:3/16 Trutnov - Dřevěnice U22 0:2 (-4\,-14)
DTSTART;TZID=Europe/Berlin:20221029T120000
DTEND;TZID=Europe/Berlin:20221029T140000
LOCATION:Základní škola. Trutnov\, V Domcích 488\, V Domcích 488 Trutnov - 
 Horní Předměstí
SUMMARY:HK-U18M: Trutnov-Dřevěnice U22
END:VEVENT
BEGIN:VEVENT
UID:64383430-6132-4263-b032-643439643232
DTSTAMP:20260423T030610Z
DESCRIPTION:4/21 Trutnov - Rychnov 0:2 (-13\,-15)
DTSTART;TZID=Europe/Berlin:20221120T110000
DTEND;TZID=Europe/Berlin:20221120T130000
LOCATION:Základní škola. Trutnov\, V Domcích 488\, V Domcích 488 Trutnov - 
 Horní Předměstí
SUMMARY:HK-U18M: Trutnov-Rychnov
END:VEVENT
BEGIN:VEVENT
UID:66353639-3534-4633-b263-663439303834
DTSTAMP:20260423T030610Z
DESCRIPTION:4/23 Trutnov - Hronov 0:2 (-10\,-14)
DTSTART;TZID=Europe/Berlin:20221120T130000
DTEND;TZID=Europe/Berlin:20221120T150000
LOCATION:Základní škola. Trutnov\, V Domcích 488\, V Domcích 488 Trutnov - 
 Horní Předměstí
SUMMARY:HK-U18M: Trutnov-Hronov
END:VEVENT
BEGIN:VEVENT
UID:37616439-3361-4432-a531-656635366665
DTSTAMP:20260423T030610Z
DESCRIPTION:1/6 Dřevěnice U22 - Trutnov 2:0 (13\,16)
DTSTART;TZID=Europe/Berlin:20220924T140000
DTEND;TZID=Europe/Berlin:20220924T160000
SUMMARY:HK-U18M: Dřevěnice U22-Trutnov
END:VEVENT
BEGIN:VEVENT
UID:34313030-6139-4230-a536-343236653338
DTSTAMP:20260423T030610Z
DESCRIPTION:3/14 Třebechovice - Trutnov 2:1 (-26\,22\,8)
DTSTART;TZID=Europe/Berlin:20221029T100000
DTEND;TZID=Europe/Berlin:20221029T120000
LOCATION:Sokolovna\, Heldovo náměstí 574 Třebechovice pod Orebem
SUMMARY:HK-U18M: Třebechovice-Trutnov
END:VEVENT
BEGIN:VEVENT
UID:66363933-3235-4531-b531-386335323136
DTSTAMP:20260423T030610Z
DESCRIPTION:4/20 Třebechovice - Trutnov 2:0 (15\,21)
DTSTART;TZID=Europe/Berlin:20221120T100000
DTEND;TZID=Europe/Berlin:20221120T120000
LOCATION:Sokolovna\, Heldovo náměstí 574 Třebechovice pod Orebem
SUMMARY:HK-U18M: Třebechovice-Trutnov
END:VEVENT
END:VCALENDAR
