BEGIN:VCALENDAR
VERSION:2.0
PRODID:-//VK Karlovarsko, z.s.79540//NONSGML kigkonsult.se iCalcreator 2.41.80//
CALSCALE:GREGORIAN
UID:64306537-6635-4032-a161-323133303761
BEGIN:VEVENT
UID:37306137-6662-4261-b633-626637663931
DTSTAMP:20260423T070942Z
DESCRIPTION:1/3 VK Karlovarsko\, z.s. - Volejbalový klub Jirkov 0:2 (-13\,-
 14)
DTSTART;TZID=Europe/Berlin:20220924T090000
DTEND;TZID=Europe/Berlin:20220924T110000
LOCATION:Mattoni Arena Hala míčových sportů\, Západní 1812 Karlovy Vary
SUMMARY:KV-U14M: VK Karlovarsko\, z.s.-Volejbalový klub Jirkov
END:VEVENT
BEGIN:VEVENT
UID:32303739-3061-4330-b535-303038633166
DTSTAMP:20260423T070942Z
DESCRIPTION:1/6 VK Karlovarsko\, z.s. - SKV Ústí n. L. 0:2 (-19\,-21)
DTSTART;TZID=Europe/Berlin:20220924T090000
DTEND;TZID=Europe/Berlin:20220924T110000
LOCATION:Mattoni Arena Hala míčových sportů\, Západní 1812 Karlovy Vary
SUMMARY:KV-U14M: VK Karlovarsko\, z.s.-SKV Ústí n. L.
END:VEVENT
BEGIN:VEVENT
UID:61653132-3135-4364-b764-333239346562
DTSTAMP:20260423T070942Z
DESCRIPTION:2/13 VK Karlovarsko\, z.s. - Volejbalový klub Jirkov 0:2 (-14\,
 -8)
DTSTART;TZID=Europe/Berlin:20221008T090000
DTEND;TZID=Europe/Berlin:20221008T110000
LOCATION:Mattoni Arena Hala míčových sportů\, Západní 1812 Karlovy Vary
SUMMARY:KV-U14M: VK Karlovarsko\, z.s.-Volejbalový klub Jirkov
END:VEVENT
BEGIN:VEVENT
UID:66396136-3564-4061-b562-323039616634
DTSTAMP:20260423T070942Z
DESCRIPTION:2/16 VK Karlovarsko\, z.s. - SKV Ústí n. L. 0:2 (-16\,-14)
DTSTART;TZID=Europe/Berlin:20221008T090000
DTEND;TZID=Europe/Berlin:20221008T110000
LOCATION:Mattoni Arena Hala míčových sportů\, Západní 1812 Karlovy Vary
SUMMARY:KV-U14M: VK Karlovarsko\, z.s.-SKV Ústí n. L.
END:VEVENT
BEGIN:VEVENT
UID:38383966-3933-4966-a233-356631636338
DTSTAMP:20260423T070942Z
DESCRIPTION:3/23 VK Karlovarsko\, z.s. - Volejbalový klub Jirkov 0:2 (-13\,
 -17)
DTSTART;TZID=Europe/Berlin:20221105T090000
DTEND;TZID=Europe/Berlin:20221105T110000
LOCATION:Mattoni Arena Hala míčových sportů\, Západní 1812 Karlovy Vary
SUMMARY:KV-U14M: VK Karlovarsko\, z.s.-Volejbalový klub Jirkov
END:VEVENT
BEGIN:VEVENT
UID:62356334-3465-4466-b231-613431343331
DTSTAMP:20260423T070942Z
DESCRIPTION:3/26 VK Karlovarsko\, z.s. - SKV Ústí n. L. 2:1 (22\,-19\,6)
DTSTART;TZID=Europe/Berlin:20221105T090000
DTEND;TZID=Europe/Berlin:20221105T110000
LOCATION:Mattoni Arena Hala míčových sportů\, Západní 1812 Karlovy Vary
SUMMARY:KV-U14M: VK Karlovarsko\, z.s.-SKV Ústí n. L.
END:VEVENT
BEGIN:VEVENT
UID:31343634-3239-4666-a161-323566323238
DTSTAMP:20260423T070942Z
DESCRIPTION:4/33 VK Karlovarsko\, z.s. - Volejbalový klub Jirkov 0:2 (-18\,
 -10)
DTSTART;TZID=Europe/Berlin:20230114T090000
DTEND;TZID=Europe/Berlin:20230114T110000
LOCATION:Mattoni Arena Hala míčových sportů\, Západní 1812 Karlovy Vary
SUMMARY:KV-U14M: VK Karlovarsko\, z.s.-Volejbalový klub Jirkov
END:VEVENT
BEGIN:VEVENT
UID:34346538-6134-4230-b537-623035353731
DTSTAMP:20260423T070942Z
DESCRIPTION:4/36 VK Karlovarsko\, z.s. - SKV Ústí n. L. 2:1 (21\,-22\,9)
DTSTART;TZID=Europe/Berlin:20230114T090000
DTEND;TZID=Europe/Berlin:20230114T110000
LOCATION:Mattoni Arena Hala míčových sportů\, Západní 1812 Karlovy Vary
SUMMARY:KV-U14M: VK Karlovarsko\, z.s.-SKV Ústí n. L.
END:VEVENT
BEGIN:VEVENT
UID:36616435-6465-4266-b965-353264623163
DTSTAMP:20260423T070942Z
DESCRIPTION:5/43 VK Karlovarsko\, z.s. - Volejbalový klub Jirkov 0:2 (-13\,
 -9)
DTSTART;TZID=Europe/Berlin:20230311T090000
DTEND;TZID=Europe/Berlin:20230311T110000
LOCATION:Mattoni Arena Hala míčových sportů\, Západní 1812 Karlovy Vary
SUMMARY:KV-U14M: VK Karlovarsko\, z.s.-Volejbalový klub Jirkov
END:VEVENT
BEGIN:VEVENT
UID:62383337-6131-4432-b730-653962363763
DTSTAMP:20260423T070942Z
DESCRIPTION:5/46 VK Karlovarsko\, z.s. - SKV Ústí n. L. 1:2 (24\,-16\,-6)
DTSTART;TZID=Europe/Berlin:20230311T090000
DTEND;TZID=Europe/Berlin:20230311T110000
LOCATION:Mattoni Arena Hala míčových sportů\, Západní 1812 Karlovy Vary
SUMMARY:KV-U14M: VK Karlovarsko\, z.s.-SKV Ústí n. L.
END:VEVENT
BEGIN:VEVENT
UID:36663637-6636-4237-b431-616138363239
DTSTAMP:20260423T070942Z
DESCRIPTION:1/8 Volejbal Sokolov\, z.s. - VK Karlovarsko\, z.s. 0:2 (-23\,-
 19)
DTSTART;TZID=Europe/Berlin:20220924T090000
DTEND;TZID=Europe/Berlin:20220924T110000
LOCATION:Jiskra\, Maxima Gorkého 280 Sokolov
SUMMARY:KV-U14M: Volejbal Sokolov\, z.s.-VK Karlovarsko\, z.s.
END:VEVENT
BEGIN:VEVENT
UID:64383464-3833-4661-b261-653235373231
DTSTAMP:20260423T070942Z
DESCRIPTION:1/9 SK Volejbal Klatovy - VK Karlovarsko\, z.s. 0:2 (-17\,-11)
DTSTART;TZID=Europe/Berlin:20220924T090000
DTEND;TZID=Europe/Berlin:20220924T110000
LOCATION:Sportovní hala ZŠ Čapkova\, Čapkova 136 Klatovy - Klatovy V
SUMMARY:KV-U14M: SK Volejbal Klatovy-VK Karlovarsko\, z.s.
END:VEVENT
BEGIN:VEVENT
UID:37623733-6633-4161-b462-333261366666
DTSTAMP:20260423T070942Z
DESCRIPTION:2/18 Volejbal Sokolov\, z.s. - VK Karlovarsko\, z.s. 2:0 (18\,9
 )
DTSTART;TZID=Europe/Berlin:20221008T090000
DTEND;TZID=Europe/Berlin:20221008T110000
LOCATION:Jiskra\, Maxima Gorkého 280 Sokolov
SUMMARY:KV-U14M: Volejbal Sokolov\, z.s.-VK Karlovarsko\, z.s.
END:VEVENT
BEGIN:VEVENT
UID:39643930-3964-4233-b438-353331303939
DTSTAMP:20260423T070942Z
DESCRIPTION:2/19 SK Volejbal Klatovy - VK Karlovarsko\, z.s. 0:2 (-15\,-19)
DTSTART;TZID=Europe/Berlin:20221008T090000
DTEND;TZID=Europe/Berlin:20221008T110000
LOCATION:Sportovní hala ZŠ Čapkova\, Čapkova 136 Klatovy - Klatovy V
SUMMARY:KV-U14M: SK Volejbal Klatovy-VK Karlovarsko\, z.s.
END:VEVENT
BEGIN:VEVENT
UID:38656337-6635-4632-a532-306131373565
DTSTAMP:20260423T070942Z
DESCRIPTION:3/28 Volejbal Sokolov\, z.s. - VK Karlovarsko\, z.s. 2:1 (18\,-
 11\,10)
DTSTART;TZID=Europe/Berlin:20221105T090000
DTEND;TZID=Europe/Berlin:20221105T110000
LOCATION:Jiskra\, Maxima Gorkého 280 Sokolov
SUMMARY:KV-U14M: Volejbal Sokolov\, z.s.-VK Karlovarsko\, z.s.
END:VEVENT
BEGIN:VEVENT
UID:32373134-3831-4766-b535-353861306564
DTSTAMP:20260423T070942Z
DESCRIPTION:3/29 SK Volejbal Klatovy - VK Karlovarsko\, z.s. 2:0 (21\,16)
DTSTART;TZID=Europe/Berlin:20221105T090000
DTEND;TZID=Europe/Berlin:20221105T110000
LOCATION:Sportovní hala ZŠ Čapkova\, Čapkova 136 Klatovy - Klatovy V
SUMMARY:KV-U14M: SK Volejbal Klatovy-VK Karlovarsko\, z.s.
END:VEVENT
BEGIN:VEVENT
UID:64306435-3333-4464-a361-623763323866
DTSTAMP:20260423T070942Z
DESCRIPTION:4/38 Volejbal Sokolov\, z.s. - VK Karlovarsko\, z.s. 0:2 (-23\,
 -23)
DTSTART;TZID=Europe/Berlin:20230114T090000
DTEND;TZID=Europe/Berlin:20230114T110000
LOCATION:Jiskra\, Maxima Gorkého 280 Sokolov
SUMMARY:KV-U14M: Volejbal Sokolov\, z.s.-VK Karlovarsko\, z.s.
END:VEVENT
BEGIN:VEVENT
UID:37316537-6539-4434-b537-663462616264
DTSTAMP:20260423T070942Z
DESCRIPTION:4/39 SK Volejbal Klatovy - VK Karlovarsko\, z.s. 0:2 (-22\,-11)
DTSTART;TZID=Europe/Berlin:20230114T090000
DTEND;TZID=Europe/Berlin:20230114T110000
LOCATION:Sportovní hala ZŠ Čapkova\, Čapkova 136 Klatovy - Klatovy V
SUMMARY:KV-U14M: SK Volejbal Klatovy-VK Karlovarsko\, z.s.
END:VEVENT
BEGIN:VEVENT
UID:65326438-3035-4430-b635-626237366266
DTSTAMP:20260423T070942Z
DESCRIPTION:5/48 Volejbal Sokolov\, z.s. - VK Karlovarsko\, z.s. 0:2 (-18\,
 -23)
DTSTART;TZID=Europe/Berlin:20230311T090000
DTEND;TZID=Europe/Berlin:20230311T110000
LOCATION:Jiskra\, Maxima Gorkého 280 Sokolov
SUMMARY:KV-U14M: Volejbal Sokolov\, z.s.-VK Karlovarsko\, z.s.
END:VEVENT
BEGIN:VEVENT
UID:35383934-3663-4135-b366-366261623639
DTSTAMP:20260423T070942Z
DESCRIPTION:5/49 SK Volejbal Klatovy - VK Karlovarsko\, z.s. 2:0 (9\,13)
DTSTART;TZID=Europe/Berlin:20230311T090000
DTEND;TZID=Europe/Berlin:20230311T110000
LOCATION:Sportovní hala ZŠ Čapkova\, Čapkova 136 Klatovy - Klatovy V
SUMMARY:KV-U14M: SK Volejbal Klatovy-VK Karlovarsko\, z.s.
END:VEVENT
END:VCALENDAR
