BEGIN:VCALENDAR
VERSION:2.0
PRODID:-//Volejbal Ústí nad Labem, z.s. B79551//NONSGML kigkonsult.se iCalcreator 2.41.80//
CALSCALE:GREGORIAN
UID:32306535-3435-4262-a461-626135353461
BEGIN:VEVENT
UID:35313532-6234-4937-b465-343264366231
DTSTAMP:20260425T153001Z
DESCRIPTION:3/16 Volejbal Ústí nad Labem\, z.s. B - SK VOLEJBAL Ústí nad La
 bem 'B' 2:0 (22\,20)
DTSTART;TZID=Europe/Berlin:20221002T090200
DTEND;TZID=Europe/Berlin:20221002T110200
LOCATION:Gymnázium a Střední odborná škola dr. Václava Šmejkala\, Ústí nad 
 Labem Stavbařů 2857/5\, 40011 Ústí nad Labem - Severní Terasa\, Česko
SUMMARY:US-U16Z-KVAL: Volejbal Ústí nad Labem\, z.s. B-SK VOLEJBAL Ústí nad
  Labem 'B'
END:VEVENT
BEGIN:VEVENT
UID:66363065-3337-4264-a664-366437343733
DTSTAMP:20260425T153001Z
DESCRIPTION:3/19 Volejbal Ústí nad Labem\, z.s. B - Volejbal Ústí nad Labem
 \, z.s. A 0:2 (-5\,-5)
DTSTART;TZID=Europe/Berlin:20221002T090200
DTEND;TZID=Europe/Berlin:20221002T110200
LOCATION:Gymnázium a Střední odborná škola dr. Václava Šmejkala\, Ústí nad 
 Labem Stavbařů 2857/5\, 40011 Ústí nad Labem - Severní Terasa\, Česko
SUMMARY:US-U16Z-KVAL: Volejbal Ústí nad Labem\, z.s. B-Volejbal Ústí nad La
 bem\, z.s. A
END:VEVENT
BEGIN:VEVENT
UID:39363833-3734-4161-b636-323861646230
DTSTAMP:20260425T153001Z
DESCRIPTION:3/22 Volejbal Ústí nad Labem\, z.s. B - Volejbalový sportovní k
 lub Spartak Děčín z.s. 0:2 (-17\,-15)
DTSTART;TZID=Europe/Berlin:20221002T090200
DTEND;TZID=Europe/Berlin:20221002T110200
LOCATION:Gymnázium a Střední odborná škola dr. Václava Šmejkala\, Ústí nad 
 Labem Stavbařů 2857/5\, 40011 Ústí nad Labem - Severní Terasa\, Česko
SUMMARY:US-U16Z-KVAL: Volejbal Ústí nad Labem\, z.s. B-Volejbalový sportovn
 í klub Spartak Děčín z.s.
END:VEVENT
BEGIN:VEVENT
UID:32343736-3963-4833-b462-376433653839
DTSTAMP:20260425T153001Z
DESCRIPTION:3/13 Ústí n. L. - Volejbal Ústí nad Labem\, z.s. B 2:0 (7\,22)
DTSTART;TZID=Europe/Berlin:20221002T090200
DTEND;TZID=Europe/Berlin:20221002T110200
LOCATION:ZŠ Stříbrnická Ústí nad Labem Stříbrnická 3031/4\, 400 11 Ústí nad
  Labem
SUMMARY:US-U16Z-KVAL: Ústí n. L.-Volejbal Ústí nad Labem\, z.s. B
END:VEVENT
BEGIN:VEVENT
UID:38326137-6266-4164-b038-383261386634
DTSTAMP:20260425T153001Z
DESCRIPTION:3/18 Volejbal Ústí nad Labem\, z.s. B - SKTO Duchcov z.s. 2:1 (
 22\,-13\,9)
DTSTART;TZID=Europe/Berlin:20221106T090200
DTEND;TZID=Europe/Berlin:20221106T110200
LOCATION:Gymnázium a Střední odborná škola dr. Václava Šmejkala\, Ústí nad 
 Labem Stavbařů 2857/5\, 40011 Ústí nad Labem - Severní Terasa\, Česko
SUMMARY:US-U16Z-1: Volejbal Ústí nad Labem\, z.s. B-SKTO Duchcov z.s.
END:VEVENT
BEGIN:VEVENT
UID:39343139-3736-4535-b934-663437373639
DTSTAMP:20260425T153001Z
DESCRIPTION:3/21 Volejbal Ústí nad Labem\, z.s. B - VK Litvínov\, z.s. 0:2 
 (-9\,-16)
DTSTART;TZID=Europe/Berlin:20221106T090200
DTEND;TZID=Europe/Berlin:20221106T110200
LOCATION:Gymnázium a Střední odborná škola dr. Václava Šmejkala\, Ústí nad 
 Labem Stavbařů 2857/5\, 40011 Ústí nad Labem - Severní Terasa\, Česko
SUMMARY:US-U16Z-1: Volejbal Ústí nad Labem\, z.s. B-VK Litvínov\, z.s.
END:VEVENT
BEGIN:VEVENT
UID:36633636-3934-4966-a437-653261653638
DTSTAMP:20260425T153001Z
DESCRIPTION:3/20 SK VOLEJBAL Ústí nad Labem 'B' - Volejbal Ústí nad Labem\,
  z.s. B 1:2 (18\,-21\,-13)
DTSTART;TZID=Europe/Berlin:20221106T090200
DTEND;TZID=Europe/Berlin:20221106T110200
LOCATION:ZŠ Stříbrnická Ústí nad Labem Stříbrnická 3031/4\, 400 11 Ústí nad
  Labem
SUMMARY:US-U16Z-1: SK VOLEJBAL Ústí nad Labem 'B'-Volejbal Ústí nad Labem\,
  z.s. B
END:VEVENT
BEGIN:VEVENT
UID:62653436-6566-4434-a565-383162363765
DTSTAMP:20260425T153001Z
DESCRIPTION:3/18 Volejbal Ústí nad Labem\, z.s. B - SKTO Duchcov z.s. 0:2 (
 -14\,-10)
DTSTART;TZID=Europe/Berlin:20221204T090200
DTEND;TZID=Europe/Berlin:20221204T110200
LOCATION:Gymnázium a Střední odborná škola dr. Václava Šmejkala\, Ústí nad 
 Labem Stavbařů 2857/5\, 40011 Ústí nad Labem - Severní Terasa\, Česko
SUMMARY:US-U16Z-2: Volejbal Ústí nad Labem\, z.s. B-SKTO Duchcov z.s.
END:VEVENT
BEGIN:VEVENT
UID:36303262-3764-4664-a165-343837646138
DTSTAMP:20260425T153001Z
DESCRIPTION:3/21 Volejbal Ústí nad Labem\, z.s. B - Tělovýchovná jednota Ba
 ník Most\, z.s. 0:2 (-24\,-14)
DTSTART;TZID=Europe/Berlin:20221204T090200
DTEND;TZID=Europe/Berlin:20221204T110200
LOCATION:Gymnázium a Střední odborná škola dr. Václava Šmejkala\, Ústí nad 
 Labem Stavbařů 2857/5\, 40011 Ústí nad Labem - Severní Terasa\, Česko
SUMMARY:US-U16Z-2: Volejbal Ústí nad Labem\, z.s. B-Tělovýchovná jednota Ba
 ník Most\, z.s.
END:VEVENT
BEGIN:VEVENT
UID:63393234-6632-4265-b337-336139313635
DTSTAMP:20260425T153001Z
DESCRIPTION:3/20 SK VOLEJBAL Ústí nad Labem 'B' - Volejbal Ústí nad Labem\,
  z.s. B 2:0 (12\,17)
DTSTART;TZID=Europe/Berlin:20221204T090200
DTEND;TZID=Europe/Berlin:20221204T110200
LOCATION:ZŠ Stříbrnická Ústí nad Labem Stříbrnická 3031/4\, 400 11 Ústí nad
  Labem
SUMMARY:US-U16Z-2: SK VOLEJBAL Ústí nad Labem 'B'-Volejbal Ústí nad Labem\,
  z.s. B
END:VEVENT
BEGIN:VEVENT
UID:66616532-6631-4135-a231-613562323635
DTSTAMP:20260425T153001Z
DESCRIPTION:3/18 Volejbal Ústí nad Labem\, z.s. B - SKTO Duchcov z.s. 2:0 (
 13\,20)
DTSTART;TZID=Europe/Berlin:20221218T090200
DTEND;TZID=Europe/Berlin:20221218T110200
LOCATION:Gymnázium a Střední odborná škola dr. Václava Šmejkala\, Ústí nad 
 Labem Stavbařů 2857/5\, 40011 Ústí nad Labem - Severní Terasa\, Česko
SUMMARY:US-U16Z-3: Volejbal Ústí nad Labem\, z.s. B-SKTO Duchcov z.s.
END:VEVENT
BEGIN:VEVENT
UID:36333964-3633-4330-a637-316565396666
DTSTAMP:20260425T153001Z
DESCRIPTION:3/21 Volejbal Ústí nad Labem\, z.s. B - VEROS 0:2 (-22\,-13)
DTSTART;TZID=Europe/Berlin:20221218T090200
DTEND;TZID=Europe/Berlin:20221218T110200
LOCATION:Gymnázium a Střední odborná škola dr. Václava Šmejkala\, Ústí nad 
 Labem Stavbařů 2857/5\, 40011 Ústí nad Labem - Severní Terasa\, Česko
SUMMARY:US-U16Z-3: Volejbal Ústí nad Labem\, z.s. B-VEROS
END:VEVENT
BEGIN:VEVENT
UID:30326230-3932-4063-b064-343864383934
DTSTAMP:20260425T153001Z
DESCRIPTION:3/20 SK VOLEJBAL Ústí nad Labem 'B' - Volejbal Ústí nad Labem\,
  z.s. B 1:2 (14\,-21\,-12)
DTSTART;TZID=Europe/Berlin:20221218T090200
DTEND;TZID=Europe/Berlin:20221218T110200
LOCATION:ZŠ Stříbrnická Ústí nad Labem Stříbrnická 3031/4\, 400 11 Ústí nad
  Labem
SUMMARY:US-U16Z-3: SK VOLEJBAL Ústí nad Labem 'B'-Volejbal Ústí nad Labem\,
  z.s. B
END:VEVENT
BEGIN:VEVENT
UID:38616139-6436-4564-b638-306130643534
DTSTAMP:20260425T153001Z
DESCRIPTION:3/18 Volejbal Ústí nad Labem\, z.s. B - SKTO Duchcov z.s. 1:2 (
 21\,-17\,-13)
DTSTART;TZID=Europe/Berlin:20230115T090200
DTEND;TZID=Europe/Berlin:20230115T110200
LOCATION:Gymnázium a Střední odborná škola dr. Václava Šmejkala\, Ústí nad 
 Labem Stavbařů 2857/5\, 40011 Ústí nad Labem - Severní Terasa\, Česko
SUMMARY:US-U16Z-4: Volejbal Ústí nad Labem\, z.s. B-SKTO Duchcov z.s.
END:VEVENT
BEGIN:VEVENT
UID:64353266-3537-4366-b936-313661343065
DTSTAMP:20260425T153001Z
DESCRIPTION:3/21 Volejbal Ústí nad Labem\, z.s. B - Tělovýchovná jednota Ba
 ník Most\, z.s. 0:2 (-14\,-15)
DTSTART;TZID=Europe/Berlin:20230115T090200
DTEND;TZID=Europe/Berlin:20230115T110200
LOCATION:Gymnázium a Střední odborná škola dr. Václava Šmejkala\, Ústí nad 
 Labem Stavbařů 2857/5\, 40011 Ústí nad Labem - Severní Terasa\, Česko
SUMMARY:US-U16Z-4: Volejbal Ústí nad Labem\, z.s. B-Tělovýchovná jednota Ba
 ník Most\, z.s.
END:VEVENT
BEGIN:VEVENT
UID:36643435-3961-4562-b335-316437316331
DTSTAMP:20260425T153001Z
DESCRIPTION:3/20 SK VOLEJBAL Ústí nad Labem 'B' - Volejbal Ústí nad Labem\,
  z.s. B 2:0 (11\,21)
DTSTART;TZID=Europe/Berlin:20230115T090200
DTEND;TZID=Europe/Berlin:20230115T110200
LOCATION:ZŠ Stříbrnická Ústí nad Labem Stříbrnická 3031/4\, 400 11 Ústí nad
  Labem
SUMMARY:US-U16Z-4: SK VOLEJBAL Ústí nad Labem 'B'-Volejbal Ústí nad Labem\,
  z.s. B
END:VEVENT
BEGIN:VEVENT
UID:35376363-6235-4064-b465-303332636434
DTSTAMP:20260425T153001Z
DESCRIPTION:3/22 Volejbal Ústí nad Labem\, z.s. B - SKTO Duchcov z.s. 2:0 (
 23\,22)
DTSTART;TZID=Europe/Berlin:20230129T090200
DTEND;TZID=Europe/Berlin:20230129T110200
LOCATION:Gymnázium a Střední odborná škola dr. Václava Šmejkala\, Ústí nad 
 Labem Stavbařů 2857/5\, 40011 Ústí nad Labem - Severní Terasa\, Česko
SUMMARY:US-U16Z-5: Volejbal Ústí nad Labem\, z.s. B-SKTO Duchcov z.s.
END:VEVENT
BEGIN:VEVENT
UID:38393037-6562-4530-a338-333930343563
DTSTAMP:20260425T153001Z
DESCRIPTION:3/18 SK VOLEJBAL Ústí nad Labem 'B' - Volejbal Ústí nad Labem\,
  z.s. B 2:0 (21\,17)
DTSTART;TZID=Europe/Berlin:20230129T090200
DTEND;TZID=Europe/Berlin:20230129T110200
LOCATION:ZŠ Stříbrnická Ústí nad Labem Stříbrnická 3031/4\, 400 11 Ústí nad
  Labem
SUMMARY:US-U16Z-5: SK VOLEJBAL Ústí nad Labem 'B'-Volejbal Ústí nad Labem\,
  z.s. B
END:VEVENT
BEGIN:VEVENT
UID:38353562-6135-4632-b164-363262306630
DTSTAMP:20260425T153001Z
DESCRIPTION:3/19 VK Litvínov\, z.s. - Volejbal Ústí nad Labem\, z.s. B 2:1 
 (-18\,26\,6)
DTSTART;TZID=Europe/Berlin:20230129T090200
DTEND;TZID=Europe/Berlin:20230129T110200
LOCATION:Sportovní hala Litvínov U Koldomu 2049\, 436 01 Litvínov
SUMMARY:US-U16Z-5: VK Litvínov\, z.s.-Volejbal Ústí nad Labem\, z.s. B
END:VEVENT
BEGIN:VEVENT
UID:61616233-3438-4235-a230-316632656436
DTSTAMP:20260425T153001Z
DESCRIPTION:3/22 Volejbal Ústí nad Labem\, z.s. B - Tělovýchovná jednota Ba
 ník Most\, z.s. 0:2 (-16\,-14)
DTSTART;TZID=Europe/Berlin:20230402T090200
DTEND;TZID=Europe/Berlin:20230402T110200
LOCATION:Gymnázium a Střední odborná škola dr. Václava Šmejkala\, Ústí nad 
 Labem Stavbařů 2857/5\, 40011 Ústí nad Labem - Severní Terasa\, Česko
SUMMARY:US-U16Z-6: Volejbal Ústí nad Labem\, z.s. B-Tělovýchovná jednota Ba
 ník Most\, z.s.
END:VEVENT
BEGIN:VEVENT
UID:36323231-3865-4234-b165-643531363530
DTSTAMP:20260425T153001Z
DESCRIPTION:3/18 SKTO Duchcov z.s. - Volejbal Ústí nad Labem\, z.s. B 2:0 (
 24\,12)
DTSTART;TZID=Europe/Berlin:20230402T090200
DTEND;TZID=Europe/Berlin:20230402T110200
LOCATION:Tělocvična ZŠ J. Pešaty Duchcov ZŠ J. Pešaty 1313/11 Duchcov
SUMMARY:US-U16Z-6: SKTO Duchcov z.s.-Volejbal Ústí nad Labem\, z.s. B
END:VEVENT
BEGIN:VEVENT
UID:36303466-6561-4633-a166-643431363339
DTSTAMP:20260425T153001Z
DESCRIPTION:3/19 VK Litvínov\, z.s. - Volejbal Ústí nad Labem\, z.s. B 2:0 
 (18\,23)
DTSTART;TZID=Europe/Berlin:20230402T090200
DTEND;TZID=Europe/Berlin:20230402T110200
LOCATION:Sportovní hala Litvínov U Koldomu 2049\, 436 01 Litvínov
SUMMARY:US-U16Z-6: VK Litvínov\, z.s.-Volejbal Ústí nad Labem\, z.s. B
END:VEVENT
END:VCALENDAR
