BEGIN:VCALENDAR
VERSION:2.0
PRODID:-//Jiskra Jaroměř79571//NONSGML kigkonsult.se iCalcreator 2.41.80//
CALSCALE:GREGORIAN
UID:64626233-6633-4461-b438-613362353038
BEGIN:VEVENT
UID:38393435-3933-4438-b065-663866313032
DTSTAMP:20260425T161751Z
DESCRIPTION:4/4 Jaroměř - Jičín 0:2 (-10\,-20)
DTSTART;TZID=Europe/Berlin:20220918T120000
DTEND;TZID=Europe/Berlin:20220918T140000
LOCATION:Hala SŠŘ\, Na Karlově 798 Jaroměř - Pražské Předměstí
SUMMARY:HK-U16Z-KD: Jaroměř-Jičín
END:VEVENT
BEGIN:VEVENT
UID:64666663-3861-4462-b861-373832303934
DTSTAMP:20260425T161751Z
DESCRIPTION:5/5 Jaroměř - Broumov 2:0 (12\,13)
DTSTART;TZID=Europe/Berlin:20220918T130000
DTEND;TZID=Europe/Berlin:20220918T150000
LOCATION:Hala SŠŘ\, Na Karlově 798 Jaroměř - Pražské Předměstí
SUMMARY:HK-U16Z-KD: Jaroměř-Broumov
END:VEVENT
BEGIN:VEVENT
UID:35663534-3438-4962-b832-396334626265
DTSTAMP:20260425T161751Z
DESCRIPTION:1/1 SPORT Náchod - Jaroměř 2:1 (-25\,17\,10)\npořadatel: Slavia
  HK venku
DTSTART;TZID=Europe/Berlin:20220918T090000
DTEND;TZID=Europe/Berlin:20220918T110000
LOCATION:SPORT KLUB Náchod\, Pražská 696 Náchod
SUMMARY:HK-U16Z-KD: SPORT Náchod-Jaroměř
END:VEVENT
BEGIN:VEVENT
UID:33656633-3330-4062-a166-373233656564
DTSTAMP:20260425T161751Z
DESCRIPTION:3/3 Jaroměř - VKM Nová Paka 0:2 (-23\,-18)
DTSTART;TZID=Europe/Berlin:20221023T110000
DTEND;TZID=Europe/Berlin:20221023T130000
LOCATION:Hala SŠŘ\, Na Karlově 798 Jaroměř - Pražské Předměstí
SUMMARY:HK-U16Z-1C: Jaroměř-VKM Nová Paka
END:VEVENT
BEGIN:VEVENT
UID:65383535-6636-4233-a132-323463356339
DTSTAMP:20260425T161751Z
DESCRIPTION:1/1 Chlumec n.C. - Jaroměř 0:2 (-12\,-10)\npoř.Chlumec
DTSTART;TZID=Europe/Berlin:20221023T090000
DTEND;TZID=Europe/Berlin:20221023T110000
LOCATION:Slavíčkova hala\, Sokolská 795 Chlumec nad Cidlinou - Chlumec nad 
 Cidlinou IV
SUMMARY:HK-U16Z-1C: Chlumec n.C.-Jaroměř
END:VEVENT
BEGIN:VEVENT
UID:65323137-3462-4432-b466-623930646230
DTSTAMP:20260425T161751Z
DESCRIPTION:5/5 RÉMA Rychnov - Jaroměř 1:2 (19\,-21\,-3)
DTSTART;TZID=Europe/Berlin:20221023T123000
DTEND;TZID=Europe/Berlin:20221023T143000
LOCATION:Hala VOŠ a SPŠS\, U Stadionu 1166 Rychnov nad Kněžnou
SUMMARY:HK-U16Z-1C: RÉMA Rychnov-Jaroměř
END:VEVENT
BEGIN:VEVENT
UID:64613365-3033-4764-a137-623861663035
DTSTAMP:20260425T161751Z
DESCRIPTION:1/1 Jaroměř - Třebechovice 2:0 (21\,13)\npoř:Jaroměř
DTSTART;TZID=Europe/Berlin:20221113T090000
DTEND;TZID=Europe/Berlin:20221113T110000
LOCATION:Hala SŠŘ\, Na Karlově 798 Jaroměř - Pražské Předměstí
SUMMARY:HK-U16Z-2C: Jaroměř-Třebechovice
END:VEVENT
BEGIN:VEVENT
UID:31323633-6364-4062-a265-623466626438
DTSTAMP:20260425T161751Z
DESCRIPTION:3/3 Jaroměř - VKM Nová Paka 2:0 (16\,16)
DTSTART;TZID=Europe/Berlin:20221113T110000
DTEND;TZID=Europe/Berlin:20221113T130000
LOCATION:Hala SŠŘ\, Na Karlově 798 Jaroměř - Pražské Předměstí
SUMMARY:HK-U16Z-2C: Jaroměř-VKM Nová Paka
END:VEVENT
BEGIN:VEVENT
UID:34646464-3466-4133-b333-363230646663
DTSTAMP:20260425T161751Z
DESCRIPTION:6/6 Jaroměř - SPORT Náchod 2:1 (17\,-26\,9)
DTSTART;TZID=Europe/Berlin:20221113T140000
DTEND;TZID=Europe/Berlin:20221113T160000
LOCATION:Hala SŠŘ\, Na Karlově 798 Jaroměř - Pražské Předměstí
SUMMARY:HK-U16Z-2C: Jaroměř-SPORT Náchod
END:VEVENT
BEGIN:VEVENT
UID:31376432-3235-4837-a333-353963663463
DTSTAMP:20260425T161751Z
DESCRIPTION:4/4 Jaroměř - St.Město - Náchod 1:2 (-11\,12\,-8)
DTSTART;TZID=Europe/Berlin:20221204T120000
DTEND;TZID=Europe/Berlin:20221204T140000
LOCATION:Hala SŠŘ\, Na Karlově 798 Jaroměř - Pražské Předměstí
SUMMARY:HK-U16Z-3B: Jaroměř-St.Město - Náchod
END:VEVENT
BEGIN:VEVENT
UID:31373939-3930-4264-a165-386164636438
DTSTAMP:20260425T161751Z
DESCRIPTION:2/2 VoCe - Jaroměř 2:0 (14\,17)
DTSTART;TZID=Europe/Berlin:20221204T100000
DTEND;TZID=Europe/Berlin:20221204T120000
LOCATION:Tělocvična ZŠ Černčice\,  Černčice68
SUMMARY:HK-U16Z-3B: VoCe-Jaroměř
END:VEVENT
BEGIN:VEVENT
UID:65333061-3663-4162-a435-343636653839
DTSTAMP:20260425T161751Z
DESCRIPTION:6/6 Ruchadlo Zájezd - Jaroměř 0:2 (-18\,-22)
DTSTART;TZID=Europe/Berlin:20221204T140000
DTEND;TZID=Europe/Berlin:20221204T160000
LOCATION:Sportovní hala\, Sportovní 38 Česká Skalice
SUMMARY:HK-U16Z-3B: Ruchadlo Zájezd-Jaroměř
END:VEVENT
BEGIN:VEVENT
UID:36316131-6139-4362-b336-303062313162
DTSTAMP:20260425T161751Z
DESCRIPTION:4/4 Jaroměř - SPORT Náchod 0:2 (-25\,-20)
DTSTART;TZID=Europe/Berlin:20230115T103000
DTEND;TZID=Europe/Berlin:20230115T123000
LOCATION:Hala SŠŘ\, Na Karlově 798 Jaroměř - Pražské Předměstí
SUMMARY:HK-U16Z-4B: Jaroměř-SPORT Náchod
END:VEVENT
BEGIN:VEVENT
UID:66656563-3634-4830-a564-646165613566
DTSTAMP:20260425T161751Z
DESCRIPTION:2/2 Jičín - Jaroměř 2:0 (15\,10)
DTSTART;TZID=Europe/Berlin:20230115T090000
DTEND;TZID=Europe/Berlin:20230115T110000
LOCATION:hala Masarykovy obchodní akademie\, 17. listopadu 220 Jičín - Vald
 ické Předměstí
SUMMARY:HK-U16Z-4B: Jičín-Jaroměř
END:VEVENT
BEGIN:VEVENT
UID:66323631-6136-4465-a131-636434653832
DTSTAMP:20260425T161751Z
DESCRIPTION:6/6 VoCe - Jaroměř 2:0 (15\,19)
DTSTART;TZID=Europe/Berlin:20230115T120000
DTEND;TZID=Europe/Berlin:20230115T140000
LOCATION:Tělocvična ZŠ Černčice\,  Černčice68
SUMMARY:HK-U16Z-4B: VoCe-Jaroměř
END:VEVENT
BEGIN:VEVENT
UID:33653463-6266-4433-b335-633631353636
DTSTAMP:20260425T161751Z
DESCRIPTION:1/1 Jaroměř - Třebechovice 2:0 (10\,15)\npoř:Jaroměř
DTSTART;TZID=Europe/Berlin:20230226T090000
DTEND;TZID=Europe/Berlin:20230226T110000
LOCATION:Hala SŠŘ\, Na Karlově 798 Jaroměř - Pražské Předměstí
SUMMARY:HK-U16Z-6C: Jaroměř-Třebechovice
END:VEVENT
BEGIN:VEVENT
UID:63333465-3638-4234-b130-623233356166
DTSTAMP:20260425T161751Z
DESCRIPTION:3/3 Jaroměř - RÉMA Rychnov 2:0 (13\,18)
DTSTART;TZID=Europe/Berlin:20230226T110000
DTEND;TZID=Europe/Berlin:20230226T130000
LOCATION:Hala SŠŘ\, Na Karlově 798 Jaroměř - Pražské Předměstí
SUMMARY:HK-U16Z-6C: Jaroměř-RÉMA Rychnov
END:VEVENT
BEGIN:VEVENT
UID:31646636-3164-4263-a637-626261613066
DTSTAMP:20260425T161751Z
DESCRIPTION:6/6 Jaroměř - Ruchadlo Zájezd 2:1 (19\,-7\,13)
DTSTART;TZID=Europe/Berlin:20230226T140000
DTEND;TZID=Europe/Berlin:20230226T160000
LOCATION:Hala SŠŘ\, Na Karlově 798 Jaroměř - Pražské Předměstí
SUMMARY:HK-U16Z-6C: Jaroměř-Ruchadlo Zájezd
END:VEVENT
BEGIN:VEVENT
UID:39653931-3338-4663-b162-306435326666
DTSTAMP:20260425T161751Z
DESCRIPTION:1/1 Jaroměř - Třebechovice 2:0 (12\,10)
DTSTART;TZID=Europe/Berlin:20230312T090000
DTEND;TZID=Europe/Berlin:20230312T110000
LOCATION:Hala SŠŘ\, Na Karlově 798 Jaroměř - Pražské Předměstí
SUMMARY:HK-U16Z-7C: Jaroměř-Třebechovice
END:VEVENT
BEGIN:VEVENT
UID:63306465-3038-4131-a466-616564303934
DTSTAMP:20260425T161751Z
DESCRIPTION:3/3 Jaroměř - Ruchadlo Zájezd 0:2 (-23\,-13)
DTSTART;TZID=Europe/Berlin:20230312T110000
DTEND;TZID=Europe/Berlin:20230312T130000
LOCATION:Hala SŠŘ\, Na Karlově 798 Jaroměř - Pražské Předměstí
SUMMARY:HK-U16Z-7C: Jaroměř-Ruchadlo Zájezd
END:VEVENT
BEGIN:VEVENT
UID:34633531-3331-4231-b631-323764663865
DTSTAMP:20260425T161751Z
DESCRIPTION:6/6 Jaroměř - RÉMA Rychnov 2:0 (16\,13)
DTSTART;TZID=Europe/Berlin:20230312T140000
DTEND;TZID=Europe/Berlin:20230312T160000
LOCATION:Hala SŠŘ\, Na Karlově 798 Jaroměř - Pražské Předměstí
SUMMARY:HK-U16Z-7C: Jaroměř-RÉMA Rychnov
END:VEVENT
BEGIN:VEVENT
UID:63343139-3433-4231-b136-303931393963
DTSTAMP:20260425T161751Z
DESCRIPTION:5/7 Jaroměř - VKM Nová Paka 2:0 (16\,21)\nSPŠS
DTSTART;TZID=Europe/Berlin:20230402T141500
DTEND;TZID=Europe/Berlin:20230402T161500
LOCATION:Hala SŠŘ\, Na Karlově 798 Jaroměř - Pražské Předměstí
SUMMARY:HK-U16Z-8DA: Jaroměř-VKM Nová Paka
END:VEVENT
BEGIN:VEVENT
UID:36376537-6165-4366-b338-323436363765
DTSTAMP:20260425T161751Z
DESCRIPTION:6/10 Jaroměř - RÉMA Rychnov 2:0 (20\,23)\nSPŠS
DTSTART;TZID=Europe/Berlin:20230402T153000
DTEND;TZID=Europe/Berlin:20230402T173000
LOCATION:Hala SŠŘ\, Na Karlově 798 Jaroměř - Pražské Předměstí
SUMMARY:HK-U16Z-8DA: Jaroměř-RÉMA Rychnov
END:VEVENT
BEGIN:VEVENT
UID:30393537-6364-4165-a666-363933326337
DTSTAMP:20260425T161751Z
DESCRIPTION:3/3 VoCe - Jaroměř 2:0 (16\,17)\nSPŠS
DTSTART;TZID=Europe/Berlin:20230402T113000
DTEND;TZID=Europe/Berlin:20230402T133000
LOCATION:Tělocvična ZŠ Černčice\,  Černčice68
SUMMARY:HK-U16Z-8DA: VoCe-Jaroměř
END:VEVENT
BEGIN:VEVENT
UID:36363432-3562-4430-a362-373339663662
DTSTAMP:20260425T161751Z
DESCRIPTION:4/5 Ruchadlo Zájezd - Jaroměř 2:1 (24\,-17\,12)\nSPŠS
DTSTART;TZID=Europe/Berlin:20230402T101500
DTEND;TZID=Europe/Berlin:20230402T121500
LOCATION:Sportovní hala\, Sportovní 38 Česká Skalice
SUMMARY:HK-U16Z-8DA: Ruchadlo Zájezd-Jaroměř
END:VEVENT
END:VCALENDAR
