BEGIN:VCALENDAR
VERSION:2.0
PRODID:-//PFN Znojmo79609//NONSGML kigkonsult.se iCalcreator 2.41.80//
CALSCALE:GREGORIAN
UID:31613139-3863-4431-b362-653934323938
BEGIN:VEVENT
UID:62353038-6263-4761-b134-346462643531
DTSTAMP:20260425T105306Z
DESCRIPTION:2/4 VK Znojmo - Přímětice - VK Valašské Meziříčí 2:0 (14\,21)
DTSTART;TZID=Europe/Berlin:20220924T110000
DTEND;TZID=Europe/Berlin:20220924T130000
LOCATION:Tělocvična ZŠ Prokopa Diviše a MŠ\, Ke Škole 569 Znojmo - Přímětic
 e
SUMMARY:CP-U16Z-V1B: VK Znojmo - Přímětice-VK Valašské Meziříčí
END:VEVENT
BEGIN:VEVENT
UID:36616435-3036-4930-b531-666437353530
DTSTAMP:20260425T105306Z
DESCRIPTION:4/8 VK Znojmo - Přímětice - TJ Žďár nad Sázavou 2:0 (5\,10)
DTSTART;TZID=Europe/Berlin:20220924T130000
DTEND;TZID=Europe/Berlin:20220924T150000
LOCATION:Tělocvična ZŠ Prokopa Diviše a MŠ\, Ke Škole 569 Znojmo - Přímětic
 e
SUMMARY:CP-U16Z-V1B: VK Znojmo - Přímětice-TJ Žďár nad Sázavou
END:VEVENT
BEGIN:VEVENT
UID:37636238-3532-4861-b330-373165313432
DTSTAMP:20260425T105306Z
DESCRIPTION:5/9 VK Znojmo - Přímětice - Jiskra Jaroměř 2:0 (11\,21)
DTSTART;TZID=Europe/Berlin:20220924T140000
DTEND;TZID=Europe/Berlin:20220924T160000
LOCATION:Tělocvična ZŠ Prokopa Diviše a MŠ\, Ke Škole 569 Znojmo - Přímětic
 e
SUMMARY:CP-U16Z-V1B: VK Znojmo - Přímětice-Jiskra Jaroměř
END:VEVENT
BEGIN:VEVENT
UID:36623439-3062-4466-a161-646233393563
DTSTAMP:20260425T105306Z
DESCRIPTION:12/20 VK Znojmo - Přímětice - VK Brno\, Vejrostova 2:0 (15\,11)
DTSTART;TZID=Europe/Berlin:20220925T120000
DTEND;TZID=Europe/Berlin:20220925T140000
LOCATION:Tělocvična ZŠ Prokopa Diviše a MŠ\, Ke Škole 569 Znojmo - Přímětic
 e
SUMMARY:CP-U16Z-V1B: VK Znojmo - Přímětice-VK Brno\, Vejrostova
END:VEVENT
BEGIN:VEVENT
UID:61363836-3264-4635-a662-346634333066
DTSTAMP:20260425T105306Z
DESCRIPTION:8/14 KP Brno A - VK Znojmo - Přímětice 2:0 (13\,13)
DTSTART;TZID=Europe/Berlin:20220924T170000
DTEND;TZID=Europe/Berlin:20220924T190000
LOCATION:Sportovní gymnázium Ludvíka Daňka\, Botanická 63 Brno - Ponava
SUMMARY:CP-U16Z-V1B: KP Brno A-VK Znojmo - Přímětice
END:VEVENT
BEGIN:VEVENT
UID:63316634-6136-4362-a236-306234346134
DTSTAMP:20260425T105306Z
DESCRIPTION:10/17 TJ Slavia H. Králové - VK Znojmo - Přímětice 1:2 (-17\,17
 \,-12)
DTSTART;TZID=Europe/Berlin:20220925T100000
DTEND;TZID=Europe/Berlin:20220925T120000
LOCATION:TJ Slavia Hradec Králové\, Víta Nejedlého 1216 Hradec Králové
SUMMARY:CP-U16Z-V1B: TJ Slavia H. Králové-VK Znojmo - Přímětice
END:VEVENT
BEGIN:VEVENT
UID:66613233-3166-4330-b037-393432313531
DTSTAMP:20260425T105306Z
DESCRIPTION:1/2 VK Znojmo - Přímětice - Orel Letohrad 2:0 (15\,10)
DTSTART;TZID=Europe/Berlin:20221015T093000
DTEND;TZID=Europe/Berlin:20221015T113000
LOCATION:Tělocvična ZŠ Prokopa Diviše a MŠ\, Ke Škole 569 Znojmo - Přímětic
 e
SUMMARY:CP-U16Z-V2A: VK Znojmo - Přímětice-Orel Letohrad
END:VEVENT
BEGIN:VEVENT
UID:34343932-3036-4366-b930-383237313938
DTSTAMP:20260425T105306Z
DESCRIPTION:5/10 VK Znojmo - Přímětice - TJ Sokol Frýdek - Místek 0:2 (-16\
 ,-16)
DTSTART;TZID=Europe/Berlin:20221015T143000
DTEND;TZID=Europe/Berlin:20221015T163000
LOCATION:Tělocvična ZŠ Prokopa Diviše a MŠ\, Ke Škole 569 Znojmo - Přímětic
 e
SUMMARY:CP-U16Z-V2A: VK Znojmo - Přímětice-TJ Sokol Frýdek - Místek
END:VEVENT
BEGIN:VEVENT
UID:38636465-3339-4037-b736-316138356534
DTSTAMP:20260425T105306Z
DESCRIPTION:10/20 VK Znojmo - Přímětice - VO TJ Lanškroun 2:0 (19\,17)
DTSTART;TZID=Europe/Berlin:20221016T120000
DTEND;TZID=Europe/Berlin:20221016T140000
LOCATION:Tělocvična ZŠ Prokopa Diviše a MŠ\, Ke Škole 569 Znojmo - Přímětic
 e
SUMMARY:CP-U16Z-V2A: VK Znojmo - Přímětice-VO TJ Lanškroun
END:VEVENT
BEGIN:VEVENT
UID:61636462-3061-4037-a533-636139333265
DTSTAMP:20260425T105306Z
DESCRIPTION:4/7 Prostějov - VK Znojmo - Přímětice 2:0 (4\,14)
DTSTART;TZID=Europe/Berlin:20221015T131500
DTEND;TZID=Europe/Berlin:20221015T151500
LOCATION:Národní sportovní centrum\, Za velodromem 4187 Prostějov
SUMMARY:CP-U16Z-V2A: Prostějov-VK Znojmo - Přímětice
END:VEVENT
BEGIN:VEVENT
UID:65656664-6133-4939-a333-326639646631
DTSTAMP:20260425T105306Z
DESCRIPTION:6/11 KP Brno A - VK Znojmo - Přímětice 2:0 (10\,14)
DTSTART;TZID=Europe/Berlin:20221015T154500
DTEND;TZID=Europe/Berlin:20221015T174500
LOCATION:Sportovní gymnázium Ludvíka Daňka\, Botanická 63 Brno - Ponava
SUMMARY:CP-U16Z-V2A: KP Brno A-VK Znojmo - Přímětice
END:VEVENT
BEGIN:VEVENT
UID:31623962-3538-4161-b039-376338353030
DTSTAMP:20260425T105306Z
DESCRIPTION:9/18 TJ Sokol Štoky - VK Znojmo - Přímětice 1:2 (17\,-5\,-9)
DTSTART;TZID=Europe/Berlin:20221016T104500
DTEND;TZID=Europe/Berlin:20221016T124500
LOCATION:Sportovní hala Základní škola a mateřská škola Štoky\,  Štoky220
SUMMARY:CP-U16Z-V2A: TJ Sokol Štoky-VK Znojmo - Přímětice
END:VEVENT
BEGIN:VEVENT
UID:65616536-6430-4265-b538-353665376136
DTSTAMP:20260425T105306Z
DESCRIPTION:2/6 VK Znojmo - Přímětice - TJ Sokol Štoky 2:1 (20\,-19\,12)
DTSTART;TZID=Europe/Berlin:20221119T103000
DTEND;TZID=Europe/Berlin:20221119T123000
LOCATION:Tělocvična ZŠ Prokopa Diviše a MŠ\, Ke Škole 569 Znojmo - Přímětic
 e
SUMMARY:CP-U16Z-V3A: VK Znojmo - Přímětice-TJ Sokol Štoky
END:VEVENT
BEGIN:VEVENT
UID:63373436-3133-4163-b133-616162383539
DTSTAMP:20260425T105306Z
DESCRIPTION:5/13 VK Znojmo - Přímětice - KP Brno A 0:2 (-12\,-11)
DTSTART;TZID=Europe/Berlin:20221120T083000
DTEND;TZID=Europe/Berlin:20221120T103000
LOCATION:Tělocvična ZŠ Prokopa Diviše a MŠ\, Ke Škole 569 Znojmo - Přímětic
 e
SUMMARY:CP-U16Z-V3A: VK Znojmo - Přímětice-KP Brno A
END:VEVENT
BEGIN:VEVENT
UID:64326166-6538-4133-a433-663835363435
DTSTAMP:20260425T105306Z
DESCRIPTION:3/8 VSK Zlín - VK Znojmo - Přímětice 2:0 (11\,24)
DTSTART;TZID=Europe/Berlin:20221119T123000
DTEND;TZID=Europe/Berlin:20221119T143000
LOCATION:ZŠ Okružní Zlín\, Okružní 4685 Zlín
SUMMARY:CP-U16Z-V3A: VSK Zlín-VK Znojmo - Přímětice
END:VEVENT
BEGIN:VEVENT
UID:38316534-6532-4435-b137-313535313737
DTSTAMP:20260425T105306Z
DESCRIPTION:4/10 Volejbal Přerov - VK Znojmo - Přímětice 0:2 (-18\,-12)
DTSTART;TZID=Europe/Berlin:20221119T140000
DTEND;TZID=Europe/Berlin:20221119T160000
LOCATION:Městská sportovní hala\, Petřivalského 2884 Přerov - Přerov I-Měst
 o
SUMMARY:CP-U16Z-V3A: Volejbal Přerov-VK Znojmo - Přímětice
END:VEVENT
BEGIN:VEVENT
UID:36643764-3762-4461-b734-343030666534
DTSTAMP:20260425T105306Z
DESCRIPTION:6/16 TJ Sokol Frýdek - Místek - VK Znojmo - Přímětice 2:0 (16\,
 26)
DTSTART;TZID=Europe/Berlin:20221120T100000
DTEND;TZID=Europe/Berlin:20221120T120000
LOCATION:ZŠ Pionýrů 400 Frýdek-Místek\, Pionýrů 400 Frýdek-Místek - Místek
SUMMARY:CP-U16Z-V3A: TJ Sokol Frýdek - Místek-VK Znojmo - Přímětice
END:VEVENT
BEGIN:VEVENT
UID:34346434-6131-4934-b537-313035353962
DTSTAMP:20260425T105306Z
DESCRIPTION:7/19 Prostějov - VK Znojmo - Přímětice 0:2 (-26\,-12)
DTSTART;TZID=Europe/Berlin:20221120T113000
DTEND;TZID=Europe/Berlin:20221120T133000
LOCATION:Národní sportovní centrum\, Za velodromem 4187 Prostějov
SUMMARY:CP-U16Z-V3A: Prostějov-VK Znojmo - Přímětice
END:VEVENT
BEGIN:VEVENT
UID:39356130-3435-4462-b334-643064366339
DTSTAMP:20260425T105306Z
DESCRIPTION:2/5 VK Znojmo - Přímětice - VSK Zlín 1:2 (-24\,19\,-7)
DTSTART;TZID=Europe/Berlin:20230121T103000
DTEND;TZID=Europe/Berlin:20230121T123000
LOCATION:Tělocvična ZŠ Prokopa Diviše a MŠ\, Ke Škole 569 Znojmo - Přímětic
 e
SUMMARY:CP-U16Z-F1B: VK Znojmo - Přímětice-VSK Zlín
END:VEVENT
BEGIN:VEVENT
UID:61383535-6433-4166-b033-363133383966
DTSTAMP:20260425T105306Z
DESCRIPTION:3/9 VK Znojmo - Přímětice - SK VOLEJBAL Ústí n.L. 2:0 (18\,20)
DTSTART;TZID=Europe/Berlin:20230121T120000
DTEND;TZID=Europe/Berlin:20230121T140000
LOCATION:Tělocvična ZŠ Prokopa Diviše a MŠ\, Ke Škole 569 Znojmo - Přímětic
 e
SUMMARY:CP-U16Z-F1B: VK Znojmo - Přímětice-SK VOLEJBAL Ústí n.L.
END:VEVENT
BEGIN:VEVENT
UID:38653466-3561-4562-b938-356433336135
DTSTAMP:20260425T105306Z
DESCRIPTION:5/14 VK Znojmo - Přímětice - TJ Turnov 0:2 (-3\,-21)
DTSTART;TZID=Europe/Berlin:20230121T160000
DTEND;TZID=Europe/Berlin:20230121T180000
LOCATION:Tělocvična ZŠ Prokopa Diviše a MŠ\, Ke Škole 569 Znojmo - Přímětic
 e
SUMMARY:CP-U16Z-F1B: VK Znojmo - Přímětice-TJ Turnov
END:VEVENT
BEGIN:VEVENT
UID:33646638-3463-4436-a136-383633326230
DTSTAMP:20260425T105306Z
DESCRIPTION:7/21 VK Znojmo - Přímětice - SK Kometa Praha 2:0 (21\,19)
DTSTART;TZID=Europe/Berlin:20230122T083000
DTEND;TZID=Europe/Berlin:20230122T103000
LOCATION:Tělocvična ZŠ Prokopa Diviše a MŠ\, Ke Škole 569 Znojmo - Přímětic
 e
SUMMARY:CP-U16Z-F1B: VK Znojmo - Přímětice-SK Kometa Praha
END:VEVENT
BEGIN:VEVENT
UID:30376561-3863-4364-b237-666230396166
DTSTAMP:20260425T105306Z
DESCRIPTION:4/10 TJ Slavia H. Králové - VK Znojmo - Přímětice 0:2 (-24\,-11
 )
DTSTART;TZID=Europe/Berlin:20230121T143000
DTEND;TZID=Europe/Berlin:20230121T163000
LOCATION:TJ Slavia Hradec Králové\, Víta Nejedlého 1216 Hradec Králové
SUMMARY:CP-U16Z-F1B: TJ Slavia H. Králové-VK Znojmo - Přímětice
END:VEVENT
BEGIN:VEVENT
UID:34663765-3634-4132-b332-643636306661
DTSTAMP:20260425T105306Z
DESCRIPTION:8/22 VK Karlovy Vary - VK Znojmo - Přímětice 2:0 (11\,21)
DTSTART;TZID=Europe/Berlin:20230122T100000
DTEND;TZID=Europe/Berlin:20230122T120000
LOCATION:Mattoni Arena Hala míčových sportů\, Západní 1812 Karlovy Vary
SUMMARY:CP-U16Z-F1B: VK Karlovy Vary-VK Znojmo - Přímětice
END:VEVENT
BEGIN:VEVENT
UID:31303138-3836-4663-b764-663766393136
DTSTAMP:20260425T105306Z
DESCRIPTION:9/26 Volejbal Přerov - VK Znojmo - Přímětice 1:2 (-16\,17\,-11)
DTSTART;TZID=Europe/Berlin:20230122T113000
DTEND;TZID=Europe/Berlin:20230122T133000
LOCATION:Městská sportovní hala\, Petřivalského 2884 Přerov - Přerov I-Měst
 o
SUMMARY:CP-U16Z-F1B: Volejbal Přerov-VK Znojmo - Přímětice
END:VEVENT
BEGIN:VEVENT
UID:39613032-3562-4065-b865-626335356265
DTSTAMP:20260425T105306Z
DESCRIPTION:1/2 VK Znojmo - Přímětice - VSK Zlín 1:2 (-20\,14\,-12)
DTSTART;TZID=Europe/Berlin:20230218T090000
DTEND;TZID=Europe/Berlin:20230218T110000
LOCATION:Tělocvična ZŠ Prokopa Diviše a MŠ\, Ke Škole 569 Znojmo - Přímětic
 e
SUMMARY:CP-U16Z-F2B: VK Znojmo - Přímětice-VSK Zlín
END:VEVENT
BEGIN:VEVENT
UID:62383730-6637-4163-b665-666662363839
DTSTAMP:20260425T105306Z
DESCRIPTION:4/8 VK Znojmo - Přímětice - TJ Slavia H. Králové 2:0 (21\,23)
DTSTART;TZID=Europe/Berlin:20230218T130000
DTEND;TZID=Europe/Berlin:20230218T150000
LOCATION:Tělocvična ZŠ Prokopa Diviše a MŠ\, Ke Škole 569 Znojmo - Přímětic
 e
SUMMARY:CP-U16Z-F2B: VK Znojmo - Přímětice-TJ Slavia H. Králové
END:VEVENT
BEGIN:VEVENT
UID:66613438-3639-4339-a238-323563366130
DTSTAMP:20260425T105306Z
DESCRIPTION:10/20 VK Znojmo - Přímětice - VK Rokycany 2:0 (14\,13)
DTSTART;TZID=Europe/Berlin:20230219T114000
DTEND;TZID=Europe/Berlin:20230219T134000
LOCATION:Tělocvična ZŠ Prokopa Diviše a MŠ\, Ke Škole 569 Znojmo - Přímětic
 e
SUMMARY:CP-U16Z-F2B: VK Znojmo - Přímětice-VK Rokycany
END:VEVENT
BEGIN:VEVENT
UID:35356530-6666-4233-b531-323861633938
DTSTAMP:20260425T105306Z
DESCRIPTION:2/4 Volejbal Červený Kostelec - VK Znojmo - Přímětice 1:2 (14\,
 -21\,-14)
DTSTART;TZID=Europe/Berlin:20230218T102000
DTEND;TZID=Europe/Berlin:20230218T122000
LOCATION:Sportovní hala\, Palackého 1234 Červený Kostelec
SUMMARY:CP-U16Z-F2B: Volejbal Červený Kostelec-VK Znojmo - Přímětice
END:VEVENT
BEGIN:VEVENT
UID:62383837-6331-4837-a462-666637633830
DTSTAMP:20260425T105306Z
DESCRIPTION:6/11 TJ Sokol Štoky - VK Znojmo - Přímětice 2:0 (11\,13)
DTSTART;TZID=Europe/Berlin:20230218T154000
DTEND;TZID=Europe/Berlin:20230218T174000
LOCATION:Sportovní hala Základní škola a mateřská škola Štoky\,  Štoky220
SUMMARY:CP-U16Z-F2B: TJ Sokol Štoky-VK Znojmo - Přímětice
END:VEVENT
BEGIN:VEVENT
UID:64666134-3431-4636-a134-343839636164
DTSTAMP:20260425T105306Z
DESCRIPTION:9/17 TJ Lokomotiva Plzeň - VK Znojmo - Přímětice 2:1 (17\,-10\,
 11)
DTSTART;TZID=Europe/Berlin:20230219T102000
DTEND;TZID=Europe/Berlin:20230219T122000
LOCATION:Městská sportovní hala  -  hala 2\, Úslavská 2357 Plzeň - Východní
  Předměstí
SUMMARY:CP-U16Z-F2B: TJ Lokomotiva Plzeň-VK Znojmo - Přímětice
END:VEVENT
BEGIN:VEVENT
UID:35373039-3334-4663-a538-396365366366
DTSTAMP:20260425T105306Z
DESCRIPTION:11/25 SK VOLEJBAL Ústí n.L. - VK Znojmo - Přímětice X:2
DTSTART;TZID=Europe/Berlin:20230219T130000
DTEND;TZID=Europe/Berlin:20230219T150000
LOCATION:Základní škola Stříbrnická\, Stříbrnická 3031 Ústí nad Labem - Sev
 erní Terasa
SUMMARY:CP-U16Z-F2B: SK VOLEJBAL Ústí n.L.-VK Znojmo - Přímětice
END:VEVENT
BEGIN:VEVENT
UID:65313864-3732-4963-b365-623664376637
DTSTAMP:20260425T105306Z
DESCRIPTION:6/16 VK Znojmo - Přímětice - TJ Orion Praha A 0:2 (-21\,-23)
DTSTART;TZID=Europe/Berlin:20230318T154500
DTEND;TZID=Europe/Berlin:20230318T174500
LOCATION:Tělocvična ZŠ Prokopa Diviše a MŠ\, Ke Škole 569 Znojmo - Přímětic
 e
SUMMARY:CP-U16Z-F3B: VK Znojmo - Přímětice-TJ Orion Praha A
END:VEVENT
BEGIN:VEVENT
UID:61376536-6139-4137-b835-336134393637
DTSTAMP:20260425T105306Z
DESCRIPTION:7/20 VK Znojmo - Přímětice - TJ Slavia H. Králové 0:2 (-17\,-23
 )
DTSTART;TZID=Europe/Berlin:20230319T090000
DTEND;TZID=Europe/Berlin:20230319T110000
LOCATION:Tělocvična ZŠ Prokopa Diviše a MŠ\, Ke Škole 569 Znojmo - Přímětic
 e
SUMMARY:CP-U16Z-F3B: VK Znojmo - Přímětice-TJ Slavia H. Králové
END:VEVENT
BEGIN:VEVENT
UID:30336564-6530-4338-b566-633538643461
DTSTAMP:20260425T105306Z
DESCRIPTION:1/1 Prostějov - VK Znojmo - Přímětice 2:0 (12\,10)
DTSTART;TZID=Europe/Berlin:20230318T093000
DTEND;TZID=Europe/Berlin:20230318T113000
LOCATION:Národní sportovní centrum\, Za velodromem 4187 Prostějov
SUMMARY:CP-U16Z-F3B: Prostějov-VK Znojmo - Přímětice
END:VEVENT
BEGIN:VEVENT
UID:34376632-3263-4538-b934-303934336134
DTSTAMP:20260425T105306Z
DESCRIPTION:3/7 SK Kometa Praha - VK Znojmo - Přímětice 0:2 (-20\,-19)
DTSTART;TZID=Europe/Berlin:20230318T120000
DTEND;TZID=Europe/Berlin:20230318T140000
LOCATION:Tělocvična ZŠ Na Šutce\, Na Šutce 440 Praha - Troja
SUMMARY:CP-U16Z-F3B: SK Kometa Praha-VK Znojmo - Přímětice
END:VEVENT
BEGIN:VEVENT
UID:63313563-3363-4362-b033-343636373963
DTSTAMP:20260425T105306Z
DESCRIPTION:4/9 VK Rokycany - VK Znojmo - Přímětice 1:2 (30\,-17\,-14)
DTSTART;TZID=Europe/Berlin:20230318T131500
DTEND;TZID=Europe/Berlin:20230318T151500
LOCATION:Hala Gymnázia Rokycany\, Mládežníků 1115 Rokycany - Nové Město
SUMMARY:CP-U16Z-F3B: VK Rokycany-VK Znojmo - Přímětice
END:VEVENT
BEGIN:VEVENT
UID:36336333-6364-4833-a233-393833396635
DTSTAMP:20260425T105306Z
DESCRIPTION:8/22 TJ Sokol Štoky - VK Znojmo - Přímětice 2:1 (25\,-24\,10)
DTSTART;TZID=Europe/Berlin:20230319T101500
DTEND;TZID=Europe/Berlin:20230319T121500
LOCATION:Sportovní hala Základní škola a mateřská škola Štoky\,  Štoky220
SUMMARY:CP-U16Z-F3B: TJ Sokol Štoky-VK Znojmo - Přímětice
END:VEVENT
BEGIN:VEVENT
UID:62656332-3337-4636-b965-383664666234
DTSTAMP:20260425T105306Z
DESCRIPTION:9/25 Dukla Liberec - VK Znojmo - Přímětice 2:1 (-19\,22\,8)
DTSTART;TZID=Europe/Berlin:20230319T113000
DTEND;TZID=Europe/Berlin:20230319T133000
LOCATION:Dukla Liberec\, Jeronýmova 558 Liberec - Liberec VII-Horní Růžodol
SUMMARY:CP-U16Z-F3B: Dukla Liberec-VK Znojmo - Přímětice
END:VEVENT
END:VCALENDAR
