BEGIN:VCALENDAR
VERSION:2.0
PRODID:-//TJ Sokol Vejprnice B79619//NONSGML kigkonsult.se iCalcreator 2.41.80//
CALSCALE:GREGORIAN
UID:34313563-6633-4063-b736-323063393362
BEGIN:VEVENT
UID:33663864-3336-4663-b930-386139353563
DTSTAMP:20260423T004419Z
DESCRIPTION:1/3 Vejprnice B - Košutka 0:2 (-3\,-11)
DTSTART;TZID=Europe/Berlin:20221002T113000
DTEND;TZID=Europe/Berlin:20221002T133000
LOCATION:Tělocvična ZŠ Vejprnice\, Jakuba Husníka 527 Vejprnice
SUMMARY:P-U20Z: Vejprnice B-Košutka
END:VEVENT
BEGIN:VEVENT
UID:37356561-3063-4531-b037-326630383136
DTSTAMP:20260423T004419Z
DESCRIPTION:1/6 Vejprnice B - Klatovy 0:2 (-21\,-15)
DTSTART;TZID=Europe/Berlin:20221002T130000
DTEND;TZID=Europe/Berlin:20221002T150000
LOCATION:Tělocvična ZŠ Vejprnice\, Jakuba Husníka 527 Vejprnice
SUMMARY:P-U20Z: Vejprnice B-Klatovy
END:VEVENT
BEGIN:VEVENT
UID:61646439-6666-4238-b737-643438616162
DTSTAMP:20260423T004419Z
DESCRIPTION:2/8 Vejprnice B - Letná 1:2 (-4\,16\,-7)
DTSTART;TZID=Europe/Berlin:20221113T090000
DTEND;TZID=Europe/Berlin:20221113T110000
LOCATION:Tělocvična ZŠ Vejprnice\, Jakuba Husníka 527 Vejprnice
SUMMARY:P-U20Z: Vejprnice B-Letná
END:VEVENT
BEGIN:VEVENT
UID:34373531-6661-4763-b436-633964623765
DTSTAMP:20260423T004419Z
DESCRIPTION:2/10 Vejprnice B - Klatovy 0:2 (-10\,-17)
DTSTART;TZID=Europe/Berlin:20221113T103000
DTEND;TZID=Europe/Berlin:20221113T123000
LOCATION:Tělocvična ZŠ Vejprnice\, Jakuba Husníka 527 Vejprnice
SUMMARY:P-U20Z: Vejprnice B-Klatovy
END:VEVENT
BEGIN:VEVENT
UID:63336133-6636-4861-b738-663564356234
DTSTAMP:20260423T004419Z
DESCRIPTION:3/14 Vejprnice B - Rokycany 0:2 (-4\,-6)
DTSTART;TZID=Europe/Berlin:20221217T100000
DTEND;TZID=Europe/Berlin:20221217T120000
LOCATION:Tělocvična ZŠ Vejprnice\, Jakuba Husníka 527 Vejprnice
SUMMARY:P-U20Z: Vejprnice B-Rokycany
END:VEVENT
BEGIN:VEVENT
UID:63666533-6132-4937-b166-656332643865
DTSTAMP:20260423T004419Z
DESCRIPTION:3/15 Vejprnice B - Letná 0:2 (-9\,-17)
DTSTART;TZID=Europe/Berlin:20221217T110000
DTEND;TZID=Europe/Berlin:20221217T130000
LOCATION:Tělocvična ZŠ Vejprnice\, Jakuba Husníka 527 Vejprnice
SUMMARY:P-U20Z: Vejprnice B-Letná
END:VEVENT
BEGIN:VEVENT
UID:34333833-3334-4564-b561-396538353166
DTSTAMP:20260423T004419Z
DESCRIPTION:5/27 Vejprnice B - Rokycany 0:2 (-13\,-12)
DTSTART;TZID=Europe/Berlin:20230219T110000
DTEND;TZID=Europe/Berlin:20230219T130000
LOCATION:Tělocvična ZŠ Vejprnice\, Jakuba Husníka 527 Vejprnice
SUMMARY:P-U20Z: Vejprnice B-Rokycany
END:VEVENT
BEGIN:VEVENT
UID:33646636-3863-4038-b931-323865373061
DTSTAMP:20260423T004419Z
DESCRIPTION:6/34 Vejprnice B - Košutka 0:2 (-7\,-8)
DTSTART;TZID=Europe/Berlin:20230319T100000
DTEND;TZID=Europe/Berlin:20230319T120000
LOCATION:Tělocvična ZŠ Vejprnice\, Jakuba Husníka 527 Vejprnice
SUMMARY:P-U20Z: Vejprnice B-Košutka
END:VEVENT
BEGIN:VEVENT
UID:38623530-6361-4465-a239-393530623432
DTSTAMP:20260423T004419Z
DESCRIPTION:6/36 Vejprnice B - Klatovy 0:2 (-15\,-13)
DTSTART;TZID=Europe/Berlin:20230319T113000
DTEND;TZID=Europe/Berlin:20230319T133000
LOCATION:Tělocvična ZŠ Vejprnice\, Jakuba Husníka 527 Vejprnice
SUMMARY:P-U20Z: Vejprnice B-Klatovy
END:VEVENT
BEGIN:VEVENT
UID:34623466-6266-4638-a439-363063623234
DTSTAMP:20260423T004419Z
DESCRIPTION:1/2 Letná - Vejprnice B 2:0 (15\,18)
DTSTART;TZID=Europe/Berlin:20221002T100000
DTEND;TZID=Europe/Berlin:20221002T120000
LOCATION:Tělocvična 28. ZŠ Plzeň\, Rodinná 965 Plzeň - Lobzy
SUMMARY:P-U20Z: Letná-Vejprnice B
END:VEVENT
BEGIN:VEVENT
UID:62383933-6466-4764-a535-343338366136
DTSTAMP:20260423T004419Z
DESCRIPTION:2/12 Rokycany - Vejprnice B 2:0 (6\,2)
DTSTART;TZID=Europe/Berlin:20221113T120000
DTEND;TZID=Europe/Berlin:20221113T140000
LOCATION:Hala Gymnázia Rokycany\, Mládežníků 1115 Rokycany - Nové Město
SUMMARY:P-U20Z: Rokycany-Vejprnice B
END:VEVENT
BEGIN:VEVENT
UID:39666166-6431-4131-b732-336532633832
DTSTAMP:20260423T004419Z
DESCRIPTION:3/18 Košutka - Vejprnice B 2:0 (10\,8)
DTSTART;TZID=Europe/Berlin:20221217T140000
DTEND;TZID=Europe/Berlin:20221217T160000
LOCATION:Tělocvična 14.ZŠ\, Zábělská 1220 Plzeň - Doubravka
SUMMARY:P-U20Z: Košutka-Vejprnice B
END:VEVENT
BEGIN:VEVENT
UID:32623136-3463-4133-b531-386633303634
DTSTAMP:20260423T004419Z
DESCRIPTION:5/25 Košutka - Vejprnice B 2:0 (9\,10)\npořadatel Vejprnice
DTSTART;TZID=Europe/Berlin:20230219T090000
DTEND;TZID=Europe/Berlin:20230219T110000
LOCATION:Tělocvična 14.ZŠ\, Zábělská 1220 Plzeň - Doubravka
SUMMARY:P-U20Z: Košutka-Vejprnice B
END:VEVENT
BEGIN:VEVENT
UID:63393930-6662-4261-a336-353963373037
DTSTAMP:20260423T004419Z
DESCRIPTION:5/29 Klatovy - Vejprnice B 2:0 (11\,6)
DTSTART;TZID=Europe/Berlin:20230219T130000
DTEND;TZID=Europe/Berlin:20230219T150000
LOCATION:Sportovní hala ZŠ Čapkova\, Čapkova 136 Klatovy - Klatovy V
SUMMARY:P-U20Z: Klatovy-Vejprnice B
END:VEVENT
BEGIN:VEVENT
UID:39613834-3439-4130-a462-623736333833
DTSTAMP:20260423T004419Z
DESCRIPTION:6/32 Letná - Vejprnice B 2:0 (14\,24)
DTSTART;TZID=Europe/Berlin:20230319T090000
DTEND;TZID=Europe/Berlin:20230319T110000
LOCATION:Tělocvična 28. ZŠ Plzeň\, Rodinná 965 Plzeň - Lobzy
SUMMARY:P-U20Z: Letná-Vejprnice B
END:VEVENT
BEGIN:VEVENT
UID:36373933-3565-4264-a562-636636306431
DTSTAMP:20260423T004419Z
DESCRIPTION:6/39 Rokycany - Vejprnice B 2:0 (7\,4)
DTSTART;TZID=Europe/Berlin:20230319T143000
DTEND;TZID=Europe/Berlin:20230319T163000
LOCATION:Hala Gymnázia Rokycany\, Mládežníků 1115 Rokycany - Nové Město
SUMMARY:P-U20Z: Rokycany-Vejprnice B
END:VEVENT
END:VCALENDAR
