BEGIN:VCALENDAR
VERSION:2.0
PRODID:-//TJ Lokomotiva Plzeň B79631//NONSGML kigkonsult.se iCalcreator 2.41.80//
CALSCALE:GREGORIAN
UID:63633931-6563-4430-a262-346666376633
BEGIN:VEVENT
UID:35383731-3064-4338-b834-316232653034
DTSTAMP:20260425T181116Z
DESCRIPTION:2/19 Loko Plzeň B - Rokycany 0:2 (-16\,-10)
DTSTART;TZID=Europe/Berlin:20221009T110000
DTEND;TZID=Europe/Berlin:20221009T130000
LOCATION:Městská sportovní hala  -  hala 2\, Úslavská 2357 Plzeň - Východní
  Předměstí
SUMMARY:P-U16Z-I: Loko Plzeň B-Rokycany
END:VEVENT
BEGIN:VEVENT
UID:35306362-6632-4636-a636-323632376533
DTSTAMP:20260425T181116Z
DESCRIPTION:3/24 Loko Plzeň B - Klatovy 0:2 (-21\,-20)
DTSTART;TZID=Europe/Berlin:20221106T090000
DTEND;TZID=Europe/Berlin:20221106T110000
LOCATION:Městská sportovní hala  -  hala 2\, Úslavská 2357 Plzeň - Východní
  Předměstí
SUMMARY:P-U16Z-I: Loko Plzeň B-Klatovy
END:VEVENT
BEGIN:VEVENT
UID:38333734-3465-4364-b864-373166373865
DTSTAMP:20260425T181116Z
DESCRIPTION:3/30 Loko Plzeň B - Slavia VŠ A 0:2 (-16\,-15)
DTSTART;TZID=Europe/Berlin:20221106T120000
DTEND;TZID=Europe/Berlin:20221106T140000
LOCATION:Městská sportovní hala  -  hala 2\, Úslavská 2357 Plzeň - Východní
  Předměstí
SUMMARY:P-U16Z-I: Loko Plzeň B-Slavia VŠ A
END:VEVENT
BEGIN:VEVENT
UID:35613765-3335-4665-b236-313265653732
DTSTAMP:20260425T181116Z
DESCRIPTION:5/45 Loko Plzeň B - Šťáhlavy 2:0 (23\,21)\npořadatel Štáhlavy (
 2 kurty)
DTSTART;TZID=Europe/Berlin:20221204T090000
DTEND;TZID=Europe/Berlin:20221204T110000
LOCATION:Městská sportovní hala  -  hala 2\, Úslavská 2357 Plzeň - Východní
  Předměstí
SUMMARY:P-U16Z-I: Loko Plzeň B-Šťáhlavy
END:VEVENT
BEGIN:VEVENT
UID:64336265-3034-4734-a233-393933656466
DTSTAMP:20260425T181116Z
DESCRIPTION:5/49 Loko Plzeň B - Lhota 2:0 (16\,18)
DTSTART;TZID=Europe/Berlin:20221204T110000
DTEND;TZID=Europe/Berlin:20221204T130000
LOCATION:Městská sportovní hala  -  hala 2\, Úslavská 2357 Plzeň - Východní
  Předměstí
SUMMARY:P-U16Z-I: Loko Plzeň B-Lhota
END:VEVENT
BEGIN:VEVENT
UID:36643731-6634-4863-b031-626163643333
DTSTAMP:20260425T181116Z
DESCRIPTION:5/59 Loko Plzeň B - Domažlice A 2:0 (20\,20)
DTSTART;TZID=Europe/Berlin:20221204T160000
DTEND;TZID=Europe/Berlin:20221204T180000
LOCATION:Městská sportovní hala  -  hala 2\, Úslavská 2357 Plzeň - Východní
  Předměstí
SUMMARY:P-U16Z-I: Loko Plzeň B-Domažlice A
END:VEVENT
BEGIN:VEVENT
UID:64343135-3037-4339-a562-656633623031
DTSTAMP:20260425T181116Z
DESCRIPTION:2/18 Loko Plzeň - Loko Plzeň B 2:0 (22\,15)
DTSTART;TZID=Europe/Berlin:20221009T100000
DTEND;TZID=Europe/Berlin:20221009T120000
LOCATION:Městská sportovní hala  -  hala 2\, Úslavská 2357 Plzeň - Východní
  Předměstí
SUMMARY:P-U16Z-I: Loko Plzeň-Loko Plzeň B
END:VEVENT
BEGIN:VEVENT
UID:62656638-6337-4331-b163-393431626461
DTSTAMP:20260425T181116Z
DESCRIPTION:2/22 Vejprnice - Loko Plzeň B 2:1 (-19\,18\,5)
DTSTART;TZID=Europe/Berlin:20221009T140000
DTEND;TZID=Europe/Berlin:20221009T160000
LOCATION:Tělocvična ZŠ Vejprnice\, Jakuba Husníka 527 Vejprnice
SUMMARY:P-U16Z-I: Vejprnice-Loko Plzeň B
END:VEVENT
BEGIN:VEVENT
UID:33633163-3762-4432-a239-373830616566
DTSTAMP:20260425T181116Z
DESCRIPTION:3/34 Klatovy B - Loko Plzeň B 0:2 (-19\,-19)
DTSTART;TZID=Europe/Berlin:20221106T140000
DTEND;TZID=Europe/Berlin:20221106T160000
LOCATION:Sportovní hala ZŠ Čapkova\, Čapkova 136 Klatovy - Klatovy V
SUMMARY:P-U16Z-I: Klatovy B-Loko Plzeň B
END:VEVENT
BEGIN:VEVENT
UID:62316537-6235-4661-b264-626231363631
DTSTAMP:20260425T181116Z
DESCRIPTION:3/38 Slavia VŠ B - Loko Plzeň B 2:0 (21\,22)
DTSTART;TZID=Europe/Berlin:20221106T160000
DTEND;TZID=Europe/Berlin:20221106T180000
LOCATION:Tělocvična 15.ZŠ\, Terezie Brzkové 863 Plzeň - Skvrňany
SUMMARY:P-U16Z-I: Slavia VŠ B-Loko Plzeň B
END:VEVENT
BEGIN:VEVENT
UID:31666365-3135-4639-a365-323663393937
DTSTAMP:20260425T181116Z
DESCRIPTION:5/55 Domažlice B - Loko Plzeň B 0:2 (-20\,-5)
DTSTART;TZID=Europe/Berlin:20221204T140000
DTEND;TZID=Europe/Berlin:20221204T160000
LOCATION:Sportovní hala ZŠ Komenského Domažlice\, Komenského 17 Domažlice -
  Týnské Předměstí
SUMMARY:P-U16Z-I: Domažlice B-Loko Plzeň B
END:VEVENT
END:VCALENDAR
