BEGIN:VCALENDAR
VERSION:2.0
PRODID:-//VK Slavia VŠ Plzeň B79633//NONSGML kigkonsult.se iCalcreator 2.41.80//
CALSCALE:GREGORIAN
UID:36633562-6236-4163-a437-626239323863
BEGIN:VEVENT
UID:38653734-3466-4162-b739-373030656136
DTSTAMP:20260425T202547Z
DESCRIPTION:1/8 Slavia VŠ B - Lhota 2:0 (19\,17)
DTSTART;TZID=Europe/Berlin:20221009T120000
DTEND;TZID=Europe/Berlin:20221009T140000
LOCATION:Tělocvična 15.ZŠ\, Terezie Brzkové 863 Plzeň - Skvrňany
SUMMARY:P-U16Z-I: Slavia VŠ B-Lhota
END:VEVENT
BEGIN:VEVENT
UID:64656439-6335-4838-a134-656632316330
DTSTAMP:20260425T202547Z
DESCRIPTION:1/10 Slavia VŠ B - Šťáhlavy 2:1 (-18\,23\,15)
DTSTART;TZID=Europe/Berlin:20221009T130000
DTEND;TZID=Europe/Berlin:20221009T150000
LOCATION:Tělocvična 15.ZŠ\, Terezie Brzkové 863 Plzeň - Skvrňany
SUMMARY:P-U16Z-I: Slavia VŠ B-Šťáhlavy
END:VEVENT
BEGIN:VEVENT
UID:35373333-3831-4331-b637-366463313534
DTSTAMP:20260425T202547Z
DESCRIPTION:1/15 Slavia VŠ B - Domažlice A 2:0 (16\,8)
DTSTART;TZID=Europe/Berlin:20221009T160000
DTEND;TZID=Europe/Berlin:20221009T180000
LOCATION:Tělocvična 15.ZŠ\, Terezie Brzkové 863 Plzeň - Skvrňany
SUMMARY:P-U16Z-I: Slavia VŠ B-Domažlice A
END:VEVENT
BEGIN:VEVENT
UID:30343565-3334-4437-b638-616365626633
DTSTAMP:20260425T202547Z
DESCRIPTION:3/33 Slavia VŠ B - Rokycany 0:2 (-14\,-13)
DTSTART;TZID=Europe/Berlin:20221106T140000
DTEND;TZID=Europe/Berlin:20221106T160000
LOCATION:Tělocvična 15.ZŠ\, Terezie Brzkové 863 Plzeň - Skvrňany
SUMMARY:P-U16Z-I: Slavia VŠ B-Rokycany
END:VEVENT
BEGIN:VEVENT
UID:36303939-6235-4861-b463-326336313237
DTSTAMP:20260425T202547Z
DESCRIPTION:3/38 Slavia VŠ B - Loko Plzeň B 2:0 (21\,22)
DTSTART;TZID=Europe/Berlin:20221106T160000
DTEND;TZID=Europe/Berlin:20221106T180000
LOCATION:Tělocvična 15.ZŠ\, Terezie Brzkové 863 Plzeň - Skvrňany
SUMMARY:P-U16Z-I: Slavia VŠ B-Loko Plzeň B
END:VEVENT
BEGIN:VEVENT
UID:64363062-3866-4533-b363-373537393630
DTSTAMP:20260425T202547Z
DESCRIPTION:6/66 Slavia VŠ B - Klatovy 0:2 (-10\,-15)
DTSTART;TZID=Europe/Berlin:20221204T140000
DTEND;TZID=Europe/Berlin:20221204T160000
LOCATION:Tělocvična 15.ZŠ\, Terezie Brzkové 863 Plzeň - Skvrňany
SUMMARY:P-U16Z-I: Slavia VŠ B-Klatovy
END:VEVENT
BEGIN:VEVENT
UID:32323966-6266-4237-b432-346530393166
DTSTAMP:20260425T202547Z
DESCRIPTION:1/2 Domažlice B - Slavia VŠ B 0:2 (-14\,-23)
DTSTART;TZID=Europe/Berlin:20221009T090000
DTEND;TZID=Europe/Berlin:20221009T110000
LOCATION:Sportovní hala ZŠ Komenského Domažlice\, Komenského 17 Domažlice -
  Týnské Předměstí
SUMMARY:P-U16Z-I: Domažlice B-Slavia VŠ B
END:VEVENT
BEGIN:VEVENT
UID:66356533-3261-4165-b261-343438613763
DTSTAMP:20260425T202547Z
DESCRIPTION:3/23 Loko Plzeň - Slavia VŠ B 2:0 (23\,14)\npořadatel Lokomotiv
 a (2 kurty) - v tělocvičnách SPŠE\, Koterovská 828/85\, Plzeň
DTSTART;TZID=Europe/Berlin:20221106T090000
DTEND;TZID=Europe/Berlin:20221106T110000
LOCATION:Městská sportovní hala  -  hala 2\, Úslavská 2357 Plzeň - Východní
  Předměstí
SUMMARY:P-U16Z-I: Loko Plzeň-Slavia VŠ B
END:VEVENT
BEGIN:VEVENT
UID:35366266-3761-4435-a631-376639353436
DTSTAMP:20260425T202547Z
DESCRIPTION:3/28 Vejprnice - Slavia VŠ B 2:0 (19\,18)
DTSTART;TZID=Europe/Berlin:20221106T110000
DTEND;TZID=Europe/Berlin:20221106T130000
LOCATION:Tělocvična ZŠ Vejprnice\, Jakuba Husníka 527 Vejprnice
SUMMARY:P-U16Z-I: Vejprnice-Slavia VŠ B
END:VEVENT
BEGIN:VEVENT
UID:62386335-3564-4030-b335-623230356663
DTSTAMP:20260425T202547Z
DESCRIPTION:6/61 Slavia VŠ A - Slavia VŠ B 2:0 (20\,15)\npořadatel Slavia (
 1 kurt)
DTSTART;TZID=Europe/Berlin:20221204T090000
DTEND;TZID=Europe/Berlin:20221204T110000
LOCATION:Tělocvična 15.ZŠ\, Terezie Brzkové 863 Plzeň - Skvrňany
SUMMARY:P-U16Z-I: Slavia VŠ A-Slavia VŠ B
END:VEVENT
BEGIN:VEVENT
UID:63336263-6666-4031-b265-663833616430
DTSTAMP:20260425T202547Z
DESCRIPTION:6/64 Klatovy B - Slavia VŠ B 0:2 (-23\,-23)
DTSTART;TZID=Europe/Berlin:20221204T120000
DTEND;TZID=Europe/Berlin:20221204T140000
LOCATION:Sportovní hala ZŠ Čapkova\, Čapkova 136 Klatovy - Klatovy V
SUMMARY:P-U16Z-I: Klatovy B-Slavia VŠ B
END:VEVENT
END:VCALENDAR
