BEGIN:VCALENDAR
VERSION:2.0
PRODID:-//Volejbal Domažlice A79636//NONSGML kigkonsult.se iCalcreator 2.41.80//
CALSCALE:GREGORIAN
UID:63643033-3631-4162-b332-303830643364
BEGIN:VEVENT
UID:36643866-3131-4436-b535-306137616333
DTSTAMP:20260425T161747Z
DESCRIPTION:1/1 Domažlice A - Slavia VŠ A 0:2 (-11\,-11)\npořadatel Domažli
 ce (2 kurty)
DTSTART;TZID=Europe/Berlin:20221009T090000
DTEND;TZID=Europe/Berlin:20221009T110000
LOCATION:Sportovní hala ZŠ Komenského Domažlice\, Komenského 17 Domažlice -
  Týnské Předměstí
SUMMARY:P-U16Z-I: Domažlice A-Slavia VŠ A
END:VEVENT
BEGIN:VEVENT
UID:38353265-6363-4035-b436-376662633639
DTSTAMP:20260425T161747Z
DESCRIPTION:1/9 Domažlice A - Klatovy 0:2 (-10\,-17)
DTSTART;TZID=Europe/Berlin:20221009T130000
DTEND;TZID=Europe/Berlin:20221009T150000
LOCATION:Sportovní hala ZŠ Komenského Domažlice\, Komenského 17 Domažlice -
  Týnské Předměstí
SUMMARY:P-U16Z-I: Domažlice A-Klatovy
END:VEVENT
BEGIN:VEVENT
UID:37333461-6264-4031-b164-643861316664
DTSTAMP:20260425T161747Z
DESCRIPTION:4/40 Domažlice A - Domažlice B 2:0 (17\,18)
DTSTART;TZID=Europe/Berlin:20221106T100000
DTEND;TZID=Europe/Berlin:20221106T120000
LOCATION:Sportovní hala ZŠ Komenského Domažlice\, Komenského 17 Domažlice -
  Týnské Předměstí
SUMMARY:P-U16Z-I: Domažlice A-Domažlice B
END:VEVENT
BEGIN:VEVENT
UID:38396430-6235-4133-b661-653736393630
DTSTAMP:20260425T161747Z
DESCRIPTION:5/51 Domažlice A - Vejprnice 1:2 (-8\,23\,-6)
DTSTART;TZID=Europe/Berlin:20221204T120000
DTEND;TZID=Europe/Berlin:20221204T140000
LOCATION:Sportovní hala ZŠ Komenského Domažlice\, Komenského 17 Domažlice -
  Týnské Předměstí
SUMMARY:P-U16Z-I: Domažlice A-Vejprnice
END:VEVENT
BEGIN:VEVENT
UID:39383462-3464-4238-b066-616431346431
DTSTAMP:20260425T161747Z
DESCRIPTION:5/54 Domažlice A - Loko Plzeň 0:2 (-22\,-8)
DTSTART;TZID=Europe/Berlin:20221204T130000
DTEND;TZID=Europe/Berlin:20221204T150000
LOCATION:Sportovní hala ZŠ Komenského Domažlice\, Komenského 17 Domažlice -
  Týnské Předměstí
SUMMARY:P-U16Z-I: Domažlice A-Loko Plzeň
END:VEVENT
BEGIN:VEVENT
UID:63643064-3463-4436-b863-633238623133
DTSTAMP:20260425T161747Z
DESCRIPTION:1/5 Klatovy B - Domažlice A 2:0 (20\,15)
DTSTART;TZID=Europe/Berlin:20221009T110000
DTEND;TZID=Europe/Berlin:20221009T130000
LOCATION:Sportovní hala ZŠ Čapkova\, Čapkova 136 Klatovy - Klatovy V
SUMMARY:P-U16Z-I: Klatovy B-Domažlice A
END:VEVENT
BEGIN:VEVENT
UID:38666262-3166-4334-b530-656138356232
DTSTAMP:20260425T161747Z
DESCRIPTION:1/15 Slavia VŠ B - Domažlice A 2:0 (16\,8)
DTSTART;TZID=Europe/Berlin:20221009T160000
DTEND;TZID=Europe/Berlin:20221009T180000
LOCATION:Tělocvična 15.ZŠ\, Terezie Brzkové 863 Plzeň - Skvrňany
SUMMARY:P-U16Z-I: Slavia VŠ B-Domažlice A
END:VEVENT
BEGIN:VEVENT
UID:37346461-3536-4261-a166-336336663230
DTSTAMP:20260425T161747Z
DESCRIPTION:4/41 Lhota - Domažlice A 2:1 (-25\,15\,7)
DTSTART;TZID=Europe/Berlin:20221106T110000
DTEND;TZID=Europe/Berlin:20221106T130000
LOCATION:Sokolovna Lhota\, Kolem Zahrad 558 Plzeň - Lhota
SUMMARY:P-U16Z-I: Lhota-Domažlice A
END:VEVENT
BEGIN:VEVENT
UID:30343438-6332-4665-b131-646433366264
DTSTAMP:20260425T161747Z
DESCRIPTION:4/43 Šťáhlavy - Domažlice A 2:0 (15\,11)
DTSTART;TZID=Europe/Berlin:20221106T130000
DTEND;TZID=Europe/Berlin:20221106T150000
LOCATION:Sportovní hala Šťáhlavy\, U hřiště 525 Šťáhlavy
SUMMARY:P-U16Z-I: Šťáhlavy-Domažlice A
END:VEVENT
BEGIN:VEVENT
UID:38326262-3138-4733-a530-613033383063
DTSTAMP:20260425T161747Z
DESCRIPTION:5/47 Rokycany - Domažlice A 2:0 (20\,12)
DTSTART;TZID=Europe/Berlin:20221204T100000
DTEND;TZID=Europe/Berlin:20221204T120000
LOCATION:Hala Gymnázia Rokycany\, Mládežníků 1115 Rokycany - Nové Město
SUMMARY:P-U16Z-I: Rokycany-Domažlice A
END:VEVENT
BEGIN:VEVENT
UID:33626336-3134-4864-a662-616534636637
DTSTAMP:20260425T161747Z
DESCRIPTION:5/59 Loko Plzeň B - Domažlice A 2:0 (20\,20)
DTSTART;TZID=Europe/Berlin:20221204T160000
DTEND;TZID=Europe/Berlin:20221204T180000
LOCATION:Městská sportovní hala  -  hala 2\, Úslavská 2357 Plzeň - Východní
  Předměstí
SUMMARY:P-U16Z-I: Loko Plzeň B-Domažlice A
END:VEVENT
END:VCALENDAR
