BEGIN:VCALENDAR
VERSION:2.0
PRODID:-//Tělocvičná jednota Sokol Předklášteří79660//NONSGML kigkonsult.se iCalcreator 2.41.80//
CALSCALE:GREGORIAN
UID:65623066-3932-4334-b436-356264386130
BEGIN:VEVENT
UID:65663965-6664-4830-a266-636437303238
DTSTAMP:20260425T105304Z
DESCRIPTION:3/5 TJ Sokol Předklášteří - ŠSK Bílovec 2:1 (-18\,18\,9)
DTSTART;TZID=Europe/Berlin:20220924T123000
DTEND;TZID=Europe/Berlin:20220924T143000
LOCATION:ZŠ Předklášteří\, Komenského 1097 Předklášteří
SUMMARY:CP-U16Z-V1C: TJ Sokol Předklášteří-ŠSK Bílovec
END:VEVENT
BEGIN:VEVENT
UID:65313038-3830-4539-a361-373231653835
DTSTAMP:20260425T105304Z
DESCRIPTION:7/13 TJ Sokol Předklášteří - VK Napajedla 2:0 (13\,20)
DTSTART;TZID=Europe/Berlin:20220924T171500
DTEND;TZID=Europe/Berlin:20220924T191500
LOCATION:ZŠ Předklášteří\, Komenského 1097 Předklášteří
SUMMARY:CP-U16Z-V1C: TJ Sokol Předklášteří-VK Napajedla
END:VEVENT
BEGIN:VEVENT
UID:63396538-3361-4639-a530-396464623834
DTSTAMP:20260425T105304Z
DESCRIPTION:10/20 TJ Sokol Předklášteří - Volejbal Červený Kostelec 1:2 (23
 \,-11\,-10)
DTSTART;TZID=Europe/Berlin:20220925T111500
DTEND;TZID=Europe/Berlin:20220925T131500
LOCATION:ZŠ Předklášteří\, Komenského 1097 Předklášteří
SUMMARY:CP-U16Z-V1C: TJ Sokol Předklášteří-Volejbal Červený Kostelec
END:VEVENT
BEGIN:VEVENT
UID:61656664-3930-4633-a231-643436333762
DTSTAMP:20260425T105304Z
DESCRIPTION:2/4 SVK Nový Jičín - TJ Sokol Předklášteří 0:2 (-15\,-15)
DTSTART;TZID=Europe/Berlin:20220924T110000
DTEND;TZID=Europe/Berlin:20220924T130000
LOCATION:Hala ABC\, Purkyňova 116 Nový Jičín
SUMMARY:CP-U16Z-V1C: SVK Nový Jičín-TJ Sokol Předklášteří
END:VEVENT
BEGIN:VEVENT
UID:63653062-3830-4233-a539-396461613466
DTSTAMP:20260425T105304Z
DESCRIPTION:5/10 VSK Zlín - TJ Sokol Předklášteří 2:0 (21\,19)
DTSTART;TZID=Europe/Berlin:20220924T150000
DTEND;TZID=Europe/Berlin:20220924T170000
LOCATION:ZŠ Okružní Zlín\, Okružní 4685 Zlín
SUMMARY:CP-U16Z-V1C: VSK Zlín-TJ Sokol Předklášteří
END:VEVENT
BEGIN:VEVENT
UID:66663266-3963-4530-a561-373261306262
DTSTAMP:20260425T105304Z
DESCRIPTION:8/15 Prostějov - TJ Sokol Předklášteří 2:0 (14\,10)
DTSTART;TZID=Europe/Berlin:20220925T083000
DTEND;TZID=Europe/Berlin:20220925T103000
LOCATION:Národní sportovní centrum\, Za velodromem 4187 Prostějov
SUMMARY:CP-U16Z-V1C: Prostějov-TJ Sokol Předklášteří
END:VEVENT
BEGIN:VEVENT
UID:36643230-3538-4664-a462-356266623038
DTSTAMP:20260425T105304Z
DESCRIPTION:1/1 TJ Sokol Předklášteří - RÉMA Rychnov 2:1 (-21\,21\,4)\nKost
 elec/Orl.\, těl.SZeŠ
DTSTART;TZID=Europe/Berlin:20221015T090000
DTEND;TZID=Europe/Berlin:20221015T110000
LOCATION:ZŠ Předklášteří\, Komenského 1097 Předklášteří
SUMMARY:CP-U16Z-V2C: TJ Sokol Předklášteří-RÉMA Rychnov
END:VEVENT
BEGIN:VEVENT
UID:39353536-3535-4161-b364-613664336633
DTSTAMP:20260425T105304Z
DESCRIPTION:9/13 TJ Sokol Předklášteří - Loko Fosfa Břeclav 2:0 (11\,17)
DTSTART;TZID=Europe/Berlin:20221015T183000
DTEND;TZID=Europe/Berlin:20221015T203000
LOCATION:ZŠ Předklášteří\, Komenského 1097 Předklášteří
SUMMARY:CP-U16Z-V2C: TJ Sokol Předklášteří-Loko Fosfa Břeclav
END:VEVENT
BEGIN:VEVENT
UID:33643764-6533-4164-a537-313466653763
DTSTAMP:20260425T105304Z
DESCRIPTION:11/17 TJ Sokol Předklášteří - KP Brno B 0:2 (-23\,-27)
DTSTART;TZID=Europe/Berlin:20221016T083000
DTEND;TZID=Europe/Berlin:20221016T103000
LOCATION:ZŠ Předklášteří\, Komenského 1097 Předklášteří
SUMMARY:CP-U16Z-V2C: TJ Sokol Předklášteří-KP Brno B
END:VEVENT
BEGIN:VEVENT
UID:37656163-3164-4335-a539-306136303733
DTSTAMP:20260425T105304Z
DESCRIPTION:3/4 ŠSK Bílovec - TJ Sokol Předklášteří 2:1 (-23\,8\,6)
DTSTART;TZID=Europe/Berlin:20221015T113000
DTEND;TZID=Europe/Berlin:20221015T133000
LOCATION:Hala ZŠ Komenského\, Komenského 701 Bílovec
SUMMARY:CP-U16Z-V2C: ŠSK Bílovec-TJ Sokol Předklášteří
END:VEVENT
BEGIN:VEVENT
UID:63336663-3463-4634-a434-653733623739
DTSTAMP:20260425T105304Z
DESCRIPTION:6/9 Jiskra Jaroměř - TJ Sokol Předklášteří 0:2 (-12\,-17)
DTSTART;TZID=Europe/Berlin:20221015T153000
DTEND;TZID=Europe/Berlin:20221015T173000
LOCATION:Hala SŠŘ\, Na Karlově 798 Jaroměř - Pražské Předměstí
SUMMARY:CP-U16Z-V2C: Jiskra Jaroměř-TJ Sokol Předklášteří
END:VEVENT
BEGIN:VEVENT
UID:38366134-3834-4532-a236-316639343331
DTSTAMP:20260425T105304Z
DESCRIPTION:13/19 TJ Sokol Pardubice I. - TJ Sokol Předklášteří 1:2 (-19\,1
 6\,-14)
DTSTART;TZID=Europe/Berlin:20221016T120000
DTEND;TZID=Europe/Berlin:20221016T140000
LOCATION:Sokolovna\, Jiráskova 29 Pardubice - Zelené Předměstí
SUMMARY:CP-U16Z-V2C: TJ Sokol Pardubice I.-TJ Sokol Předklášteří
END:VEVENT
BEGIN:VEVENT
UID:35666533-6237-4436-a635-396563636231
DTSTAMP:20260425T105304Z
DESCRIPTION:2/3 TJ Sokol Předklášteří - VK UP Olomouc 0:2 (-14\,-19)
DTSTART;TZID=Europe/Berlin:20221119T101500
DTEND;TZID=Europe/Berlin:20221119T121500
LOCATION:ZŠ Předklášteří\, Komenského 1097 Předklášteří
SUMMARY:CP-U16Z-V3C: TJ Sokol Předklášteří-VK UP Olomouc
END:VEVENT
BEGIN:VEVENT
UID:64343833-3933-4431-b236-333662646431
DTSTAMP:20260425T105304Z
DESCRIPTION:3/6 TJ Sokol Předklášteří - TJ Sokol Pardubice I. 1:2 (16\,-9\,
 -13)
DTSTART;TZID=Europe/Berlin:20221119T113000
DTEND;TZID=Europe/Berlin:20221119T133000
LOCATION:ZŠ Předklášteří\, Komenského 1097 Předklášteří
SUMMARY:CP-U16Z-V3C: TJ Sokol Předklášteří-TJ Sokol Pardubice I.
END:VEVENT
BEGIN:VEVENT
UID:32326637-3031-4331-a465-306464333438
DTSTAMP:20260425T105304Z
DESCRIPTION:6/11 SVK Nový Jičín - TJ Sokol Předklášteří 2:1 (-13\,19\,11)
DTSTART;TZID=Europe/Berlin:20221119T151500
DTEND;TZID=Europe/Berlin:20221119T171500
LOCATION:Hala ABC\, Purkyňova 116 Nový Jičín
SUMMARY:CP-U16Z-V3C: SVK Nový Jičín-TJ Sokol Předklášteří
END:VEVENT
BEGIN:VEVENT
UID:30356366-6364-4264-b936-346366656332
DTSTAMP:20260425T105304Z
DESCRIPTION:7/13 VK Valašské Meziříčí - TJ Sokol Předklášteří 2:0 (10\,16)
DTSTART;TZID=Europe/Berlin:20221119T163000
DTEND;TZID=Europe/Berlin:20221119T183000
LOCATION:ZŠ Šafaříkova\, Šafaříkova 726 Valašské Meziříčí
SUMMARY:CP-U16Z-V3C: VK Valašské Meziříčí-TJ Sokol Předklášteří
END:VEVENT
BEGIN:VEVENT
UID:65333037-3436-4365-b065-366562353465
DTSTAMP:20260425T105304Z
DESCRIPTION:8/16 KP Brno B - TJ Sokol Předklášteří 1:2 (-20\,15\,-15)
DTSTART;TZID=Europe/Berlin:20221120T090000
DTEND;TZID=Europe/Berlin:20221120T110000
LOCATION:Sportovní gymnázium Ludvíka Daňka\, Botanická 63 Brno - Ponava
SUMMARY:CP-U16Z-V3C: KP Brno B-TJ Sokol Předklášteří
END:VEVENT
BEGIN:VEVENT
UID:63376362-6236-4336-b534-353339343733
DTSTAMP:20260425T105304Z
DESCRIPTION:9/17 TJ Ostrava - TJ Sokol Předklášteří 2:0 (11\,25)
DTSTART;TZID=Europe/Berlin:20221120T101500
DTEND;TZID=Europe/Berlin:20221120T121500
LOCATION:Hala míčových sportů\, Varenská 3098 Ostrava - Moravská Ostrava
SUMMARY:CP-U16Z-V3C: TJ Ostrava-TJ Sokol Předklášteří
END:VEVENT
BEGIN:VEVENT
UID:63373265-6234-4863-a237-393433323039
DTSTAMP:20260425T105304Z
DESCRIPTION:2/5 TJ Sokol Předklášteří - KP Brno B 1:2 (22\,-20\,-6)
DTSTART;TZID=Europe/Berlin:20230121T113000
DTEND;TZID=Europe/Berlin:20230121T133000
LOCATION:ZŠ Předklášteří\, Komenského 1097 Předklášteří
SUMMARY:CP-U16Z-F1F: TJ Sokol Předklášteří-KP Brno B
END:VEVENT
BEGIN:VEVENT
UID:32386561-3635-4334-a564-396561626531
DTSTAMP:20260425T105304Z
DESCRIPTION:5/11 TJ Sokol Předklášteří - TJ Kunice 2:1 (18\,-23\,9)
DTSTART;TZID=Europe/Berlin:20230121T143000
DTEND;TZID=Europe/Berlin:20230121T163000
LOCATION:ZŠ Předklášteří\, Komenského 1097 Předklášteří
SUMMARY:CP-U16Z-F1F: TJ Sokol Předklášteří-TJ Kunice
END:VEVENT
BEGIN:VEVENT
UID:39376635-3562-4337-a261-303436663266
DTSTAMP:20260425T105304Z
DESCRIPTION:9/21 TJ Sokol Předklášteří - Střešovice 2:0 (11\,23)
DTSTART;TZID=Europe/Berlin:20230122T111500
DTEND;TZID=Europe/Berlin:20230122T131500
LOCATION:ZŠ Předklášteří\, Komenského 1097 Předklášteří
SUMMARY:CP-U16Z-F1F: TJ Sokol Předklášteří-Střešovice
END:VEVENT
BEGIN:VEVENT
UID:62363966-6636-4630-a339-343061663031
DTSTAMP:20260425T105304Z
DESCRIPTION:1/3 TJ Baník Příbram - TJ Sokol Předklášteří 2:0 (14\,22)
DTSTART;TZID=Europe/Berlin:20230121T100000
DTEND;TZID=Europe/Berlin:20230121T120000
LOCATION:Tělocvična ZŠ Balbínova\, Balbínova 328 Příbram - Příbram II
SUMMARY:CP-U16Z-F1F: TJ Baník Příbram-TJ Sokol Předklášteří
END:VEVENT
BEGIN:VEVENT
UID:32376261-6637-4463-b632-353865336135
DTSTAMP:20260425T105304Z
DESCRIPTION:3/6 VK UP Olomouc - TJ Sokol Předklášteří 2:0 (12\,17)
DTSTART;TZID=Europe/Berlin:20230121T123000
DTEND;TZID=Europe/Berlin:20230121T143000
LOCATION:UP Olomouc\, U sportovní haly 38 Olomouc - Lazce
SUMMARY:CP-U16Z-F1F: VK UP Olomouc-TJ Sokol Předklášteří
END:VEVENT
BEGIN:VEVENT
UID:36623237-6162-4139-a134-633062623338
DTSTAMP:20260425T105304Z
DESCRIPTION:7/16 VK Slavia Plzeň - TJ Sokol Předklášteří 2:1 (17\,-23\,11)
DTSTART;TZID=Europe/Berlin:20230122T090000
DTEND;TZID=Europe/Berlin:20230122T110000
LOCATION:Tělocvična 15.ZŠ\, Terezie Brzkové 863 Plzeň - Skvrňany
SUMMARY:CP-U16Z-F1F: VK Slavia Plzeň-TJ Sokol Předklášteří
END:VEVENT
BEGIN:VEVENT
UID:32306333-6234-4936-b634-643937653136
DTSTAMP:20260425T105304Z
DESCRIPTION:2/4 TJ Sokol Předklášteří - SK Dansport Praha 2:0 (23\,11)
DTSTART;TZID=Europe/Berlin:20230218T113000
DTEND;TZID=Europe/Berlin:20230218T133000
LOCATION:ZŠ Předklášteří\, Komenského 1097 Předklášteří
SUMMARY:CP-U16Z-F2G: TJ Sokol Předklášteří-SK Dansport Praha
END:VEVENT
BEGIN:VEVENT
UID:35663965-3738-4636-b866-633238363236
DTSTAMP:20260425T105304Z
DESCRIPTION:4/12 TJ Sokol Předklášteří - SK Volejbal Kolín 1:2 (-12\,15\,-1
 2)
DTSTART;TZID=Europe/Berlin:20230218T143000
DTEND;TZID=Europe/Berlin:20230218T163000
LOCATION:ZŠ Předklášteří\, Komenského 1097 Předklášteří
SUMMARY:CP-U16Z-F2G: TJ Sokol Předklášteří-SK Volejbal Kolín
END:VEVENT
BEGIN:VEVENT
UID:33653137-3865-4430-b031-633039323132
DTSTAMP:20260425T105304Z
DESCRIPTION:6/17 TJ Sokol Předklášteří - TJ Jiskra H. Brod 2:X
DTSTART;TZID=Europe/Berlin:20230219T113000
DTEND;TZID=Europe/Berlin:20230219T133000
LOCATION:ZŠ Předklášteří\, Komenského 1097 Předklášteří
SUMMARY:CP-U16Z-F2G: TJ Sokol Předklášteří-TJ Jiskra H. Brod
END:VEVENT
BEGIN:VEVENT
UID:64643763-3861-4130-b333-376236653762
DTSTAMP:20260425T105304Z
DESCRIPTION:3/8 VSK Spartak Děčín - TJ Sokol Předklášteří 2:0 (25\,19)
DTSTART;TZID=Europe/Berlin:20230218T130000
DTEND;TZID=Europe/Berlin:20230218T150000
LOCATION:Tělocvična SPŠSaSt a VOŠ Děčín\, Čsl. armády 681 Děčín - Děčín I-D
 ěčín
SUMMARY:CP-U16Z-F2G: VSK Spartak Děčín-TJ Sokol Předklášteří
END:VEVENT
BEGIN:VEVENT
UID:37616630-6530-4861-a431-306230636432
DTSTAMP:20260425T105304Z
DESCRIPTION:5/15 Střešovice - TJ Sokol Předklášteří 0:2 (-19\,-20)
DTSTART;TZID=Europe/Berlin:20230219T100000
DTEND;TZID=Europe/Berlin:20230219T120000
LOCATION:TJ Tatran Střešovice\, Sibeliova 368 Praha - Střešovice
SUMMARY:CP-U16Z-F2G: Střešovice-TJ Sokol Předklášteří
END:VEVENT
BEGIN:VEVENT
UID:39323936-6635-4232-b730-316164613932
DTSTAMP:20260425T105304Z
DESCRIPTION:7/19 Říčany - TJ Sokol Předklášteří X:2
DTSTART;TZID=Europe/Berlin:20230219T130000
DTEND;TZID=Europe/Berlin:20230219T150000
LOCATION:Sportovní hala Světice\, U Hřiště 151 Světice
SUMMARY:CP-U16Z-F2G: Říčany-TJ Sokol Předklášteří
END:VEVENT
BEGIN:VEVENT
UID:34353335-3330-4566-a331-613266316262
DTSTAMP:20260425T105304Z
DESCRIPTION:1/1 TJ Sokol Předklášteří - KP Brno B 0:2 (-12\,-22)\nhřiště 3\
 , Kostelec/O.\, hala SZeŠ
DTSTART;TZID=Europe/Berlin:20230318T100000
DTEND;TZID=Europe/Berlin:20230318T120000
LOCATION:ZŠ Předklášteří\, Komenského 1097 Předklášteří
SUMMARY:CP-U16Z-F3F: TJ Sokol Předklášteří-KP Brno B
END:VEVENT
BEGIN:VEVENT
UID:35336166-3731-4363-a164-373732646330
DTSTAMP:20260425T105304Z
DESCRIPTION:5/13 TJ Sokol Předklášteří - Loko Fosfa Břeclav 0:2 (-10\,-19)
DTSTART;TZID=Europe/Berlin:20230318T180000
DTEND;TZID=Europe/Berlin:20230318T200000
LOCATION:ZŠ Předklášteří\, Komenského 1097 Předklášteří
SUMMARY:CP-U16Z-F3F: TJ Sokol Předklášteří-Loko Fosfa Břeclav
END:VEVENT
BEGIN:VEVENT
UID:63336131-3938-4366-b362-303637303434
DTSTAMP:20260425T105304Z
DESCRIPTION:7/20 TJ Sokol Předklášteří - SVK Nový Jičín 0:2 (-12\,-12)
DTSTART;TZID=Europe/Berlin:20230319T084500
DTEND;TZID=Europe/Berlin:20230319T104500
LOCATION:ZŠ Předklášteří\, Komenského 1097 Předklášteří
SUMMARY:CP-U16Z-F3F: TJ Sokol Předklášteří-SVK Nový Jičín
END:VEVENT
BEGIN:VEVENT
UID:30373266-6564-4766-b466-666263623161
DTSTAMP:20260425T105304Z
DESCRIPTION:3/9 SK Volejbal Kolín - TJ Sokol Předklášteří 2:0 (18\,15)
DTSTART;TZID=Europe/Berlin:20230318T150000
DTEND;TZID=Europe/Berlin:20230318T170000
LOCATION:hala STAV\, SOŠ Kolín\, Brankovická 1417 Kolín - Kolín V
SUMMARY:CP-U16Z-F3F: SK Volejbal Kolín-TJ Sokol Předklášteří
END:VEVENT
BEGIN:VEVENT
UID:62623336-3437-4562-a332-303362646233
DTSTAMP:20260425T105304Z
DESCRIPTION:4/11 TJ Sokol Pardubice I. - TJ Sokol Předklášteří 2:0 (15\,17)
DTSTART;TZID=Europe/Berlin:20230318T170000
DTEND;TZID=Europe/Berlin:20230318T190000
LOCATION:Sokolovna\, Jiráskova 29 Pardubice - Zelené Předměstí
SUMMARY:CP-U16Z-F3F: TJ Sokol Pardubice I.-TJ Sokol Předklášteří
END:VEVENT
BEGIN:VEVENT
UID:66666339-3530-4164-b333-396339343733
DTSTAMP:20260425T105304Z
DESCRIPTION:6/18 RÉMA Rychnov - TJ Sokol Předklášteří 1:2 (22\,-13\,-12)
DTSTART;TZID=Europe/Berlin:20230319T110000
DTEND;TZID=Europe/Berlin:20230319T130000
LOCATION:VOŠ a SŠ zem.\, Komenského 873 Kostelec nad Orlicí
SUMMARY:CP-U16Z-F3F: RÉMA Rychnov-TJ Sokol Předklášteří
END:VEVENT
END:VCALENDAR
