BEGIN:VCALENDAR
VERSION:2.0
PRODID:-//TJ Sokol Šlapanice U2079700//NONSGML kigkonsult.se iCalcreator 2.41.80//
CALSCALE:GREGORIAN
UID:65396130-3338-4565-b236-656165343931
BEGIN:VEVENT
UID:64333134-3863-4138-a566-373134373131
DTSTAMP:20260423T040202Z
DESCRIPTION:3/3 Šlapanice U20 - TJ SOKOL LETOVICE\, z.s. U20 2:3 (19\,-14\,
 21\,-11\,-10)
DTSTART;TZID=Europe/Berlin:20220925T140000
DTEND;TZID=Europe/Berlin:20220925T160000
LOCATION:Tělocvična ZŠ Šlapanice\, Masarykovo náměstí 1594 Šlapanice
SUMMARY:JM-U20M-KVA: Šlapanice U20-TJ SOKOL LETOVICE\, z.s. U20
END:VEVENT
BEGIN:VEVENT
UID:38636564-3334-4932-a161-666633663737
DTSTAMP:20260423T040202Z
DESCRIPTION:2/2 START B6 U18 - Šlapanice U20 0:3 (-14\,-20\,-21)
DTSTART;TZID=Europe/Berlin:20220925T113000
DTEND;TZID=Europe/Berlin:20220925T133000
LOCATION:Základní škola Brno\, Sirotkova 36\, Sirotkova 371 Brno - Žabovřes
 ky
SUMMARY:JM-U20M-KVA: START B6 U18-Šlapanice U20
END:VEVENT
BEGIN:VEVENT
UID:37653637-3862-4465-a238-343133393134
DTSTAMP:20260423T040202Z
DESCRIPTION:3/3 Šlapanice U20 - VK Znojmo - Přímětice U20 3:1 (17\,-23\,22\
 ,21)
DTSTART;TZID=Europe/Berlin:20221016T140000
DTEND;TZID=Europe/Berlin:20221016T160000
LOCATION:Tělocvična ZŠ Šlapanice\, Masarykovo náměstí 1594 Šlapanice
SUMMARY:JM-U20M-IB: Šlapanice U20-VK Znojmo - Přímětice U20
END:VEVENT
BEGIN:VEVENT
UID:62656263-6362-4032-a638-373639643838
DTSTAMP:20260423T040202Z
DESCRIPTION:2/2 VK Brno\, z.s. U20 - Šlapanice U20 3:2 (-22\,18\,-23\,21\,9
 )
DTSTART;TZID=Europe/Berlin:20221016T113000
DTEND;TZID=Europe/Berlin:20221016T133000
LOCATION:Sportovní gymnázium Ludvíka Daňka\, Botanická 63 Brno - Ponava
SUMMARY:JM-U20M-IB: VK Brno\, z.s. U20-Šlapanice U20
END:VEVENT
BEGIN:VEVENT
UID:36383733-6530-4761-b330-616635336663
DTSTAMP:20260423T040202Z
DESCRIPTION:1/1 Šlapanice U20 - TJ TESLA BRNO z.s. U18 3:0 (13\,23\,17)
DTSTART;TZID=Europe/Berlin:20221030T090000
DTEND;TZID=Europe/Berlin:20221030T110000
LOCATION:Tělocvična ZŠ Šlapanice\, Masarykovo náměstí 1594 Šlapanice
SUMMARY:JM-U20M-IIB: Šlapanice U20-TJ TESLA BRNO z.s. U18
END:VEVENT
BEGIN:VEVENT
UID:65333865-3634-4562-b436-366435343231
DTSTAMP:20260423T040202Z
DESCRIPTION:3/3 TJ Sokol Veselí nad Moravou U20 - Šlapanice U20 X:3
DTSTART;TZID=Europe/Berlin:20221030T140000
DTEND;TZID=Europe/Berlin:20221030T160000
LOCATION:Církevní ZŠ Veselí nad Moravou\, Školní 698 Veselí nad Moravou
SUMMARY:JM-U20M-IIB: TJ Sokol Veselí nad Moravou U20-Šlapanice U20
END:VEVENT
BEGIN:VEVENT
UID:64383335-3634-4138-b034-363738306139
DTSTAMP:20260423T040202Z
DESCRIPTION:2/2 Šlapanice U20 - TJ SOKOL LETOVICE\, z.s. U20 3:X
DTSTART;TZID=Europe/Berlin:20221120T113000
DTEND;TZID=Europe/Berlin:20221120T133000
LOCATION:Tělocvična ZŠ Šlapanice\, Masarykovo náměstí 1594 Šlapanice
SUMMARY:JM-U20M-IIIA: Šlapanice U20-TJ SOKOL LETOVICE\, z.s. U20
END:VEVENT
BEGIN:VEVENT
UID:36666431-3061-4235-b632-373337656531
DTSTAMP:20260423T040202Z
DESCRIPTION:1/1 VK Brno\, z.s. U20 - Šlapanice U20 3:1 (24\,-22\,15\,20)
DTSTART;TZID=Europe/Berlin:20221120T090000
DTEND;TZID=Europe/Berlin:20221120T110000
LOCATION:Sportovní gymnázium Ludvíka Daňka\, Botanická 63 Brno - Ponava
SUMMARY:JM-U20M-IIIA: VK Brno\, z.s. U20-Šlapanice U20
END:VEVENT
BEGIN:VEVENT
UID:65636535-6133-4938-b633-646239616339
DTSTAMP:20260423T040202Z
DESCRIPTION:2/2 Šlapanice U20 - Vyškov 0:3 (-16\,-20\,-16)
DTSTART;TZID=Europe/Berlin:20221218T113000
DTEND;TZID=Europe/Berlin:20221218T133000
LOCATION:Tělocvična ZŠ Šlapanice\, Masarykovo náměstí 1594 Šlapanice
SUMMARY:JM-U20M-IVA: Šlapanice U20-Vyškov
END:VEVENT
BEGIN:VEVENT
UID:35363166-3532-4536-a439-393562383230
DTSTAMP:20260423T040202Z
DESCRIPTION:1/1 VK Brno\, z.s. U20 - Šlapanice U20 3:2 (-21\,-21\,22\,15\,1
 2)
DTSTART;TZID=Europe/Berlin:20221218T090000
DTEND;TZID=Europe/Berlin:20221218T110000
LOCATION:Sportovní gymnázium Ludvíka Daňka\, Botanická 63 Brno - Ponava
SUMMARY:JM-U20M-IVA: VK Brno\, z.s. U20-Šlapanice U20
END:VEVENT
BEGIN:VEVENT
UID:31323632-3130-4433-a634-636133376330
DTSTAMP:20260423T040202Z
DESCRIPTION:1/1 Šlapanice U20 - VK Znojmo - Přímětice U20 3:1 (22\,15\,-15\
 ,23)
DTSTART;TZID=Europe/Berlin:20230108T090000
DTEND;TZID=Europe/Berlin:20230108T110000
LOCATION:Tělocvična ZŠ Šlapanice\, Masarykovo náměstí 1594 Šlapanice
SUMMARY:JM-U20M-VB: Šlapanice U20-VK Znojmo - Přímětice U20
END:VEVENT
BEGIN:VEVENT
UID:65623962-6139-4736-a139-353561306131
DTSTAMP:20260423T040202Z
DESCRIPTION:3/3 TJ Sokol Veselí nad Moravou U20 - Šlapanice U20 2:3 (-18\,-
 14\,18\,22\,-11)
DTSTART;TZID=Europe/Berlin:20230108T140000
DTEND;TZID=Europe/Berlin:20230108T160000
LOCATION:Církevní ZŠ Veselí nad Moravou\, Školní 698 Veselí nad Moravou
SUMMARY:JM-U20M-VB: TJ Sokol Veselí nad Moravou U20-Šlapanice U20
END:VEVENT
BEGIN:VEVENT
UID:62663938-3730-4665-b136-333761656239
DTSTAMP:20260423T040202Z
DESCRIPTION:2/2 Šlapanice U20 - VK Brno\, z.s. U20 1:3 (-16\,-17\,26\,-20)
DTSTART;TZID=Europe/Berlin:20230122T113000
DTEND;TZID=Europe/Berlin:20230122T133000
LOCATION:Tělocvična ZŠ Šlapanice\, Masarykovo náměstí 1594 Šlapanice
SUMMARY:JM-U20M-VIA: Šlapanice U20-VK Brno\, z.s. U20
END:VEVENT
BEGIN:VEVENT
UID:35336666-3461-4537-b532-336562343738
DTSTAMP:20260423T040202Z
DESCRIPTION:1/1 Vyškov - Šlapanice U20 0:3 (-21\,-16\,-23)
DTSTART;TZID=Europe/Berlin:20230122T090000
DTEND;TZID=Europe/Berlin:20230122T110000
LOCATION:Sportovní hala\, Mlýnská 737 Vyškov - Dědice
SUMMARY:JM-U20M-VIA: Vyškov-Šlapanice U20
END:VEVENT
BEGIN:VEVENT
UID:32313730-3866-4461-b530-333561633737
DTSTAMP:20260423T040202Z
DESCRIPTION:3/3 Šlapanice U20 - TJ TESLA BRNO z.s. U18 1:3 (-20\,23\,-18\,-
 21)
DTSTART;TZID=Europe/Berlin:20230205T173000
DTEND;TZID=Europe/Berlin:20230205T193000
LOCATION:Tělocvična ZŠ Šlapanice\, Masarykovo náměstí 1594 Šlapanice
SUMMARY:JM-U20M-VIIA: Šlapanice U20-TJ TESLA BRNO z.s. U18
END:VEVENT
BEGIN:VEVENT
UID:63376464-3866-4330-a138-363939356165
DTSTAMP:20260423T040202Z
DESCRIPTION:2/2 VK Brno\, z.s. U20 - Šlapanice U20 3:0 (18\,16\,20)
DTSTART;TZID=Europe/Berlin:20230205T153000
DTEND;TZID=Europe/Berlin:20230205T173000
LOCATION:Sportovní gymnázium Ludvíka Daňka\, Botanická 63 Brno - Ponava
SUMMARY:JM-U20M-VIIA: VK Brno\, z.s. U20-Šlapanice U20
END:VEVENT
BEGIN:VEVENT
UID:34316461-3836-4636-a362-616332383163
DTSTAMP:20260423T040202Z
DESCRIPTION:1/1 Šlapanice U20 - TJ SOKOL LETOVICE\, z.s. U20 3:1 (26\,12\,-
 28\,11)
DTSTART;TZID=Europe/Berlin:20230305T090000
DTEND;TZID=Europe/Berlin:20230305T110000
LOCATION:Tělocvična ZŠ Šlapanice\, Masarykovo náměstí 1594 Šlapanice
SUMMARY:JM-U20M-VIIIB: Šlapanice U20-TJ SOKOL LETOVICE\, z.s. U20
END:VEVENT
BEGIN:VEVENT
UID:63616165-6362-4639-a136-336164373530
DTSTAMP:20260423T040202Z
DESCRIPTION:3/3 START B6 U18 - Šlapanice U20 0:3 (-21\,-19\,-22)
DTSTART;TZID=Europe/Berlin:20230305T140000
DTEND;TZID=Europe/Berlin:20230305T160000
LOCATION:Základní škola Brno\, Sirotkova 36\, Sirotkova 371 Brno - Žabovřes
 ky
SUMMARY:JM-U20M-VIIIB: START B6 U18-Šlapanice U20
END:VEVENT
BEGIN:VEVENT
UID:31653639-3933-4535-a335-633238333939
DTSTAMP:20260423T040202Z
DESCRIPTION:2/3 Šlapanice U20 - TJ Sokol Veselí nad Moravou U20 2:0 (19\,19
 )\n3. vs 6. Kurt 1
DTSTART;TZID=Europe/Berlin:20230402T103000
DTEND;TZID=Europe/Berlin:20230402T123000
LOCATION:Tělocvična ZŠ Šlapanice\, Masarykovo náměstí 1594 Šlapanice
SUMMARY:JM-U20M-F: Šlapanice U20-TJ Sokol Veselí nad Moravou U20
END:VEVENT
BEGIN:VEVENT
UID:37663331-3536-4539-a564-653734303833
DTSTAMP:20260423T040202Z
DESCRIPTION:4/8 Vyškov - Šlapanice U20 1:2 (22\,-20\,-14)\nW2 vs W3 Kurt 2
DTSTART;TZID=Europe/Berlin:20230402T130000
DTEND;TZID=Europe/Berlin:20230402T150000
LOCATION:Sportovní hala\, Mlýnská 737 Vyškov - Dědice
SUMMARY:JM-U20M-F: Vyškov-Šlapanice U20
END:VEVENT
BEGIN:VEVENT
UID:35323532-3262-4137-b935-663066323964
DTSTAMP:20260423T040202Z
DESCRIPTION:6/12 VK Brno\, z.s. U20 - Šlapanice U20 2:0 (17\,21)\nW7 vs W8 
 Kurt 1
DTSTART;TZID=Europe/Berlin:20230402T153000
DTEND;TZID=Europe/Berlin:20230402T173000
LOCATION:Sportovní gymnázium Ludvíka Daňka\, Botanická 63 Brno - Ponava
SUMMARY:JM-U20M-F: VK Brno\, z.s. U20-Šlapanice U20
END:VEVENT
END:VCALENDAR
