BEGIN:VCALENDAR
VERSION:2.0
PRODID:-//TJ EMĚ Mělník B79704//NONSGML kigkonsult.se iCalcreator 2.41.80//
CALSCALE:GREGORIAN
UID:35323664-3966-4164-b064-623439306233
BEGIN:VEVENT
UID:65363765-3634-4436-a461-313930656138
DTSTAMP:20260425T020036Z
DESCRIPTION:6/14 TJ EMĚ Mělník B - SK Kometa Praha 2:0 (22\,16)
DTSTART;TZID=Europe/Berlin:20220924T140000
DTEND;TZID=Europe/Berlin:20220924T160000
LOCATION:Tělocvična ZŠ J. Matiegky\, Pražská 2817 Mělník
SUMMARY:CP-U16Z-Z1B: TJ EMĚ Mělník B-SK Kometa Praha
END:VEVENT
BEGIN:VEVENT
UID:32383037-3862-4335-a364-303530653566
DTSTAMP:20260425T020036Z
DESCRIPTION:9/20 TJ EMĚ Mělník B - VSK Český Krumlov 2:0 (13\,18)
DTSTART;TZID=Europe/Berlin:20220924T170000
DTEND;TZID=Europe/Berlin:20220924T190000
LOCATION:Tělocvična ZŠ J. Matiegky\, Pražská 2817 Mělník
SUMMARY:CP-U16Z-Z1B: TJ EMĚ Mělník B-VSK Český Krumlov
END:VEVENT
BEGIN:VEVENT
UID:63383362-3736-4861-b039-626232363365
DTSTAMP:20260425T020036Z
DESCRIPTION:13/27 TJ EMĚ Mělník B - TJ Jiskra Nový Bor 2:0 (11\,7)
DTSTART;TZID=Europe/Berlin:20220925T120000
DTEND;TZID=Europe/Berlin:20220925T140000
LOCATION:Tělocvična ZŠ J. Matiegky\, Pražská 2817 Mělník
SUMMARY:CP-U16Z-Z1B: TJ EMĚ Mělník B-TJ Jiskra Nový Bor
END:VEVENT
BEGIN:VEVENT
UID:37353130-3365-4330-a463-386133636239
DTSTAMP:20260425T020036Z
DESCRIPTION:1/2 TJ Sokol Mnichovo Hradiště - TJ EMĚ Mělník B 0:2 (-11\,-8)
DTSTART;TZID=Europe/Berlin:20220924T090000
DTEND;TZID=Europe/Berlin:20220924T110000
LOCATION:Sportovní hala BIOS\, Sokolovská 254 Mnichovo Hradiště
SUMMARY:CP-U16Z-Z1B: TJ Sokol Mnichovo Hradiště-TJ EMĚ Mělník B
END:VEVENT
BEGIN:VEVENT
UID:34356230-3336-4534-a636-333034636461
DTSTAMP:20260425T020036Z
DESCRIPTION:3/6 SK Dansport Praha - TJ EMĚ Mělník B 0:2 (-8\,-14)
DTSTART;TZID=Europe/Berlin:20220924T110000
DTEND;TZID=Europe/Berlin:20220924T130000
LOCATION:Sportovní hala Gymnázia Jana Keplera\, Parléřova 118 Praha - Hradč
 any
SUMMARY:CP-U16Z-Z1B: SK Dansport Praha-TJ EMĚ Mělník B
END:VEVENT
BEGIN:VEVENT
UID:35653765-3764-4461-a662-623530623238
DTSTAMP:20260425T020036Z
DESCRIPTION:5/10 Říčany - TJ EMĚ Mělník B 0:2 (-7\,-9)
DTSTART;TZID=Europe/Berlin:20220924T130000
DTEND;TZID=Europe/Berlin:20220924T150000
LOCATION:Sportovní hala Světice\, U Hřiště 151 Světice
SUMMARY:CP-U16Z-Z1B: Říčany-TJ EMĚ Mělník B
END:VEVENT
BEGIN:VEVENT
UID:32353034-6234-4630-a437-643862633134
DTSTAMP:20260425T020036Z
DESCRIPTION:11/23 Kladno volejbal - TJ EMĚ Mělník B 0:2 (-8\,-6)
DTSTART;TZID=Europe/Berlin:20220925T100000
DTEND;TZID=Europe/Berlin:20220925T120000
LOCATION:Kladenská sportovní hala\, Sportovců 817 Kladno - Rozdělov
SUMMARY:CP-U16Z-Z1B: Kladno volejbal-TJ EMĚ Mělník B
END:VEVENT
BEGIN:VEVENT
UID:34396630-3962-4332-a163-343137343030
DTSTAMP:20260425T020036Z
DESCRIPTION:1/2 TJ EMĚ Mělník B - TJ Orion Praha A 0:2 (-17\,-20)
DTSTART;TZID=Europe/Berlin:20221015T093000
DTEND;TZID=Europe/Berlin:20221015T113000
LOCATION:Tělocvična ZŠ J. Matiegky\, Pražská 2817 Mělník
SUMMARY:CP-U16Z-Z2A: TJ EMĚ Mělník B-TJ Orion Praha A
END:VEVENT
BEGIN:VEVENT
UID:37613230-3433-4330-b238-393136383934
DTSTAMP:20260425T020036Z
DESCRIPTION:4/12 TJ EMĚ Mělník B - TJ Turnov 2:0 (14\,23)
DTSTART;TZID=Europe/Berlin:20221015T140000
DTEND;TZID=Europe/Berlin:20221015T160000
LOCATION:Tělocvična ZŠ J. Matiegky\, Pražská 2817 Mělník
SUMMARY:CP-U16Z-Z2A: TJ EMĚ Mělník B-TJ Turnov
END:VEVENT
BEGIN:VEVENT
UID:65343934-3539-4939-b863-393661326333
DTSTAMP:20260425T020036Z
DESCRIPTION:2/4 SK Kometa Praha - TJ EMĚ Mělník B 0:2 (-16\,-24)
DTSTART;TZID=Europe/Berlin:20221015T110000
DTEND;TZID=Europe/Berlin:20221015T130000
LOCATION:Tělocvična ZŠ Na Šutce\, Na Šutce 440 Praha - Troja
SUMMARY:CP-U16Z-Z2A: SK Kometa Praha-TJ EMĚ Mělník B
END:VEVENT
BEGIN:VEVENT
UID:66323765-3765-4230-a237-626632303532
DTSTAMP:20260425T020036Z
DESCRIPTION:5/13 VK Karlovy Vary - TJ EMĚ Mělník B 0:2 (-16\,-15)
DTSTART;TZID=Europe/Berlin:20221015T153000
DTEND;TZID=Europe/Berlin:20221015T173000
LOCATION:Mattoni Arena Hala míčových sportů\, Západní 1812 Karlovy Vary
SUMMARY:CP-U16Z-Z2A: VK Karlovy Vary-TJ EMĚ Mělník B
END:VEVENT
BEGIN:VEVENT
UID:36333832-3034-4232-a135-363639663035
DTSTAMP:20260425T020036Z
DESCRIPTION:8/23 TJ Lokomotiva Plzeň - TJ EMĚ Mělník B 0:2 (-25\,-16)
DTSTART;TZID=Europe/Berlin:20221016T100000
DTEND;TZID=Europe/Berlin:20221016T120000
LOCATION:Městská sportovní hala  -  hala 2\, Úslavská 2357 Plzeň - Východní
  Předměstí
SUMMARY:CP-U16Z-Z2A: TJ Lokomotiva Plzeň-TJ EMĚ Mělník B
END:VEVENT
BEGIN:VEVENT
UID:35306366-6539-4330-b233-656635366530
DTSTAMP:20260425T020036Z
DESCRIPTION:9/26 Volleyball Nymburk - TJ EMĚ Mělník B 0:2 (-10\,-14)
DTSTART;TZID=Europe/Berlin:20221016T113000
DTEND;TZID=Europe/Berlin:20221016T133000
LOCATION:Zimní stadion\, U Stadionu 12 Nymburk
SUMMARY:CP-U16Z-Z2A: Volleyball Nymburk-TJ EMĚ Mělník B
END:VEVENT
BEGIN:VEVENT
UID:62653265-6330-4565-b266-646439616565
DTSTAMP:20260425T020036Z
DESCRIPTION:10/28 TJ KRALUPY\, z.s. - TJ EMĚ Mělník B 0:2 (-24\,-17)
DTSTART;TZID=Europe/Berlin:20221016T130000
DTEND;TZID=Europe/Berlin:20221016T150000
LOCATION:TJ KRALUPY\, z.s.\, Gen. Klapálka 1029 Kralupy nad Vltavou
SUMMARY:CP-U16Z-Z2A: TJ KRALUPY\, z.s.-TJ EMĚ Mělník B
END:VEVENT
BEGIN:VEVENT
UID:35313732-3539-4662-b161-303337646131
DTSTAMP:20260425T020036Z
DESCRIPTION:2/6 TJ EMĚ Mělník B - TJ Orion Praha A 2:0 (17\,20)
DTSTART;TZID=Europe/Berlin:20221119T110000
DTEND;TZID=Europe/Berlin:20221119T130000
LOCATION:Tělocvična ZŠ J. Matiegky\, Pražská 2817 Mělník
SUMMARY:CP-U16Z-Z3A: TJ EMĚ Mělník B-TJ Orion Praha A
END:VEVENT
BEGIN:VEVENT
UID:32396633-3161-4365-b231-353663343237
DTSTAMP:20260425T020036Z
DESCRIPTION:4/14 TJ EMĚ Mělník B - TJ Lokomotiva Plzeň 2:0 (19\,21)
DTSTART;TZID=Europe/Berlin:20221119T150000
DTEND;TZID=Europe/Berlin:20221119T170000
LOCATION:Tělocvična ZŠ J. Matiegky\, Pražská 2817 Mělník
SUMMARY:CP-U16Z-Z3A: TJ EMĚ Mělník B-TJ Lokomotiva Plzeň
END:VEVENT
BEGIN:VEVENT
UID:65333130-6137-4236-a530-336535363565
DTSTAMP:20260425T020036Z
DESCRIPTION:6/21 TJ EMĚ Mělník B - TJ Turnov 1:2 (21\,-16\,-9)
DTSTART;TZID=Europe/Berlin:20221120T100000
DTEND;TZID=Europe/Berlin:20221120T120000
LOCATION:Tělocvična ZŠ J. Matiegky\, Pražská 2817 Mělník
SUMMARY:CP-U16Z-Z3A: TJ EMĚ Mělník B-TJ Turnov
END:VEVENT
BEGIN:VEVENT
UID:64326338-6132-4032-a334-346462646139
DTSTAMP:20260425T020036Z
DESCRIPTION:1/4 SK VOLEJBAL Ústí n.L. - TJ EMĚ Mělník B 0:2 (-16\,-14)
DTSTART;TZID=Europe/Berlin:20221119T093000
DTEND;TZID=Europe/Berlin:20221119T113000
LOCATION:Základní škola Stříbrnická\, Stříbrnická 3031 Ústí nad Labem - Sev
 erní Terasa
SUMMARY:CP-U16Z-Z3A: SK VOLEJBAL Ústí n.L.-TJ EMĚ Mělník B
END:VEVENT
BEGIN:VEVENT
UID:66306262-3039-4964-b761-373331643465
DTSTAMP:20260425T020036Z
DESCRIPTION:3/12 Mikulova A - TJ EMĚ Mělník B 0:2 (-12\,-19)
DTSTART;TZID=Europe/Berlin:20221119T133000
DTEND;TZID=Europe/Berlin:20221119T153000
LOCATION:tělocvičny ZŠ Mikulova\, Mikulova 1594 Praha - Chodov
SUMMARY:CP-U16Z-Z3A: Mikulova A-TJ EMĚ Mělník B
END:VEVENT
BEGIN:VEVENT
UID:37343366-3232-4166-b538-313261323961
DTSTAMP:20260425T020036Z
DESCRIPTION:5/17 TJ KRALUPY\, z.s. - TJ EMĚ Mělník B 0:2 (-12\,-18)
DTSTART;TZID=Europe/Berlin:20221120T083000
DTEND;TZID=Europe/Berlin:20221120T103000
LOCATION:TJ KRALUPY\, z.s.\, Gen. Klapálka 1029 Kralupy nad Vltavou
SUMMARY:CP-U16Z-Z3A: TJ KRALUPY\, z.s.-TJ EMĚ Mělník B
END:VEVENT
BEGIN:VEVENT
UID:30363834-6262-4130-a565-626161633662
DTSTAMP:20260425T020036Z
DESCRIPTION:7/27 VK Karlovy Vary - TJ EMĚ Mělník B 0:2 (-13\,-24)
DTSTART;TZID=Europe/Berlin:20221120T113000
DTEND;TZID=Europe/Berlin:20221120T133000
LOCATION:Mattoni Arena Hala míčových sportů\, Západní 1812 Karlovy Vary
SUMMARY:CP-U16Z-Z3A: VK Karlovy Vary-TJ EMĚ Mělník B
END:VEVENT
BEGIN:VEVENT
UID:35386639-3738-4836-b161-633863306538
DTSTAMP:20260425T020036Z
DESCRIPTION:1/1 TJ EMĚ Mělník B - TJ Orion Praha A 2:0 (12\,20)
DTSTART;TZID=Europe/Berlin:20230121T080000
DTEND;TZID=Europe/Berlin:20230121T100000
LOCATION:Tělocvična ZŠ J. Matiegky\, Pražská 2817 Mělník
SUMMARY:CP-U16Z-F1A: TJ EMĚ Mělník B-TJ Orion Praha A
END:VEVENT
BEGIN:VEVENT
UID:32373265-6361-4533-a166-376134313439
DTSTAMP:20260425T020036Z
DESCRIPTION:3/6 TJ EMĚ Mělník B - TJ Sokol Štoky 2:0 (17\,22)
DTSTART;TZID=Europe/Berlin:20230121T103000
DTEND;TZID=Europe/Berlin:20230121T123000
LOCATION:Tělocvična ZŠ J. Matiegky\, Pražská 2817 Mělník
SUMMARY:CP-U16Z-F1A: TJ EMĚ Mělník B-TJ Sokol Štoky
END:VEVENT
BEGIN:VEVENT
UID:63396137-3139-4539-b364-383038383761
DTSTAMP:20260425T020036Z
DESCRIPTION:4/9 TJ EMĚ Mělník B - TJ Lokomotiva Plzeň 2:0 (9\,13)
DTSTART;TZID=Europe/Berlin:20230121T114500
DTEND;TZID=Europe/Berlin:20230121T134500
LOCATION:Tělocvična ZŠ J. Matiegky\, Pražská 2817 Mělník
SUMMARY:CP-U16Z-F1A: TJ EMĚ Mělník B-TJ Lokomotiva Plzeň
END:VEVENT
BEGIN:VEVENT
UID:66663030-3731-4432-b132-353765303936
DTSTAMP:20260425T020036Z
DESCRIPTION:7/16 TJ EMĚ Mělník B - TJ Sokol Frýdek - Místek 2:0 (20\,17)
DTSTART;TZID=Europe/Berlin:20230121T153000
DTEND;TZID=Europe/Berlin:20230121T173000
LOCATION:Tělocvična ZŠ J. Matiegky\, Pražská 2817 Mělník
SUMMARY:CP-U16Z-F1A: TJ EMĚ Mělník B-TJ Sokol Frýdek - Místek
END:VEVENT
BEGIN:VEVENT
UID:31356333-6565-4266-a336-623165383331
DTSTAMP:20260425T020036Z
DESCRIPTION:9/20 KP Brno A - TJ EMĚ Mělník B 2:0 (20\,20)
DTSTART;TZID=Europe/Berlin:20230122T091500
DTEND;TZID=Europe/Berlin:20230122T111500
LOCATION:Sportovní gymnázium Ludvíka Daňka\, Botanická 63 Brno - Ponava
SUMMARY:CP-U16Z-F1A: KP Brno A-TJ EMĚ Mělník B
END:VEVENT
BEGIN:VEVENT
UID:66373632-6136-4763-a363-656330363635
DTSTAMP:20260425T020036Z
DESCRIPTION:11/24 Prostějov - TJ EMĚ Mělník B 0:2 (-9\,-17)
DTSTART;TZID=Europe/Berlin:20230122T114500
DTEND;TZID=Europe/Berlin:20230122T134500
LOCATION:Národní sportovní centrum\, Za velodromem 4187 Prostějov
SUMMARY:CP-U16Z-F1A: Prostějov-TJ EMĚ Mělník B
END:VEVENT
BEGIN:VEVENT
UID:32646165-6566-4466-b966-613062356565
DTSTAMP:20260425T020036Z
DESCRIPTION:12/26 TJ KRALUPY\, z.s. - TJ EMĚ Mělník B 0:2 (-22\,-17)
DTSTART;TZID=Europe/Berlin:20230122T130000
DTEND;TZID=Europe/Berlin:20230122T150000
LOCATION:TJ KRALUPY\, z.s.\, Gen. Klapálka 1029 Kralupy nad Vltavou
SUMMARY:CP-U16Z-F1A: TJ KRALUPY\, z.s.-TJ EMĚ Mělník B
END:VEVENT
BEGIN:VEVENT
UID:64626134-6261-4664-a638-366463636637
DTSTAMP:20260425T020036Z
DESCRIPTION:3/5 TJ EMĚ Mělník B - KP Brno A 2:0 (24\,11)
DTSTART;TZID=Europe/Berlin:20230218T113000
DTEND;TZID=Europe/Berlin:20230218T133000
LOCATION:Tělocvična ZŠ J. Matiegky\, Pražská 2817 Mělník
SUMMARY:CP-U16Z-F2A: TJ EMĚ Mělník B-KP Brno A
END:VEVENT
BEGIN:VEVENT
UID:33653762-3038-4532-b166-646562376338
DTSTAMP:20260425T020036Z
DESCRIPTION:8/15 TJ EMĚ Mělník B - TJ KRALUPY\, z.s. 2:0 (14\,13)
DTSTART;TZID=Europe/Berlin:20230218T174500
DTEND;TZID=Europe/Berlin:20230218T194500
LOCATION:Tělocvična ZŠ J. Matiegky\, Pražská 2817 Mělník
SUMMARY:CP-U16Z-F2A: TJ EMĚ Mělník B-TJ KRALUPY\, z.s.
END:VEVENT
BEGIN:VEVENT
UID:64343062-6336-4236-a565-353463343131
DTSTAMP:20260425T020036Z
DESCRIPTION:12/24 TJ EMĚ Mělník B - VK Karlovy Vary 2:1 (17\,-22\,15)
DTSTART;TZID=Europe/Berlin:20230219T124500
DTEND;TZID=Europe/Berlin:20230219T144500
LOCATION:Tělocvična ZŠ J. Matiegky\, Pražská 2817 Mělník
SUMMARY:CP-U16Z-F2A: TJ EMĚ Mělník B-VK Karlovy Vary
END:VEVENT
BEGIN:VEVENT
UID:62616633-3366-4538-a430-306132633266
DTSTAMP:20260425T020036Z
DESCRIPTION:2/4 TJ Turnov - TJ EMĚ Mělník B 2:0 (21\,12)
DTSTART;TZID=Europe/Berlin:20230218T101500
DTEND;TZID=Europe/Berlin:20230218T121500
LOCATION:TJ Turnov\, Skálova 207 Turnov
SUMMARY:CP-U16Z-F2A: TJ Turnov-TJ EMĚ Mělník B
END:VEVENT
BEGIN:VEVENT
UID:32623738-3033-4766-b063-363134376565
DTSTAMP:20260425T020036Z
DESCRIPTION:6/11 Prostějov - TJ EMĚ Mělník B 0:2 (-12\,-14)
DTSTART;TZID=Europe/Berlin:20230218T151500
DTEND;TZID=Europe/Berlin:20230218T171500
LOCATION:Národní sportovní centrum\, Za velodromem 4187 Prostějov
SUMMARY:CP-U16Z-F2A: Prostějov-TJ EMĚ Mělník B
END:VEVENT
BEGIN:VEVENT
UID:65626264-3163-4166-a564-643435333035
DTSTAMP:20260425T020036Z
DESCRIPTION:9/17 TJ Sokol Frýdek - Místek - TJ EMĚ Mělník B 0:2 (-8\,-13)
DTSTART;TZID=Europe/Berlin:20230219T090000
DTEND;TZID=Europe/Berlin:20230219T110000
LOCATION:ZŠ Pionýrů 400 Frýdek-Místek\, Pionýrů 400 Frýdek-Místek - Místek
SUMMARY:CP-U16Z-F2A: TJ Sokol Frýdek - Místek-TJ EMĚ Mělník B
END:VEVENT
BEGIN:VEVENT
UID:63306231-3139-4437-a132-363533376138
DTSTAMP:20260425T020036Z
DESCRIPTION:11/22 TJ Orion Praha A - TJ EMĚ Mělník B 0:2 (-9\,-24)
DTSTART;TZID=Europe/Berlin:20230219T113000
DTEND;TZID=Europe/Berlin:20230219T133000
LOCATION:ZŠ Dolní Břežany\, Na Vršku 290 Dolní Břežany
SUMMARY:CP-U16Z-F2A: TJ Orion Praha A-TJ EMĚ Mělník B
END:VEVENT
BEGIN:VEVENT
UID:63616539-6337-4966-a430-303533666231
DTSTAMP:20260425T020036Z
DESCRIPTION:2/5 TJ EMĚ Mělník B - KP Brno A 2:1 (-22\,13\,7)
DTSTART;TZID=Europe/Berlin:20230318T110000
DTEND;TZID=Europe/Berlin:20230318T130000
LOCATION:Tělocvična ZŠ J. Matiegky\, Pražská 2817 Mělník
SUMMARY:CP-U16Z-F3A: TJ EMĚ Mělník B-KP Brno A
END:VEVENT
BEGIN:VEVENT
UID:61353532-3439-4162-a538-313231643639
DTSTAMP:20260425T020036Z
DESCRIPTION:4/13 TJ EMĚ Mělník B - TJ Lokomotiva Plzeň 0:2 (-24\,-20)
DTSTART;TZID=Europe/Berlin:20230318T153000
DTEND;TZID=Europe/Berlin:20230318T173000
LOCATION:Tělocvična ZŠ J. Matiegky\, Pražská 2817 Mělník
SUMMARY:CP-U16Z-F3A: TJ EMĚ Mělník B-TJ Lokomotiva Plzeň
END:VEVENT
BEGIN:VEVENT
UID:35316363-6162-4763-b330-623232313962
DTSTAMP:20260425T020036Z
DESCRIPTION:6/22 TJ EMĚ Mělník B - TJ Turnov 2:0 (14\,12)
DTSTART;TZID=Europe/Berlin:20230319T100000
DTEND;TZID=Europe/Berlin:20230319T120000
LOCATION:Tělocvična ZŠ J. Matiegky\, Pražská 2817 Mělník
SUMMARY:CP-U16Z-F3A: TJ EMĚ Mělník B-TJ Turnov
END:VEVENT
BEGIN:VEVENT
UID:36383537-3161-4263-a333-613237313732
DTSTAMP:20260425T020036Z
DESCRIPTION:1/4 VSK Zlín - TJ EMĚ Mělník B 0:2 (-11\,-7)
DTSTART;TZID=Europe/Berlin:20230318T093000
DTEND;TZID=Europe/Berlin:20230318T113000
LOCATION:ZŠ Okružní Zlín\, Okružní 4685 Zlín
SUMMARY:CP-U16Z-F3A: VSK Zlín-TJ EMĚ Mělník B
END:VEVENT
BEGIN:VEVENT
UID:66613063-3663-4631-b839-363637623337
DTSTAMP:20260425T020036Z
DESCRIPTION:3/12 TJ Sokol Frýdek - Místek - TJ EMĚ Mělník B 0:2 (-18\,-17)
DTSTART;TZID=Europe/Berlin:20230318T140000
DTEND;TZID=Europe/Berlin:20230318T160000
LOCATION:ZŠ Pionýrů 400 Frýdek-Místek\, Pionýrů 400 Frýdek-Místek - Místek
SUMMARY:CP-U16Z-F3A: TJ Sokol Frýdek - Místek-TJ EMĚ Mělník B
END:VEVENT
BEGIN:VEVENT
UID:64316363-6434-4234-b931-346530353031
DTSTAMP:20260425T020036Z
DESCRIPTION:5/18 TJ KRALUPY\, z.s. - TJ EMĚ Mělník B 0:2 (-23\,-13)
DTSTART;TZID=Europe/Berlin:20230319T083000
DTEND;TZID=Europe/Berlin:20230319T103000
LOCATION:TJ KRALUPY\, z.s.\, Gen. Klapálka 1029 Kralupy nad Vltavou
SUMMARY:CP-U16Z-F3A: TJ KRALUPY\, z.s.-TJ EMĚ Mělník B
END:VEVENT
BEGIN:VEVENT
UID:33386166-3030-4632-b265-343466376163
DTSTAMP:20260425T020036Z
DESCRIPTION:7/27 VK Karlovy Vary - TJ EMĚ Mělník B 0:2 (-20\,-15)
DTSTART;TZID=Europe/Berlin:20230319T113000
DTEND;TZID=Europe/Berlin:20230319T133000
LOCATION:Mattoni Arena Hala míčových sportů\, Západní 1812 Karlovy Vary
SUMMARY:CP-U16Z-F3A: VK Karlovy Vary-TJ EMĚ Mělník B
END:VEVENT
END:VCALENDAR
