BEGIN:VCALENDAR
VERSION:2.0
PRODID:-//Volejbal Tábor, z.s.79719//NONSGML kigkonsult.se iCalcreator 2.41.80//
CALSCALE:GREGORIAN
UID:61356437-3232-4636-a536-643035316237
BEGIN:VEVENT
UID:64393733-6637-4864-a438-616232646536
DTSTAMP:20260421T210114Z
DESCRIPTION:2/3 Tábor - Č.Třebová 2:0 (20\,17)\nsp.hala SZeŠ Kostelec n.O.
DTSTART;TZID=Europe/Berlin:20221022T103000
DTEND;TZID=Europe/Berlin:20221022T123000
LOCATION:Sportovní Hala Mír\, U Stadionu Míru 1579 Tábor
SUMMARY:CP-U20Z-1C: Tábor-Č.Třebová
END:VEVENT
BEGIN:VEVENT
UID:33663836-6364-4536-b236-396231383735
DTSTAMP:20260421T210114Z
DESCRIPTION:6/9 Tábor - Sokol Havlíčkův Brod 0:2 (-14\,-20)
DTSTART;TZID=Europe/Berlin:20221022T153000
DTEND;TZID=Europe/Berlin:20221022T173000
LOCATION:Sportovní Hala Mír\, U Stadionu Míru 1579 Tábor
SUMMARY:CP-U20Z-1C: Tábor-Sokol Havlíčkův Brod
END:VEVENT
BEGIN:VEVENT
UID:30333433-3963-4730-b531-363231653463
DTSTAMP:20260421T210114Z
DESCRIPTION:12/20 Tábor - Přerov 1908 2:0 (17\,20)\nsportovní hala ČESTICE
DTSTART;TZID=Europe/Berlin:20221023T113000
DTEND;TZID=Europe/Berlin:20221023T133000
LOCATION:Sportovní Hala Mír\, U Stadionu Míru 1579 Tábor
SUMMARY:CP-U20Z-1C: Tábor-Přerov 1908
END:VEVENT
BEGIN:VEVENT
UID:31623230-3161-4463-b364-386538616237
DTSTAMP:20260421T210114Z
DESCRIPTION:3/5 RÉMA Rychnov - Tábor 0:2 (-19\,-18)
DTSTART;TZID=Europe/Berlin:20221022T113000
DTEND;TZID=Europe/Berlin:20221022T133000
LOCATION:VOŠ a SŠ zem.\, Komenského 873 Kostelec nad Orlicí
SUMMARY:CP-U20Z-1C: RÉMA Rychnov-Tábor
END:VEVENT
BEGIN:VEVENT
UID:66623136-6437-4432-b264-623161613066
DTSTAMP:20260421T210114Z
DESCRIPTION:8/12 Litomyšl - Tábor 0:2 (-13\,-21)
DTSTART;TZID=Europe/Berlin:20221022T173000
DTEND;TZID=Europe/Berlin:20221022T193000
LOCATION:Městská sportovní hala\, T. G. Masaryka 1145 Litomyšl - Litomyšl-M
 ěsto
SUMMARY:CP-U20Z-1C: Litomyšl-Tábor
END:VEVENT
BEGIN:VEVENT
UID:32346430-3532-4436-b237-623532333537
DTSTAMP:20260421T210114Z
DESCRIPTION:10/15 Jičín - Tábor 2:0 (13\,16)\nsportovní hala ČESTICE
DTSTART;TZID=Europe/Berlin:20221023T090000
DTEND;TZID=Europe/Berlin:20221023T110000
LOCATION:Hala 3. základní školy Jičín\, Poděbradova 18 Jičín - Nové Město
SUMMARY:CP-U20Z-1C: Jičín-Tábor
END:VEVENT
BEGIN:VEVENT
UID:32366266-3134-4734-b331-356133326265
DTSTAMP:20260421T210114Z
DESCRIPTION:1/2 Tábor - Č.Třebová 0:2 (-9\,-15)
DTSTART;TZID=Europe/Berlin:20221126T110000
DTEND;TZID=Europe/Berlin:20221126T130000
LOCATION:Sportovní Hala Mír\, U Stadionu Míru 1579 Tábor
SUMMARY:CP-U20Z-2B: Tábor-Č.Třebová
END:VEVENT
BEGIN:VEVENT
UID:33383239-6465-4034-b761-333338363532
DTSTAMP:20260421T210114Z
DESCRIPTION:2/5 Tábor - SK TŘEBÍN\, z.s. 0:2 (-10\,-13)
DTSTART;TZID=Europe/Berlin:20221126T122000
DTEND;TZID=Europe/Berlin:20221126T142000
LOCATION:Sportovní Hala Mír\, U Stadionu Míru 1579 Tábor
SUMMARY:CP-U20Z-2B: Tábor-SK TŘEBÍN\, z.s.
END:VEVENT
BEGIN:VEVENT
UID:63306335-3866-4564-b438-626465646231
DTSTAMP:20260421T210114Z
DESCRIPTION:3/8 Tábor - VK Valašské Meziříčí 0:2 (-12\,-13)
DTSTART;TZID=Europe/Berlin:20221126T134000
DTEND;TZID=Europe/Berlin:20221126T154000
LOCATION:Sportovní Hala Mír\, U Stadionu Míru 1579 Tábor
SUMMARY:CP-U20Z-2B: Tábor-VK Valašské Meziříčí
END:VEVENT
BEGIN:VEVENT
UID:34373439-3632-4135-b030-326538633066
DTSTAMP:20260421T210114Z
DESCRIPTION:5/15 Tábor - Tělocvičná jednota Sokol Brandýs nad Labem 0:2 (-1
 1\,-21)
DTSTART;TZID=Europe/Berlin:20221127T090000
DTEND;TZID=Europe/Berlin:20221127T110000
LOCATION:Sportovní Hala Mír\, U Stadionu Míru 1579 Tábor
SUMMARY:CP-U20Z-2B: Tábor-Tělocvičná jednota Sokol Brandýs nad Labem
END:VEVENT
BEGIN:VEVENT
UID:33653265-3162-4736-a237-393863366262
DTSTAMP:20260421T210114Z
DESCRIPTION:4/11 M.Hradiště - Tábor 2:0 (20\,13)
DTSTART;TZID=Europe/Berlin:20221126T150000
DTEND;TZID=Europe/Berlin:20221126T170000
LOCATION:Sportovní hala BIOS\, Sokolovská 254 Mnichovo Hradiště
SUMMARY:CP-U20Z-2B: M.Hradiště-Tábor
END:VEVENT
BEGIN:VEVENT
UID:61383865-3830-4638-a564-396634303334
DTSTAMP:20260421T210114Z
DESCRIPTION:9/21 Chlumec/C. - Tábor 2:0 (12\,21)
DTSTART;TZID=Europe/Berlin:20221127T114000
DTEND;TZID=Europe/Berlin:20221127T134000
LOCATION:Slavíčkova hala\, Sokolská 795 Chlumec nad Cidlinou - Chlumec nad 
 Cidlinou IV
SUMMARY:CP-U20Z-2B: Chlumec/C.-Tábor
END:VEVENT
BEGIN:VEVENT
UID:62653063-6531-4339-b330-373162376666
DTSTAMP:20260421T210114Z
DESCRIPTION:8/15 Tábor - TJ Žichlínek\, z.s. 0:2 (-23\,-11)
DTSTART;TZID=Europe/Berlin:20230226T101500
DTEND;TZID=Europe/Berlin:20230226T121500
LOCATION:Sportovní Hala Mír\, U Stadionu Míru 1579 Tábor
SUMMARY:CP-U20Z-3C: Tábor-TJ Žichlínek\, z.s.
END:VEVENT
BEGIN:VEVENT
UID:64383439-6337-4035-a636-346431633637
DTSTAMP:20260421T210114Z
DESCRIPTION:3/5 VK Rokycany - Tábor 2:1 (20\,-21\,10)
DTSTART;TZID=Europe/Berlin:20230225T120000
DTEND;TZID=Europe/Berlin:20230225T140000
LOCATION:Hala Gymnázia Rokycany\, Mládežníků 1115 Rokycany - Nové Město
SUMMARY:CP-U20Z-3C: VK Rokycany-Tábor
END:VEVENT
BEGIN:VEVENT
UID:39323830-6531-4035-b466-336532386137
DTSTAMP:20260421T210114Z
DESCRIPTION:4/8 Č.Třebová - Tábor 2:0 (12\,21)
DTSTART;TZID=Europe/Berlin:20230225T131500
DTEND;TZID=Europe/Berlin:20230225T151500
LOCATION:Základní škola Česká Třebová Habrmanova\, Na Skále\, Na Skále 566 
 Česká Třebová
SUMMARY:CP-U20Z-3C: Č.Třebová-Tábor
END:VEVENT
BEGIN:VEVENT
UID:38373930-3934-4139-b436-646364363263
DTSTAMP:20260421T210114Z
DESCRIPTION:6/11 TJ ABC Braník\, z.s. - Tábor 2:0 (22\,16)
DTSTART;TZID=Europe/Berlin:20230225T154500
DTEND;TZID=Europe/Berlin:20230225T174500
LOCATION:Sokolovna Braník\, Branická 275 Praha - Braník
SUMMARY:CP-U20Z-3C: TJ ABC Braník\, z.s.-Tábor
END:VEVENT
BEGIN:VEVENT
UID:38366261-3234-4937-b261-636339633437
DTSTAMP:20260421T210114Z
DESCRIPTION:9/18 VK AUSTIN Vsetín z.s. - Tábor 2:0 (15\,16)
DTSTART;TZID=Europe/Berlin:20230226T113000
DTEND;TZID=Europe/Berlin:20230226T133000
LOCATION:Sportovní hala Na Lapači\, Na Lapači 247 Vsetín - Rokytnice
SUMMARY:CP-U20Z-3C: VK AUSTIN Vsetín z.s.-Tábor
END:VEVENT
BEGIN:VEVENT
UID:66343532-6263-4030-b736-636263373235
DTSTAMP:20260421T210114Z
DESCRIPTION:11/21 Napajedla - Tábor 2:0 (17\,14)
DTSTART;TZID=Europe/Berlin:20230226T140000
DTEND;TZID=Europe/Berlin:20230226T160000
LOCATION:2.ZŠ Napajedla\, Komenského 298 Napajedla
SUMMARY:CP-U20Z-3C: Napajedla-Tábor
END:VEVENT
BEGIN:VEVENT
UID:35666538-3231-4730-a265-376666323231
DTSTAMP:20260421T210114Z
DESCRIPTION:1/3 Tábor - Přerov 1908 2:0 (12\,19)
DTSTART;TZID=Europe/Berlin:20230325T093000
DTEND;TZID=Europe/Berlin:20230325T113000
LOCATION:Sportovní Hala Mír\, U Stadionu Míru 1579 Tábor
SUMMARY:CP-U20Z-4D: Tábor-Přerov 1908
END:VEVENT
BEGIN:VEVENT
UID:62643630-6163-4366-a464-326162356537
DTSTAMP:20260421T210114Z
DESCRIPTION:4/11 Tábor - Volejbalový klub Karlovy Vary z.s. 2:0 (19\,9)
DTSTART;TZID=Europe/Berlin:20230325T150000
DTEND;TZID=Europe/Berlin:20230325T170000
LOCATION:Sportovní Hala Mír\, U Stadionu Míru 1579 Tábor
SUMMARY:CP-U20Z-4D: Tábor-Volejbalový klub Karlovy Vary z.s.
END:VEVENT
BEGIN:VEVENT
UID:61393831-3231-4530-b335-326262646337
DTSTAMP:20260421T210114Z
DESCRIPTION:5/14 Tábor - RÉMA Rychnov 0:2 (-18\,-23)
DTSTART;TZID=Europe/Berlin:20230325T170000
DTEND;TZID=Europe/Berlin:20230325T190000
LOCATION:Sportovní Hala Mír\, U Stadionu Míru 1579 Tábor
SUMMARY:CP-U20Z-4D: Tábor-RÉMA Rychnov
END:VEVENT
BEGIN:VEVENT
UID:39386236-3530-4365-a131-346534306261
DTSTAMP:20260421T210114Z
DESCRIPTION:2/5 TJ Žichlínek\, z.s. - Tábor 2:1 (17\,-20\,13)
DTSTART;TZID=Europe/Berlin:20230325T104500
DTEND;TZID=Europe/Berlin:20230325T124500
LOCATION:SOŠ a SOU Lanškroun\, Sokolská 288 Lanškroun - Ostrovské Předměstí
SUMMARY:CP-U20Z-4D: TJ Žichlínek\, z.s.-Tábor
END:VEVENT
BEGIN:VEVENT
UID:63313131-3631-4432-b431-626164306333
DTSTAMP:20260421T210114Z
DESCRIPTION:3/7 TJ Svitavy - Tábor 0:2 (-20\,-11)
DTSTART;TZID=Europe/Berlin:20230325T130000
DTEND;TZID=Europe/Berlin:20230325T150000
LOCATION:Sportovní hala Na Střelnici\, Pražská 2162 Svitavy - Předměstí
SUMMARY:CP-U20Z-4D: TJ Svitavy-Tábor
END:VEVENT
BEGIN:VEVENT
UID:30316165-6666-4532-a336-616562346661
DTSTAMP:20260421T210114Z
DESCRIPTION:5/15 Tábor - VK Valašské Meziříčí 2:1 (14\,-23\,8)
DTSTART;TZID=Europe/Berlin:20230423T090000
DTEND;TZID=Europe/Berlin:20230423T110000
LOCATION:Sportovní Hala Mír\, U Stadionu Míru 1579 Tábor
SUMMARY:CP-U20Z-5C: Tábor-VK Valašské Meziříčí
END:VEVENT
BEGIN:VEVENT
UID:64336136-3630-4864-b539-383161343063
DTSTAMP:20260421T210114Z
DESCRIPTION:6/18 Tábor - M.Hradiště 1:2 (22\,-16\,-8)
DTSTART;TZID=Europe/Berlin:20230423T102000
DTEND;TZID=Europe/Berlin:20230423T122000
LOCATION:Sportovní Hala Mír\, U Stadionu Míru 1579 Tábor
SUMMARY:CP-U20Z-5C: Tábor-M.Hradiště
END:VEVENT
BEGIN:VEVENT
UID:38363539-6339-4630-a464-333265666437
DTSTAMP:20260421T210114Z
DESCRIPTION:7/21 Tábor - Napajedla 1:2 (23\,-24\,-11)
DTSTART;TZID=Europe/Berlin:20230423T114000
DTEND;TZID=Europe/Berlin:20230423T134000
LOCATION:Sportovní Hala Mír\, U Stadionu Míru 1579 Tábor
SUMMARY:CP-U20Z-5C: Tábor-Napajedla
END:VEVENT
BEGIN:VEVENT
UID:61666632-6432-4462-a631-353034363136
DTSTAMP:20260421T210114Z
DESCRIPTION:1/3 TJ Žichlínek\, z.s. - Tábor 2:0 (8\,28)
DTSTART;TZID=Europe/Berlin:20230422T110000
DTEND;TZID=Europe/Berlin:20230422T130000
LOCATION:SOŠ a SOU Lanškroun\, Sokolská 288 Lanškroun - Ostrovské Předměstí
SUMMARY:CP-U20Z-5C: TJ Žichlínek\, z.s.-Tábor
END:VEVENT
BEGIN:VEVENT
UID:38626337-3235-4436-a333-646231333537
DTSTAMP:20260421T210114Z
DESCRIPTION:2/4 Havlíčkův Brod - Tábor 2:0 (18\,22)
DTSTART;TZID=Europe/Berlin:20230422T122000
DTEND;TZID=Europe/Berlin:20230422T142000
LOCATION:Sportovní hala TJ Jiskra\, Ledečská 3028 Havlíčkův Brod
SUMMARY:CP-U20Z-5C: Havlíčkův Brod-Tábor
END:VEVENT
BEGIN:VEVENT
UID:36363939-6138-4034-b933-643934343632
DTSTAMP:20260421T210114Z
DESCRIPTION:4/10 SK TŘEBÍN\, z.s. - Tábor 2:0 (15\,19)
DTSTART;TZID=Europe/Berlin:20230422T150000
DTEND;TZID=Europe/Berlin:20230422T170000
LOCATION:ZŠ Máj I\, M. Chlajna 1319 České Budějovice - České Budějovice 2
SUMMARY:CP-U20Z-5C: SK TŘEBÍN\, z.s.-Tábor
END:VEVENT
END:VCALENDAR
