BEGIN:VCALENDAR
VERSION:2.0
PRODID:-//TJ VEROS Chomutov z.s.79736//NONSGML kigkonsult.se iCalcreator 2.41.80//
CALSCALE:GREGORIAN
UID:38373763-3634-4030-a336-663261383035
BEGIN:VEVENT
UID:38633638-3035-4234-b637-653534336537
DTSTAMP:20260425T181117Z
DESCRIPTION:1/3 VEROS - VK Litvínov\, z.s. 2:0 (7\,9)
DTSTART;TZID=Europe/Berlin:20221002T090000
DTEND;TZID=Europe/Berlin:20221002T110000
LOCATION:ZŠ Akademika Heyrovského Základní škola Chomutov\, Akademika Heyro
 vského 4539
SUMMARY:US-U16Z-KVAL: VEROS-VK Litvínov\, z.s.
END:VEVENT
BEGIN:VEVENT
UID:35393762-6334-4063-b633-363836303166
DTSTAMP:20260425T181117Z
DESCRIPTION:1/1 VK Jirkov - VEROS 2:0 (12\,19)
DTSTART;TZID=Europe/Berlin:20221002T090000
DTEND;TZID=Europe/Berlin:20221002T110000
LOCATION:sportovní hala MGZŠ Krušnohorská Krušnohorská 1675\, 431 11 Jirkov
SUMMARY:US-U16Z-KVAL: VK Jirkov-VEROS
END:VEVENT
BEGIN:VEVENT
UID:66386331-6330-4738-b234-356562373263
DTSTAMP:20260425T181117Z
DESCRIPTION:1/5 Tělovýchovná jednota Baník Most\, z.s. - VEROS 0:2 (-13\,-9
 )
DTSTART;TZID=Europe/Berlin:20221002T090000
DTEND;TZID=Europe/Berlin:20221002T110000
LOCATION:Sportovní Hala Most Budovatelů 112/7
SUMMARY:US-U16Z-KVAL: Tělovýchovná jednota Baník Most\, z.s.-VEROS
END:VEVENT
BEGIN:VEVENT
UID:36313738-6137-4638-a165-363632326366
DTSTAMP:20260425T181117Z
DESCRIPTION:1/4 VEROS - VK Šanov Teplice\, z.s. 0:2 (-11\,-17)
DTSTART;TZID=Europe/Berlin:20221106T090000
DTEND;TZID=Europe/Berlin:20221106T110000
LOCATION:ZŠ Akademika Heyrovského Základní škola Chomutov\, Akademika Heyro
 vského 4539
SUMMARY:US-U16Z-1: VEROS-VK Šanov Teplice\, z.s.
END:VEVENT
BEGIN:VEVENT
UID:38323333-6464-4863-a264-656161363135
DTSTAMP:20260425T181117Z
DESCRIPTION:1/7 VEROS - Volejbal Ústí nad Labem\, z.s. A 0:2 (-16\,-10)
DTSTART;TZID=Europe/Berlin:20221106T090000
DTEND;TZID=Europe/Berlin:20221106T110000
LOCATION:ZŠ Akademika Heyrovského Základní škola Chomutov\, Akademika Heyro
 vského 4539
SUMMARY:US-U16Z-1: VEROS-Volejbal Ústí nad Labem\, z.s. A
END:VEVENT
BEGIN:VEVENT
UID:61316232-6166-4431-b330-343362313037
DTSTAMP:20260425T181117Z
DESCRIPTION:1/10 VEROS - Ústí n. L. 0:2 (-11\,-17)
DTSTART;TZID=Europe/Berlin:20221106T090000
DTEND;TZID=Europe/Berlin:20221106T110000
LOCATION:ZŠ Akademika Heyrovského Základní škola Chomutov\, Akademika Heyro
 vského 4539
SUMMARY:US-U16Z-1: VEROS-Ústí n. L.
END:VEVENT
BEGIN:VEVENT
UID:36613562-6430-4136-b133-396364356138
DTSTAMP:20260425T181117Z
DESCRIPTION:1/1 VK Jirkov - VEROS 2:0 (11\,11)
DTSTART;TZID=Europe/Berlin:20221106T090000
DTEND;TZID=Europe/Berlin:20221106T110000
LOCATION:sportovní hala MGZŠ Krušnohorská Krušnohorská 1675\, 431 11 Jirkov
SUMMARY:US-U16Z-1: VK Jirkov-VEROS
END:VEVENT
BEGIN:VEVENT
UID:61376666-3563-4763-b536-613131643061
DTSTAMP:20260425T181117Z
DESCRIPTION:2/12 VEROS - VK Litvínov\, z.s. 1:2 (-17\,24\,-5)
DTSTART;TZID=Europe/Berlin:20221204T090100
DTEND;TZID=Europe/Berlin:20221204T110100
LOCATION:ZŠ Akademika Heyrovského Základní škola Chomutov\, Akademika Heyro
 vského 4539
SUMMARY:US-U16Z-2: VEROS-VK Litvínov\, z.s.
END:VEVENT
BEGIN:VEVENT
UID:37386662-6433-4134-b639-666261363163
DTSTAMP:20260425T181117Z
DESCRIPTION:2/15 VEROS - VTK Čížkovice\, z.s. 0:2 (-19\,-25)
DTSTART;TZID=Europe/Berlin:20221204T090100
DTEND;TZID=Europe/Berlin:20221204T110100
LOCATION:ZŠ Akademika Heyrovského Základní škola Chomutov\, Akademika Heyro
 vského 4539
SUMMARY:US-U16Z-2: VEROS-VTK Čížkovice\, z.s.
END:VEVENT
BEGIN:VEVENT
UID:34643631-3862-4531-b462-623737313436
DTSTAMP:20260425T181117Z
DESCRIPTION:2/14 VK Sever Žatec - VEROS 2:1 (-22\,11\,5)
DTSTART;TZID=Europe/Berlin:20221204T090100
DTEND;TZID=Europe/Berlin:20221204T110100
LOCATION:TJ Sever Žatec Plzeňská 2787
SUMMARY:US-U16Z-2: VK Sever Žatec-VEROS
END:VEVENT
BEGIN:VEVENT
UID:64633339-3134-4161-b336-613265333537
DTSTAMP:20260425T181117Z
DESCRIPTION:3/19 VEROS - SKTO Duchcov z.s. 2:0 (11\,3)
DTSTART;TZID=Europe/Berlin:20221218T090200
DTEND;TZID=Europe/Berlin:20221218T110200
LOCATION:ZŠ Akademika Heyrovského Základní škola Chomutov\, Akademika Heyro
 vského 4539
SUMMARY:US-U16Z-3: VEROS-SKTO Duchcov z.s.
END:VEVENT
BEGIN:VEVENT
UID:39643262-3830-4736-a431-323831376633
DTSTAMP:20260425T181117Z
DESCRIPTION:3/17 SK VOLEJBAL Ústí nad Labem 'B' - VEROS 0:2 (-22\,-20)
DTSTART;TZID=Europe/Berlin:20221218T090200
DTEND;TZID=Europe/Berlin:20221218T110200
LOCATION:ZŠ Stříbrnická Ústí nad Labem Stříbrnická 3031/4\, 400 11 Ústí nad
  Labem
SUMMARY:US-U16Z-3: SK VOLEJBAL Ústí nad Labem 'B'-VEROS
END:VEVENT
BEGIN:VEVENT
UID:32333835-3736-4835-b664-336566343538
DTSTAMP:20260425T181117Z
DESCRIPTION:3/21 Volejbal Ústí nad Labem\, z.s. B - VEROS 0:2 (-22\,-13)
DTSTART;TZID=Europe/Berlin:20221218T090200
DTEND;TZID=Europe/Berlin:20221218T110200
LOCATION:Gymnázium a Střední odborná škola dr. Václava Šmejkala\, Ústí nad 
 Labem Stavbařů 2857/5\, 40011 Ústí nad Labem - Severní Terasa\, Česko
SUMMARY:US-U16Z-3: Volejbal Ústí nad Labem\, z.s. B-VEROS
END:VEVENT
BEGIN:VEVENT
UID:65306265-6436-4334-a434-323637616265
DTSTAMP:20260425T181117Z
DESCRIPTION:2/13 VEROS - VTK Čížkovice\, z.s. 0:2 (-22\,-20)
DTSTART;TZID=Europe/Berlin:20230115T090100
DTEND;TZID=Europe/Berlin:20230115T110100
LOCATION:ZŠ Akademika Heyrovského Základní škola Chomutov\, Akademika Heyro
 vského 4539
SUMMARY:US-U16Z-4: VEROS-VTK Čížkovice\, z.s.
END:VEVENT
BEGIN:VEVENT
UID:32623739-6138-4966-b739-356531323236
DTSTAMP:20260425T181117Z
DESCRIPTION:2/11 VK Litvínov\, z.s. - VEROS 0:2 (-17\,-23)
DTSTART;TZID=Europe/Berlin:20230115T090100
DTEND;TZID=Europe/Berlin:20230115T110100
LOCATION:Sportovní hala Litvínov U Koldomu 2049\, 436 01 Litvínov
SUMMARY:US-U16Z-4: VK Litvínov\, z.s.-VEROS
END:VEVENT
BEGIN:VEVENT
UID:36653166-3830-4938-b636-323235363933
DTSTAMP:20260425T181117Z
DESCRIPTION:2/15 VK Šanov Teplice\, z.s. - VEROS 2:0 (17\,20)
DTSTART;TZID=Europe/Berlin:20230115T090100
DTEND;TZID=Europe/Berlin:20230115T110100
LOCATION:ZŠ Koperníkova Teplice Koperníkova 2592 \, 41501 Teplice
SUMMARY:US-U16Z-4: VK Šanov Teplice\, z.s.-VEROS
END:VEVENT
BEGIN:VEVENT
UID:37306462-6537-4230-b064-653432636230
DTSTAMP:20260425T181117Z
DESCRIPTION:2/13 VEROS - Tělovýchovná jednota Baník Most\, z.s. 2:0 (0\,0)
DTSTART;TZID=Europe/Berlin:20230129T090100
DTEND;TZID=Europe/Berlin:20230129T110100
LOCATION:ZŠ Akademika Heyrovského Základní škola Chomutov\, Akademika Heyro
 vského 4539
SUMMARY:US-U16Z-5: VEROS-Tělovýchovná jednota Baník Most\, z.s.
END:VEVENT
BEGIN:VEVENT
UID:64636539-6562-4165-b731-373563396237
DTSTAMP:20260425T181117Z
DESCRIPTION:2/11 Volejbalový sportovní klub Spartak Děčín z.s. - VEROS 2:0 
 (17\,23)
DTSTART;TZID=Europe/Berlin:20230129T090100
DTEND;TZID=Europe/Berlin:20230129T110100
LOCATION:ZŠ Dr .Míroslava Tyrše Vokolkova ul. Děčín 2
SUMMARY:US-U16Z-5: Volejbalový sportovní klub Spartak Děčín z.s.-VEROS
END:VEVENT
BEGIN:VEVENT
UID:65333466-3830-4866-a332-373662613635
DTSTAMP:20260425T181117Z
DESCRIPTION:2/15 VTK Čížkovice\, z.s. - VEROS 0:2 (-22\,-18)
DTSTART;TZID=Europe/Berlin:20230129T090100
DTEND;TZID=Europe/Berlin:20230129T110100
LOCATION:Hala při ZŠ Benešova 65\, 41112 Čížkovice
SUMMARY:US-U16Z-5: VTK Čížkovice\, z.s.-VEROS
END:VEVENT
BEGIN:VEVENT
UID:62666537-3261-4465-b266-643431303734
DTSTAMP:20260425T181117Z
DESCRIPTION:2/11 VEROS - VK Sever Žatec 2:1 (22\,-21\,11)
DTSTART;TZID=Europe/Berlin:20230402T090100
DTEND;TZID=Europe/Berlin:20230402T110100
LOCATION:ZŠ Akademika Heyrovského Základní škola Chomutov\, Akademika Heyro
 vského 4539
SUMMARY:US-U16Z-6: VEROS-VK Sever Žatec
END:VEVENT
BEGIN:VEVENT
UID:63386437-6462-4965-a331-393034333061
DTSTAMP:20260425T181117Z
DESCRIPTION:2/14 VEROS - VTK Čížkovice\, z.s. 1:2 (-20\,23\,-8)
DTSTART;TZID=Europe/Berlin:20230402T090100
DTEND;TZID=Europe/Berlin:20230402T110100
LOCATION:ZŠ Akademika Heyrovského Základní škola Chomutov\, Akademika Heyro
 vského 4539
SUMMARY:US-U16Z-6: VEROS-VTK Čížkovice\, z.s.
END:VEVENT
BEGIN:VEVENT
UID:39653866-6161-4462-b830-653666653439
DTSTAMP:20260425T181117Z
DESCRIPTION:2/16 SK VOLEJBAL Ústí nad Labem 'B' - VEROS 0:2 (-8\,-9)
DTSTART;TZID=Europe/Berlin:20230402T090100
DTEND;TZID=Europe/Berlin:20230402T110100
LOCATION:ZŠ Stříbrnická Ústí nad Labem Stříbrnická 3031/4\, 400 11 Ústí nad
  Labem
SUMMARY:US-U16Z-6: SK VOLEJBAL Ústí nad Labem 'B'-VEROS
END:VEVENT
END:VCALENDAR
