BEGIN:VCALENDAR
VERSION:2.0
PRODID:-//Tělocvičná jednota Sokol Mnichovo Hradiště79744//NONSGML kigkonsult.se iCalcreator 2.41.80//
CALSCALE:GREGORIAN
UID:37633539-6264-4366-a633-303131383530
BEGIN:VEVENT
UID:63656331-6338-4330-b263-316233373036
DTSTAMP:20260425T161745Z
DESCRIPTION:1/2 TJ Sokol Mnichovo Hradiště - TJ EMĚ Mělník B 0:2 (-11\,-8)
DTSTART;TZID=Europe/Berlin:20220924T090000
DTEND;TZID=Europe/Berlin:20220924T110000
LOCATION:Sportovní hala BIOS\, Sokolovská 254 Mnichovo Hradiště
SUMMARY:CP-U16Z-Z1B: TJ Sokol Mnichovo Hradiště-TJ EMĚ Mělník B
END:VEVENT
BEGIN:VEVENT
UID:63313137-3161-4430-a230-613764633364
DTSTAMP:20260425T161745Z
DESCRIPTION:2/5 TJ Sokol Mnichovo Hradiště - TJ Jiskra Nový Bor 2:1 (-16\,1
 4\,12)
DTSTART;TZID=Europe/Berlin:20220924T100000
DTEND;TZID=Europe/Berlin:20220924T120000
LOCATION:Sportovní hala BIOS\, Sokolovská 254 Mnichovo Hradiště
SUMMARY:CP-U16Z-Z1B: TJ Sokol Mnichovo Hradiště-TJ Jiskra Nový Bor
END:VEVENT
BEGIN:VEVENT
UID:64316633-3836-4565-a239-383035313761
DTSTAMP:20260425T161745Z
DESCRIPTION:4/8 TJ Sokol Mnichovo Hradiště - Kladno volejbal 1:2 (-12\,22\,
 -9)
DTSTART;TZID=Europe/Berlin:20220924T120000
DTEND;TZID=Europe/Berlin:20220924T140000
LOCATION:Sportovní hala BIOS\, Sokolovská 254 Mnichovo Hradiště
SUMMARY:CP-U16Z-Z1B: TJ Sokol Mnichovo Hradiště-Kladno volejbal
END:VEVENT
BEGIN:VEVENT
UID:63653734-3762-4539-b565-663233623563
DTSTAMP:20260425T161745Z
DESCRIPTION:6/13 TJ Sokol Mnichovo Hradiště - VSK Český Krumlov 0:2 (-19\,-
 9)
DTSTART;TZID=Europe/Berlin:20220924T140000
DTEND;TZID=Europe/Berlin:20220924T160000
LOCATION:Sportovní hala BIOS\, Sokolovská 254 Mnichovo Hradiště
SUMMARY:CP-U16Z-Z1B: TJ Sokol Mnichovo Hradiště-VSK Český Krumlov
END:VEVENT
BEGIN:VEVENT
UID:30623564-3234-4164-b765-363966356665
DTSTAMP:20260425T161745Z
DESCRIPTION:8/18 TJ Sokol Mnichovo Hradiště - SK Kometa Praha 0:2 (-11\,-5)
DTSTART;TZID=Europe/Berlin:20220924T160000
DTEND;TZID=Europe/Berlin:20220924T180000
LOCATION:Sportovní hala BIOS\, Sokolovská 254 Mnichovo Hradiště
SUMMARY:CP-U16Z-Z1B: TJ Sokol Mnichovo Hradiště-SK Kometa Praha
END:VEVENT
BEGIN:VEVENT
UID:38633631-3935-4432-a662-373031663134
DTSTAMP:20260425T161745Z
DESCRIPTION:10/22 SK Dansport Praha - TJ Sokol Mnichovo Hradiště 2:1 (-17\,
 18\,12)
DTSTART;TZID=Europe/Berlin:20220925T090000
DTEND;TZID=Europe/Berlin:20220925T110000
LOCATION:Sportovní hala Gymnázia Jana Keplera\, Parléřova 118 Praha - Hradč
 any
SUMMARY:CP-U16Z-Z1B: SK Dansport Praha-TJ Sokol Mnichovo Hradiště
END:VEVENT
BEGIN:VEVENT
UID:65396638-3135-4731-a536-343566303063
DTSTAMP:20260425T161745Z
DESCRIPTION:12/25 Říčany - TJ Sokol Mnichovo Hradiště 0:2 (-19\,-17)
DTSTART;TZID=Europe/Berlin:20220925T110000
DTEND;TZID=Europe/Berlin:20220925T130000
LOCATION:Sportovní hala Světice\, U Hřiště 151 Světice
SUMMARY:CP-U16Z-Z1B: Říčany-TJ Sokol Mnichovo Hradiště
END:VEVENT
BEGIN:VEVENT
UID:31386635-6334-4566-b065-336262356330
DTSTAMP:20260425T161745Z
DESCRIPTION:3/5 TJ Sokol Mnichovo Hradiště - VK Slavia Plzeň 1:2 (-13\,22\,
 -10)
DTSTART;TZID=Europe/Berlin:20221015T123000
DTEND;TZID=Europe/Berlin:20221015T143000
LOCATION:Sportovní hala BIOS\, Sokolovská 254 Mnichovo Hradiště
SUMMARY:CP-U16Z-Z2D: TJ Sokol Mnichovo Hradiště-VK Slavia Plzeň
END:VEVENT
BEGIN:VEVENT
UID:33343832-3435-4465-b434-623063326664
DTSTAMP:20260425T161745Z
DESCRIPTION:7/13 TJ Sokol Mnichovo Hradiště - VSK Baník Sokolov 0:2 (-16\,-
 11)
DTSTART;TZID=Europe/Berlin:20221015T163000
DTEND;TZID=Europe/Berlin:20221015T183000
LOCATION:Sportovní hala BIOS\, Sokolovská 254 Mnichovo Hradiště
SUMMARY:CP-U16Z-Z2D: TJ Sokol Mnichovo Hradiště-VSK Baník Sokolov
END:VEVENT
BEGIN:VEVENT
UID:36363264-3337-4765-b563-616466376432
DTSTAMP:20260425T161745Z
DESCRIPTION:10/20 TJ Sokol Mnichovo Hradiště - VSK Spartak Děčín 1:2 (19\,-
 15\,-10)
DTSTART;TZID=Europe/Berlin:20221016T111500
DTEND;TZID=Europe/Berlin:20221016T131500
LOCATION:Sportovní hala BIOS\, Sokolovská 254 Mnichovo Hradiště
SUMMARY:CP-U16Z-Z2D: TJ Sokol Mnichovo Hradiště-VSK Spartak Děčín
END:VEVENT
BEGIN:VEVENT
UID:38393861-6364-4763-b230-323463653439
DTSTAMP:20260425T161745Z
DESCRIPTION:2/4 SK Dansport Praha - TJ Sokol Mnichovo Hradiště 2:0 (21\,24)
DTSTART;TZID=Europe/Berlin:20221015T113000
DTEND;TZID=Europe/Berlin:20221015T133000
LOCATION:Sportovní hala Gymnázia Jana Keplera\, Parléřova 118 Praha - Hradč
 any
SUMMARY:CP-U16Z-Z2D: SK Dansport Praha-TJ Sokol Mnichovo Hradiště
END:VEVENT
BEGIN:VEVENT
UID:63386539-3636-4631-b732-343831323763
DTSTAMP:20260425T161745Z
DESCRIPTION:5/10 TJ Baník Příbram - TJ Sokol Mnichovo Hradiště 2:0 (25\,14)
DTSTART;TZID=Europe/Berlin:20221015T143000
DTEND;TZID=Europe/Berlin:20221015T163000
LOCATION:Tělocvična ZŠ Balbínova\, Balbínova 328 Příbram - Příbram II
SUMMARY:CP-U16Z-Z2D: TJ Baník Příbram-TJ Sokol Mnichovo Hradiště
END:VEVENT
BEGIN:VEVENT
UID:32373435-3237-4464-a434-396366353939
DTSTAMP:20260425T161745Z
DESCRIPTION:8/15 Volejbal Tábor - TJ Sokol Mnichovo Hradiště 0:2 (-17\,-16)
DTSTART;TZID=Europe/Berlin:20221016T090000
DTEND;TZID=Europe/Berlin:20221016T110000
LOCATION:Sportovní Hala Mír\, U Stadionu Míru 1579 Tábor
SUMMARY:CP-U16Z-Z2D: Volejbal Tábor-TJ Sokol Mnichovo Hradiště
END:VEVENT
BEGIN:VEVENT
UID:31613330-3833-4164-b562-616430323531
DTSTAMP:20260425T161745Z
DESCRIPTION:2/4 TJ Sokol Mnichovo Hradiště - SK TŘEBÍN\, z.s. 2:0 (14\,20)
DTSTART;TZID=Europe/Berlin:20221119T104500
DTEND;TZID=Europe/Berlin:20221119T124500
LOCATION:Sportovní hala BIOS\, Sokolovská 254 Mnichovo Hradiště
SUMMARY:CP-U16Z-Z3E: TJ Sokol Mnichovo Hradiště-SK TŘEBÍN\, z.s.
END:VEVENT
BEGIN:VEVENT
UID:33613035-3766-4436-b933-363062323735
DTSTAMP:20260425T161745Z
DESCRIPTION:3/6 TJ Sokol Mnichovo Hradiště - Volejbal Tábor 0:2 (-17\,-23)
DTSTART;TZID=Europe/Berlin:20221119T120000
DTEND;TZID=Europe/Berlin:20221119T140000
LOCATION:Sportovní hala BIOS\, Sokolovská 254 Mnichovo Hradiště
SUMMARY:CP-U16Z-Z3E: TJ Sokol Mnichovo Hradiště-Volejbal Tábor
END:VEVENT
BEGIN:VEVENT
UID:62396464-6136-4566-a232-613235663463
DTSTAMP:20260425T161745Z
DESCRIPTION:7/14 TJ Sokol Mnichovo Hradiště - TJ EMĚ Mělník A 2:0 (16\,11)
DTSTART;TZID=Europe/Berlin:20221119T170000
DTEND;TZID=Europe/Berlin:20221119T190000
LOCATION:Sportovní hala BIOS\, Sokolovská 254 Mnichovo Hradiště
SUMMARY:CP-U16Z-Z3E: TJ Sokol Mnichovo Hradiště-TJ EMĚ Mělník A
END:VEVENT
BEGIN:VEVENT
UID:36376666-3230-4839-a461-343039393863
DTSTAMP:20260425T161745Z
DESCRIPTION:5/10 SK Volejbal Kolín - TJ Sokol Mnichovo Hradiště 2:0 (20\,7)
DTSTART;TZID=Europe/Berlin:20221119T143000
DTEND;TZID=Europe/Berlin:20221119T163000
LOCATION:hala STAV\, SOŠ Kolín\, Brankovická 1417 Kolín - Kolín V
SUMMARY:CP-U16Z-Z3E: SK Volejbal Kolín-TJ Sokol Mnichovo Hradiště
END:VEVENT
BEGIN:VEVENT
UID:36383930-6131-4166-b566-636330343436
DTSTAMP:20260425T161745Z
DESCRIPTION:8/16 TJ Jiskra Nový Bor - TJ Sokol Mnichovo Hradiště 0:2 (-17\,
 -8)
DTSTART;TZID=Europe/Berlin:20221120T090000
DTEND;TZID=Europe/Berlin:20221120T110000
LOCATION:Sportovní hala Františka Arnošta Nový Bor\, U hřiště 1391 Nový Bor
SUMMARY:CP-U16Z-Z3E: TJ Jiskra Nový Bor-TJ Sokol Mnichovo Hradiště
END:VEVENT
BEGIN:VEVENT
UID:31373933-3666-4436-a364-343533313464
DTSTAMP:20260425T161745Z
DESCRIPTION:10/19 TJ Orion Praha B - TJ Sokol Mnichovo Hradiště 0:2 (-19\,-
 22)
DTSTART;TZID=Europe/Berlin:20221120T113000
DTEND;TZID=Europe/Berlin:20221120T133000
LOCATION:ZŠ Dolní Břežany\, Na Vršku 290 Dolní Břežany
SUMMARY:CP-U16Z-Z3E: TJ Orion Praha B-TJ Sokol Mnichovo Hradiště
END:VEVENT
BEGIN:VEVENT
UID:66303934-6331-4735-a430-666639393431
DTSTAMP:20260425T161745Z
DESCRIPTION:1/3 TJ Sokol Mnichovo Hradiště - Jiskra Jaroměř 2:0 (17\,17)
DTSTART;TZID=Europe/Berlin:20230121T110000
DTEND;TZID=Europe/Berlin:20230121T130000
LOCATION:Sportovní hala BIOS\, Sokolovská 254 Mnichovo Hradiště
SUMMARY:CP-U16Z-F1H: TJ Sokol Mnichovo Hradiště-Jiskra Jaroměř
END:VEVENT
BEGIN:VEVENT
UID:66343362-3566-4030-b964-336634313831
DTSTAMP:20260425T161745Z
DESCRIPTION:2/6 TJ Sokol Mnichovo Hradiště - SK Volejbal Kolín 1:2 (22\,-15
 \,-11)
DTSTART;TZID=Europe/Berlin:20230121T122000
DTEND;TZID=Europe/Berlin:20230121T142000
LOCATION:Sportovní hala BIOS\, Sokolovská 254 Mnichovo Hradiště
SUMMARY:CP-U16Z-F1H: TJ Sokol Mnichovo Hradiště-SK Volejbal Kolín
END:VEVENT
BEGIN:VEVENT
UID:31356231-3336-4339-b930-363063396632
DTSTAMP:20260425T161745Z
DESCRIPTION:5/14 TJ Sokol Mnichovo Hradiště - Volejbal Tábor 2:1 (-26\,14\,
 9)
DTSTART;TZID=Europe/Berlin:20230122T090000
DTEND;TZID=Europe/Berlin:20230122T110000
LOCATION:Sportovní hala BIOS\, Sokolovská 254 Mnichovo Hradiště
SUMMARY:CP-U16Z-F1H: TJ Sokol Mnichovo Hradiště-Volejbal Tábor
END:VEVENT
BEGIN:VEVENT
UID:39326237-6364-4538-b264-363566373166
DTSTAMP:20260425T161745Z
DESCRIPTION:3/8 VK AUSTIN Vsetín - TJ Sokol Mnichovo Hradiště 2:0 (25\,19)
DTSTART;TZID=Europe/Berlin:20230121T134000
DTEND;TZID=Europe/Berlin:20230121T154000
LOCATION:Sportovní hala Na Lapači\, Na Lapači 247 Vsetín - Rokytnice
SUMMARY:CP-U16Z-F1H: VK AUSTIN Vsetín-TJ Sokol Mnichovo Hradiště
END:VEVENT
BEGIN:VEVENT
UID:34613566-3737-4337-b730-636134356161
DTSTAMP:20260425T161745Z
DESCRIPTION:4/10 TJ Slovácká Slavia U. Hradiště - TJ Sokol Mnichovo Hradišt
 ě 0:2 (-17\,-16)
DTSTART;TZID=Europe/Berlin:20230121T150000
DTEND;TZID=Europe/Berlin:20230121T170000
LOCATION:Městská sportovní hala\, Stonky 860 Uherské Hradiště
SUMMARY:CP-U16Z-F1H: TJ Slovácká Slavia U. Hradiště-TJ Sokol Mnichovo Hradi
 ště
END:VEVENT
BEGIN:VEVENT
UID:31626263-3734-4463-a231-396536653434
DTSTAMP:20260425T161745Z
DESCRIPTION:6/18 Říčany - TJ Sokol Mnichovo Hradiště 1:2 (14\,-14\,-11)
DTSTART;TZID=Europe/Berlin:20230122T102000
DTEND;TZID=Europe/Berlin:20230122T122000
LOCATION:Sportovní hala Světice\, U Hřiště 151 Světice
SUMMARY:CP-U16Z-F1H: Říčany-TJ Sokol Mnichovo Hradiště
END:VEVENT
BEGIN:VEVENT
UID:35353834-3166-4337-b864-613334303935
DTSTAMP:20260425T161745Z
DESCRIPTION:2/2 TJ Sokol Mnichovo Hradiště - TJ Jiskra Nový Bor 1:2 (23\,-2
 1\,-12)\nUrbančík\, Šůchová
DTSTART;TZID=Europe/Berlin:20230218T101500
DTEND;TZID=Europe/Berlin:20230218T121500
LOCATION:Sportovní hala BIOS\, Sokolovská 254 Mnichovo Hradiště
SUMMARY:CP-U16Z-F2H: TJ Sokol Mnichovo Hradiště-TJ Jiskra Nový Bor
END:VEVENT
BEGIN:VEVENT
UID:65396261-6536-4539-b064-373031393166
DTSTAMP:20260425T161745Z
DESCRIPTION:5/7 TJ Sokol Mnichovo Hradiště - VK AUSTIN Vsetín 2:1 (-25\,20\
 ,9)\nUrbančík\, Šůchová
DTSTART;TZID=Europe/Berlin:20230218T140000
DTEND;TZID=Europe/Berlin:20230218T160000
LOCATION:Sportovní hala BIOS\, Sokolovská 254 Mnichovo Hradiště
SUMMARY:CP-U16Z-F2H: TJ Sokol Mnichovo Hradiště-VK AUSTIN Vsetín
END:VEVENT
BEGIN:VEVENT
UID:61616430-3532-4066-a339-663436656565
DTSTAMP:20260425T161745Z
DESCRIPTION:9/15 TJ Sokol Mnichovo Hradiště - SK TŘEBÍN\, z.s. 2:0 (21\,23)
 \nUrbančík\, Šůchová
DTSTART;TZID=Europe/Berlin:20230219T101500
DTEND;TZID=Europe/Berlin:20230219T121500
LOCATION:Sportovní hala BIOS\, Sokolovská 254 Mnichovo Hradiště
SUMMARY:CP-U16Z-F2H: TJ Sokol Mnichovo Hradiště-SK TŘEBÍN\, z.s.
END:VEVENT
BEGIN:VEVENT
UID:32333538-6335-4738-a366-363064343636
DTSTAMP:20260425T161745Z
DESCRIPTION:4/5 TJ ABC Braník - TJ Sokol Mnichovo Hradiště 2:1 (14\,-18\,11
 )\nUrbančík\, Šůchová
DTSTART;TZID=Europe/Berlin:20230218T124500
DTEND;TZID=Europe/Berlin:20230218T144500
LOCATION:Sokolovna Braník\, Branická 275 Praha - Braník
SUMMARY:CP-U16Z-F2H: TJ ABC Braník-TJ Sokol Mnichovo Hradiště
END:VEVENT
BEGIN:VEVENT
UID:31366339-6365-4230-a238-363039646137
DTSTAMP:20260425T161745Z
DESCRIPTION:10/16 Mikulova B - TJ Sokol Mnichovo Hradiště 2:0 (18\,17)\nPos
 píšilová J.
DTSTART;TZID=Europe/Berlin:20230219T113000
DTEND;TZID=Europe/Berlin:20230219T133000
LOCATION:tělocvičny ZŠ Mikulova\, Mikulova 1594 Praha - Chodov
SUMMARY:CP-U16Z-F2H: Mikulova B-TJ Sokol Mnichovo Hradiště
END:VEVENT
BEGIN:VEVENT
UID:64306239-6538-4437-b733-356239343565
DTSTAMP:20260425T161745Z
DESCRIPTION:12/21 Volejbal Tábor - TJ Sokol Mnichovo Hradiště 0:2 (-17\,-20
 )\nUrbančík\, Šůchová
DTSTART;TZID=Europe/Berlin:20230219T140000
DTEND;TZID=Europe/Berlin:20230219T160000
LOCATION:Sportovní Hala Mír\, U Stadionu Míru 1579 Tábor
SUMMARY:CP-U16Z-F2H: Volejbal Tábor-TJ Sokol Mnichovo Hradiště
END:VEVENT
BEGIN:VEVENT
UID:31373333-3063-4064-a265-316238353563
DTSTAMP:20260425T161745Z
DESCRIPTION:1/2 TJ Sokol Mnichovo Hradiště - TJ Orion Praha B 0:2 (-18\,-10
 )\nhřiště 2\, Kostelec/O.\, hala SZeŠ
DTSTART;TZID=Europe/Berlin:20230318T113000
DTEND;TZID=Europe/Berlin:20230318T133000
LOCATION:Sportovní hala BIOS\, Sokolovská 254 Mnichovo Hradiště
SUMMARY:CP-U16Z-F3H: TJ Sokol Mnichovo Hradiště-TJ Orion Praha B
END:VEVENT
BEGIN:VEVENT
UID:66343334-3263-4831-b862-306238656666
DTSTAMP:20260425T161745Z
DESCRIPTION:3/9 TJ Sokol Mnichovo Hradiště - SK Dansport Praha 0:2 (-22\,-2
 2)
DTSTART;TZID=Europe/Berlin:20230318T160000
DTEND;TZID=Europe/Berlin:20230318T180000
LOCATION:Sportovní hala BIOS\, Sokolovská 254 Mnichovo Hradiště
SUMMARY:CP-U16Z-F3H: TJ Sokol Mnichovo Hradiště-SK Dansport Praha
END:VEVENT
BEGIN:VEVENT
UID:31653863-3339-4431-b037-663735313365
DTSTAMP:20260425T161745Z
DESCRIPTION:5/14 TJ Sokol Mnichovo Hradiště - TJ Jiskra H. Brod 0:2 (-17\,-
 19)
DTSTART;TZID=Europe/Berlin:20230319T121500
DTEND;TZID=Europe/Berlin:20230319T141500
LOCATION:Sportovní hala BIOS\, Sokolovská 254 Mnichovo Hradiště
SUMMARY:CP-U16Z-F3H: TJ Sokol Mnichovo Hradiště-TJ Jiskra H. Brod
END:VEVENT
BEGIN:VEVENT
UID:32326233-3030-4536-a165-343639316231
DTSTAMP:20260425T161745Z
DESCRIPTION:2/6 Jiskra Jaroměř - TJ Sokol Mnichovo Hradiště 1:2 (13\,-10\,-
 11)
DTSTART;TZID=Europe/Berlin:20230318T140000
DTEND;TZID=Europe/Berlin:20230318T160000
LOCATION:Hala SŠŘ\, Na Karlově 798 Jaroměř - Pražské Předměstí
SUMMARY:CP-U16Z-F3H: Jiskra Jaroměř-TJ Sokol Mnichovo Hradiště
END:VEVENT
BEGIN:VEVENT
UID:39396137-3134-4062-a633-616562356164
DTSTAMP:20260425T161745Z
DESCRIPTION:4/11 Volejbal Tábor - TJ Sokol Mnichovo Hradiště 1:2 (16\,-18\,
 -10)
DTSTART;TZID=Europe/Berlin:20230319T094500
DTEND;TZID=Europe/Berlin:20230319T114500
LOCATION:Sportovní Hala Mír\, U Stadionu Míru 1579 Tábor
SUMMARY:CP-U16Z-F3H: Volejbal Tábor-TJ Sokol Mnichovo Hradiště
END:VEVENT
END:VCALENDAR
