BEGIN:VCALENDAR
VERSION:2.0
PRODID:-//Tělovýchovná jednota Jiskra Jaroměř, z.s.79763//NONSGML kigkonsult.se iCalcreator 2.41.80//
CALSCALE:GREGORIAN
UID:31616566-6139-4136-b562-623634353663
BEGIN:VEVENT
UID:66353062-6437-4330-b065-353065376261
DTSTAMP:20260425T105306Z
DESCRIPTION:7/12 Jiskra Jaroměř - VK Brno\, Vejrostova 2:0 (21\,22)
DTSTART;TZID=Europe/Berlin:20220924T160000
DTEND;TZID=Europe/Berlin:20220924T180000
LOCATION:Hala SŠŘ\, Na Karlově 798 Jaroměř - Pražské Předměstí
SUMMARY:CP-U16Z-V1B: Jiskra Jaroměř-VK Brno\, Vejrostova
END:VEVENT
BEGIN:VEVENT
UID:64666166-6664-4232-b338-656262653434
DTSTAMP:20260425T105306Z
DESCRIPTION:9/15 Jiskra Jaroměř - TJ Žďár nad Sázavou 2:0 (26\,23)
DTSTART;TZID=Europe/Berlin:20220925T090000
DTEND;TZID=Europe/Berlin:20220925T110000
LOCATION:Hala SŠŘ\, Na Karlově 798 Jaroměř - Pražské Předměstí
SUMMARY:CP-U16Z-V1B: Jiskra Jaroměř-TJ Žďár nad Sázavou
END:VEVENT
BEGIN:VEVENT
UID:37636264-3638-4530-a633-313636373838
DTSTAMP:20260425T105306Z
DESCRIPTION:11/18 Jiskra Jaroměř - VK Valašské Meziříčí 0:2 (-20\,-7)
DTSTART;TZID=Europe/Berlin:20220925T110000
DTEND;TZID=Europe/Berlin:20220925T130000
LOCATION:Hala SŠŘ\, Na Karlově 798 Jaroměř - Pražské Předměstí
SUMMARY:CP-U16Z-V1B: Jiskra Jaroměř-VK Valašské Meziříčí
END:VEVENT
BEGIN:VEVENT
UID:30346130-3931-4366-a533-383861323138
DTSTAMP:20260425T105306Z
DESCRIPTION:1/1 TJ Slavia H. Králové - Jiskra Jaroměř 2:0 (10\,7)
DTSTART;TZID=Europe/Berlin:20220924T100000
DTEND;TZID=Europe/Berlin:20220924T120000
LOCATION:TJ Slavia Hradec Králové\, Víta Nejedlého 1216 Hradec Králové
SUMMARY:CP-U16Z-V1B: TJ Slavia H. Králové-Jiskra Jaroměř
END:VEVENT
BEGIN:VEVENT
UID:36333165-3461-4230-a563-323537633066
DTSTAMP:20260425T105306Z
DESCRIPTION:2/3 KP Brno A - Jiskra Jaroměř 2:0 (9\,13)
DTSTART;TZID=Europe/Berlin:20220924T110000
DTEND;TZID=Europe/Berlin:20220924T130000
LOCATION:Sportovní gymnázium Ludvíka Daňka\, Botanická 63 Brno - Ponava
SUMMARY:CP-U16Z-V1B: KP Brno A-Jiskra Jaroměř
END:VEVENT
BEGIN:VEVENT
UID:34393765-3632-4435-b064-616130643966
DTSTAMP:20260425T105306Z
DESCRIPTION:5/9 VK Znojmo - Přímětice - Jiskra Jaroměř 2:0 (11\,21)
DTSTART;TZID=Europe/Berlin:20220924T140000
DTEND;TZID=Europe/Berlin:20220924T160000
LOCATION:Tělocvična ZŠ Prokopa Diviše a MŠ\, Ke Škole 569 Znojmo - Přímětic
 e
SUMMARY:CP-U16Z-V1B: VK Znojmo - Přímětice-Jiskra Jaroměř
END:VEVENT
BEGIN:VEVENT
UID:33323733-3465-4636-b365-356237383565
DTSTAMP:20260425T105306Z
DESCRIPTION:1/2 Jiskra Jaroměř - TJ Sokol Pardubice I. 0:2 (-23\,-9)
DTSTART;TZID=Europe/Berlin:20221015T090000
DTEND;TZID=Europe/Berlin:20221015T110000
LOCATION:Hala SŠŘ\, Na Karlově 798 Jaroměř - Pražské Předměstí
SUMMARY:CP-U16Z-V2C: Jiskra Jaroměř-TJ Sokol Pardubice I.
END:VEVENT
BEGIN:VEVENT
UID:66626433-6263-4164-a430-636262666437
DTSTAMP:20260425T105306Z
DESCRIPTION:3/5 Jiskra Jaroměř - Loko Fosfa Břeclav 1:2 (14\,-12\,-9)
DTSTART;TZID=Europe/Berlin:20221015T113000
DTEND;TZID=Europe/Berlin:20221015T133000
LOCATION:Hala SŠŘ\, Na Karlově 798 Jaroměř - Pražské Předměstí
SUMMARY:CP-U16Z-V2C: Jiskra Jaroměř-Loko Fosfa Břeclav
END:VEVENT
BEGIN:VEVENT
UID:39623633-3135-4533-b434-306235646437
DTSTAMP:20260425T105306Z
DESCRIPTION:6/9 Jiskra Jaroměř - TJ Sokol Předklášteří 0:2 (-12\,-17)
DTSTART;TZID=Europe/Berlin:20221015T153000
DTEND;TZID=Europe/Berlin:20221015T173000
LOCATION:Hala SŠŘ\, Na Karlově 798 Jaroměř - Pražské Předměstí
SUMMARY:CP-U16Z-V2C: Jiskra Jaroměř-TJ Sokol Předklášteří
END:VEVENT
BEGIN:VEVENT
UID:66336534-6333-4261-b836-393163303761
DTSTAMP:20260425T105306Z
DESCRIPTION:4/6 KP Brno B - Jiskra Jaroměř 2:1 (20\,-24\,10)
DTSTART;TZID=Europe/Berlin:20221015T124500
DTEND;TZID=Europe/Berlin:20221015T144500
LOCATION:Sportovní gymnázium Ludvíka Daňka\, Botanická 63 Brno - Ponava
SUMMARY:CP-U16Z-V2C: KP Brno B-Jiskra Jaroměř
END:VEVENT
BEGIN:VEVENT
UID:64653232-3731-4337-b065-643165376234
DTSTAMP:20260425T105306Z
DESCRIPTION:12/18 ŠSK Bílovec - Jiskra Jaroměř 2:0 (12\,8)
DTSTART;TZID=Europe/Berlin:20221016T110000
DTEND;TZID=Europe/Berlin:20221016T130000
LOCATION:Hala ZŠ Komenského\, Komenského 701 Bílovec
SUMMARY:CP-U16Z-V2C: ŠSK Bílovec-Jiskra Jaroměř
END:VEVENT
BEGIN:VEVENT
UID:64376436-3937-4638-b062-376437363537
DTSTAMP:20260425T105306Z
DESCRIPTION:14/21 RÉMA Rychnov - Jiskra Jaroměř 2:0 (16\,20)
DTSTART;TZID=Europe/Berlin:20221016T130000
DTEND;TZID=Europe/Berlin:20221016T150000
LOCATION:VOŠ a SŠ zem.\, Komenského 873 Kostelec nad Orlicí
SUMMARY:CP-U16Z-V2C: RÉMA Rychnov-Jiskra Jaroměř
END:VEVENT
BEGIN:VEVENT
UID:30323536-3333-4139-a536-373162356230
DTSTAMP:20260425T105306Z
DESCRIPTION:1/1 Jiskra Jaroměř - VK Napajedla 2:0 (18\,8)
DTSTART;TZID=Europe/Berlin:20221119T100000
DTEND;TZID=Europe/Berlin:20221119T120000
LOCATION:Hala SŠŘ\, Na Karlově 798 Jaroměř - Pražské Předměstí
SUMMARY:CP-U16Z-V3D: Jiskra Jaroměř-VK Napajedla
END:VEVENT
BEGIN:VEVENT
UID:39303361-6232-4565-a265-313763643033
DTSTAMP:20260425T105306Z
DESCRIPTION:2/4 Jiskra Jaroměř - Loko Fosfa Břeclav 0:2 (-20\,-11)
DTSTART;TZID=Europe/Berlin:20221119T111500
DTEND;TZID=Europe/Berlin:20221119T131500
LOCATION:Hala SŠŘ\, Na Karlově 798 Jaroměř - Pražské Předměstí
SUMMARY:CP-U16Z-V3D: Jiskra Jaroměř-Loko Fosfa Břeclav
END:VEVENT
BEGIN:VEVENT
UID:64393361-3330-4861-a332-363439653931
DTSTAMP:20260425T105306Z
DESCRIPTION:5/14 Jiskra Jaroměř - VK AUSTIN Vsetín 1:2 (15\,-24\,-9)
DTSTART;TZID=Europe/Berlin:20221119T140000
DTEND;TZID=Europe/Berlin:20221119T160000
LOCATION:Hala SŠŘ\, Na Karlově 798 Jaroměř - Pražské Předměstí
SUMMARY:CP-U16Z-V3D: Jiskra Jaroměř-VK AUSTIN Vsetín
END:VEVENT
BEGIN:VEVENT
UID:66643633-3634-4336-b830-363137633733
DTSTAMP:20260425T105306Z
DESCRIPTION:6/15 VK Brno\, Vejrostova - Jiskra Jaroměř 1:2 (-23\,21\,-6)
DTSTART;TZID=Europe/Berlin:20221119T151500
DTEND;TZID=Europe/Berlin:20221119T171500
LOCATION:ZŠ Vejrostova\, Vejrostova 1066 Brno - Bystrc
SUMMARY:CP-U16Z-V3D: VK Brno\, Vejrostova-Jiskra Jaroměř
END:VEVENT
BEGIN:VEVENT
UID:31626531-6432-4165-a339-336237663761
DTSTAMP:20260425T105306Z
DESCRIPTION:8/20 TJ Slovácká Slavia U. Hradiště - Jiskra Jaroměř 2:0 (24\,1
 9)
DTSTART;TZID=Europe/Berlin:20221120T111500
DTEND;TZID=Europe/Berlin:20221120T131500
LOCATION:Městská sportovní hala\, Stonky 860 Uherské Hradiště
SUMMARY:CP-U16Z-V3D: TJ Slovácká Slavia U. Hradiště-Jiskra Jaroměř
END:VEVENT
BEGIN:VEVENT
UID:61353432-6566-4930-a639-393361343230
DTSTAMP:20260425T105306Z
DESCRIPTION:9/23 TJ Žďár nad Sázavou - Jiskra Jaroměř 0:2 (-20\,-22)
DTSTART;TZID=Europe/Berlin:20221120T123000
DTEND;TZID=Europe/Berlin:20221120T143000
LOCATION:ZŠ Palachova\, Palachova 1757 Žďár nad Sázavou - Žďár nad Sázavou 
 6
SUMMARY:CP-U16Z-V3D: TJ Žďár nad Sázavou-Jiskra Jaroměř
END:VEVENT
BEGIN:VEVENT
UID:37626132-6137-4163-b138-323064623464
DTSTAMP:20260425T105306Z
DESCRIPTION:10/28 TJ Jiskra H. Brod - Jiskra Jaroměř 2:0 (21\,20)
DTSTART;TZID=Europe/Berlin:20221120T134500
DTEND;TZID=Europe/Berlin:20221120T154500
LOCATION:Tělocvična OA a hotelové školy\, Bratříků 851 Havlíčkův Brod
SUMMARY:CP-U16Z-V3D: TJ Jiskra H. Brod-Jiskra Jaroměř
END:VEVENT
BEGIN:VEVENT
UID:34656265-6230-4339-b665-356636303961
DTSTAMP:20260425T105306Z
DESCRIPTION:3/9 Jiskra Jaroměř - SK Volejbal Kolín 0:2 (-16\,-14)
DTSTART;TZID=Europe/Berlin:20230121T134000
DTEND;TZID=Europe/Berlin:20230121T154000
LOCATION:Hala SŠŘ\, Na Karlově 798 Jaroměř - Pražské Předměstí
SUMMARY:CP-U16Z-F1H: Jiskra Jaroměř-SK Volejbal Kolín
END:VEVENT
BEGIN:VEVENT
UID:35653131-3662-4336-a132-336130346335
DTSTAMP:20260425T105306Z
DESCRIPTION:6/16 Jiskra Jaroměř - Volejbal Tábor 1:2 (19\,-22\,-11)
DTSTART;TZID=Europe/Berlin:20230122T102000
DTEND;TZID=Europe/Berlin:20230122T122000
LOCATION:Hala SŠŘ\, Na Karlově 798 Jaroměř - Pražské Předměstí
SUMMARY:CP-U16Z-F1H: Jiskra Jaroměř-Volejbal Tábor
END:VEVENT
BEGIN:VEVENT
UID:32656536-6238-4364-b533-663065376437
DTSTAMP:20260425T105306Z
DESCRIPTION:7/19 Jiskra Jaroměř - TJ Slovácká Slavia U. Hradiště 2:0 (22\,1
 5)
DTSTART;TZID=Europe/Berlin:20230122T114000
DTEND;TZID=Europe/Berlin:20230122T134000
LOCATION:Hala SŠŘ\, Na Karlově 798 Jaroměř - Pražské Předměstí
SUMMARY:CP-U16Z-F1H: Jiskra Jaroměř-TJ Slovácká Slavia U. Hradiště
END:VEVENT
BEGIN:VEVENT
UID:63393338-6361-4062-b834-393530343937
DTSTAMP:20260425T105306Z
DESCRIPTION:1/3 TJ Sokol Mnichovo Hradiště - Jiskra Jaroměř 2:0 (17\,17)
DTSTART;TZID=Europe/Berlin:20230121T110000
DTEND;TZID=Europe/Berlin:20230121T130000
LOCATION:Sportovní hala BIOS\, Sokolovská 254 Mnichovo Hradiště
SUMMARY:CP-U16Z-F1H: TJ Sokol Mnichovo Hradiště-Jiskra Jaroměř
END:VEVENT
BEGIN:VEVENT
UID:32316432-3032-4835-b265-396338363138
DTSTAMP:20260425T105306Z
DESCRIPTION:2/5 VK AUSTIN Vsetín - Jiskra Jaroměř 2:0 (25\,14)
DTSTART;TZID=Europe/Berlin:20230121T122000
DTEND;TZID=Europe/Berlin:20230121T142000
LOCATION:Sportovní hala Na Lapači\, Na Lapači 247 Vsetín - Rokytnice
SUMMARY:CP-U16Z-F1H: VK AUSTIN Vsetín-Jiskra Jaroměř
END:VEVENT
BEGIN:VEVENT
UID:36303561-3962-4232-a265-396132613533
DTSTAMP:20260425T105306Z
DESCRIPTION:5/15 Říčany - Jiskra Jaroměř 2:0 (21\,15)
DTSTART;TZID=Europe/Berlin:20230122T090000
DTEND;TZID=Europe/Berlin:20230122T110000
LOCATION:Sportovní hala Světice\, U Hřiště 151 Světice
SUMMARY:CP-U16Z-F1H: Říčany-Jiskra Jaroměř
END:VEVENT
BEGIN:VEVENT
UID:30393434-3165-4163-a433-656535643835
DTSTAMP:20260425T105306Z
DESCRIPTION:1/1 Jiskra Jaroměř - VK Napajedla 2:0 (22\,16)
DTSTART;TZID=Europe/Berlin:20230218T093000
DTEND;TZID=Europe/Berlin:20230218T113000
LOCATION:Hala SŠŘ\, Na Karlově 798 Jaroměř - Pražské Předměstí
SUMMARY:CP-U16Z-F2I: Jiskra Jaroměř-VK Napajedla
END:VEVENT
BEGIN:VEVENT
UID:32623038-3231-4337-a132-636461313765
DTSTAMP:20260425T105306Z
DESCRIPTION:3/6 Jiskra Jaroměř - TJ Žďár nad Sázavou 2:0 (19\,21)
DTSTART;TZID=Europe/Berlin:20230218T121500
DTEND;TZID=Europe/Berlin:20230218T141500
LOCATION:Hala SŠŘ\, Na Karlově 798 Jaroměř - Pražské Předměstí
SUMMARY:CP-U16Z-F2I: Jiskra Jaroměř-TJ Žďár nad Sázavou
END:VEVENT
BEGIN:VEVENT
UID:63363139-3438-4437-a666-343235363634
DTSTAMP:20260425T105306Z
DESCRIPTION:7/14 Jiskra Jaroměř - TJ Orion Praha B 2:0 (18\,23)
DTSTART;TZID=Europe/Berlin:20230218T171500
DTEND;TZID=Europe/Berlin:20230218T191500
LOCATION:Hala SŠŘ\, Na Karlově 798 Jaroměř - Pražské Předměstí
SUMMARY:CP-U16Z-F2I: Jiskra Jaroměř-TJ Orion Praha B
END:VEVENT
BEGIN:VEVENT
UID:65336130-3561-4536-a464-653661656536
DTSTAMP:20260425T105306Z
DESCRIPTION:4/8 VK Brno\, Vejrostova - Jiskra Jaroměř 2:1 (22\,-16\,12)
DTSTART;TZID=Europe/Berlin:20230218T133000
DTEND;TZID=Europe/Berlin:20230218T153000
LOCATION:ZŠ Vejrostova\, Vejrostova 1066 Brno - Bystrc
SUMMARY:CP-U16Z-F2I: VK Brno\, Vejrostova-Jiskra Jaroměř
END:VEVENT
BEGIN:VEVENT
UID:64373065-6363-4837-a265-643637313537
DTSTAMP:20260425T105306Z
DESCRIPTION:8/16 TJ EMĚ Mělník A - Jiskra Jaroměř 0:2 (-17\,-21)
DTSTART;TZID=Europe/Berlin:20230219T083000
DTEND;TZID=Europe/Berlin:20230219T103000
LOCATION:Tělocvična ZŠ J. Matiegky\, Pražská 2817 Mělník
SUMMARY:CP-U16Z-F2I: TJ EMĚ Mělník A-Jiskra Jaroměř
END:VEVENT
BEGIN:VEVENT
UID:36316164-6663-4165-a163-373165663863
DTSTAMP:20260425T105306Z
DESCRIPTION:10/20 TJ Slovácká Slavia U. Hradiště - Jiskra Jaroměř 1:2 (-20\
 ,11\,-8)
DTSTART;TZID=Europe/Berlin:20230219T113000
DTEND;TZID=Europe/Berlin:20230219T133000
LOCATION:Městská sportovní hala\, Stonky 860 Uherské Hradiště
SUMMARY:CP-U16Z-F2I: TJ Slovácká Slavia U. Hradiště-Jiskra Jaroměř
END:VEVENT
BEGIN:VEVENT
UID:32393163-3238-4164-a131-396562316335
DTSTAMP:20260425T105306Z
DESCRIPTION:2/6 Jiskra Jaroměř - TJ Sokol Mnichovo Hradiště 1:2 (13\,-10\,-
 11)
DTSTART;TZID=Europe/Berlin:20230318T140000
DTEND;TZID=Europe/Berlin:20230318T160000
LOCATION:Hala SŠŘ\, Na Karlově 798 Jaroměř - Pražské Předměstí
SUMMARY:CP-U16Z-F3H: Jiskra Jaroměř-TJ Sokol Mnichovo Hradiště
END:VEVENT
BEGIN:VEVENT
UID:36613839-3262-4463-a131-396234626432
DTSTAMP:20260425T105306Z
DESCRIPTION:5/15 Jiskra Jaroměř - Volejbal Tábor 1:2 (24\,-25\,-11)
DTSTART;TZID=Europe/Berlin:20230319T121500
DTEND;TZID=Europe/Berlin:20230319T141500
LOCATION:Hala SŠŘ\, Na Karlově 798 Jaroměř - Pražské Předměstí
SUMMARY:CP-U16Z-F3H: Jiskra Jaroměř-Volejbal Tábor
END:VEVENT
BEGIN:VEVENT
UID:64303535-3062-4739-b230-343964613731
DTSTAMP:20260425T105306Z
DESCRIPTION:1/3 TJ Jiskra H. Brod - Jiskra Jaroměř 0:2 (-22\,-17)\nhřiště 1
 \, Kostelec/O.\, hala SZeŠ
DTSTART;TZID=Europe/Berlin:20230318T113000
DTEND;TZID=Europe/Berlin:20230318T133000
LOCATION:Tělocvična OA a hotelové školy\, Bratříků 851 Havlíčkův Brod
SUMMARY:CP-U16Z-F3H: TJ Jiskra H. Brod-Jiskra Jaroměř
END:VEVENT
BEGIN:VEVENT
UID:39616437-3366-4130-b233-333735656631
DTSTAMP:20260425T105306Z
DESCRIPTION:3/8 TJ Orion Praha B - Jiskra Jaroměř 1:2 (-12\,17\,-11)
DTSTART;TZID=Europe/Berlin:20230318T160000
DTEND;TZID=Europe/Berlin:20230318T180000
LOCATION:ZŠ Dolní Břežany\, Na Vršku 290 Dolní Břežany
SUMMARY:CP-U16Z-F3H: TJ Orion Praha B-Jiskra Jaroměř
END:VEVENT
BEGIN:VEVENT
UID:33366536-6164-4364-b734-643039383163
DTSTAMP:20260425T105306Z
DESCRIPTION:4/10 SK Dansport Praha - Jiskra Jaroměř 2:0 (13\,17)
DTSTART;TZID=Europe/Berlin:20230319T094500
DTEND;TZID=Europe/Berlin:20230319T114500
LOCATION:Sportovní hala Gymnázia Jana Keplera\, Parléřova 118 Praha - Hradč
 any
SUMMARY:CP-U16Z-F3H: SK Dansport Praha-Jiskra Jaroměř
END:VEVENT
END:VCALENDAR
