BEGIN:VCALENDAR
VERSION:2.0
PRODID:-//Volejbalový klub mládeže Nová Paka79764//NONSGML kigkonsult.se iCalcreator 2.41.80//
CALSCALE:GREGORIAN
UID:34393436-6165-4561-a366-343438333864
BEGIN:VEVENT
UID:64323366-3739-4331-b435-653063346464
DTSTAMP:20260422T001313Z
DESCRIPTION:2/12 Nová Paka - Hradec Králové 0:2 (-16\,-14)
DTSTART;TZID=Europe/Berlin:20220928T120000
DTEND;TZID=Europe/Berlin:20220928T140000
LOCATION:ZŠ Husitská\, O. Číly 1933 Nová Paka
SUMMARY:HK-U16M: Nová Paka-Hradec Králové
END:VEVENT
BEGIN:VEVENT
UID:34353134-3038-4639-b461-313636376661
DTSTAMP:20260422T001313Z
DESCRIPTION:3/16 Nová Paka - Hradec Králové 0:2 (-10\,-21)
DTSTART;TZID=Europe/Berlin:20221009T120000
DTEND;TZID=Europe/Berlin:20221009T140000
LOCATION:ZŠ Husitská\, O. Číly 1933 Nová Paka
SUMMARY:HK-U16M: Nová Paka-Hradec Králové
END:VEVENT
BEGIN:VEVENT
UID:32316138-6364-4136-b834-626531323263
DTSTAMP:20260422T001313Z
DESCRIPTION:4/19 Nová Paka - Slavia HK B 2:0 (13\,7)\nN. Paka
DTSTART;TZID=Europe/Berlin:20221113T100000
DTEND;TZID=Europe/Berlin:20221113T120000
LOCATION:ZŠ Husitská\, O. Číly 1933 Nová Paka
SUMMARY:HK-U16M: Nová Paka-Slavia HK B
END:VEVENT
BEGIN:VEVENT
UID:61643762-3530-4432-b938-366236306138
DTSTAMP:20260422T001313Z
DESCRIPTION:4/22 Nová Paka - Třebechovice 0:2 (-13\,-21)
DTSTART;TZID=Europe/Berlin:20221113T110000
DTEND;TZID=Europe/Berlin:20221113T130000
LOCATION:ZŠ Husitská\, O. Číly 1933 Nová Paka
SUMMARY:HK-U16M: Nová Paka-Třebechovice
END:VEVENT
BEGIN:VEVENT
UID:31336235-6665-4630-b737-653939393836
DTSTAMP:20260422T001313Z
DESCRIPTION:5/29 Nová Paka - Rychnov n. K. 0:2 (-11\,-8)
DTSTART;TZID=Europe/Berlin:20221211T120000
DTEND;TZID=Europe/Berlin:20221211T140000
LOCATION:ZŠ Husitská\, O. Číly 1933 Nová Paka
SUMMARY:HK-U16M: Nová Paka-Rychnov n. K.
END:VEVENT
BEGIN:VEVENT
UID:31383533-3639-4433-a136-396333353261
DTSTAMP:20260422T001313Z
DESCRIPTION:2/8 Třebechovice - Nová Paka 2:0 (23\,9)
DTSTART;TZID=Europe/Berlin:20220928T100000
DTEND;TZID=Europe/Berlin:20220928T120000
LOCATION:Sokolovna\, Heldovo náměstí 574 Třebechovice pod Orebem
SUMMARY:HK-U16M: Třebechovice-Nová Paka
END:VEVENT
BEGIN:VEVENT
UID:64323364-6634-4537-a436-366339666531
DTSTAMP:20260422T001313Z
DESCRIPTION:2/9 Slavia HK B - Nová Paka 0:2 (-17\,-22)
DTSTART;TZID=Europe/Berlin:20220928T110000
DTEND;TZID=Europe/Berlin:20220928T130000
LOCATION:TJ Slavia Hradec Králové\, Víta Nejedlého 1216 Hradec Králové
SUMMARY:HK-U16M: Slavia HK B-Nová Paka
END:VEVENT
BEGIN:VEVENT
UID:64663435-3833-4561-b933-333663383136
DTSTAMP:20260422T001313Z
DESCRIPTION:3/15 Rychnov n. K. - Nová Paka 2:0 (8\,7)
DTSTART;TZID=Europe/Berlin:20221009T110000
DTEND;TZID=Europe/Berlin:20221009T130000
LOCATION:Hala VOŠ a SPŠS\, U Stadionu 1166 Rychnov nad Kněžnou
SUMMARY:HK-U16M: Rychnov n. K.-Nová Paka
END:VEVENT
BEGIN:VEVENT
UID:33373239-3938-4064-a335-393239346133
DTSTAMP:20260422T001313Z
DESCRIPTION:3/18 Třebechovice - Nová Paka 2:0 (14\,20)
DTSTART;TZID=Europe/Berlin:20221009T140000
DTEND;TZID=Europe/Berlin:20221009T160000
LOCATION:Sokolovna\, Heldovo náměstí 574 Třebechovice pod Orebem
SUMMARY:HK-U16M: Třebechovice-Nová Paka
END:VEVENT
BEGIN:VEVENT
UID:38383936-6161-4736-a362-623965353535
DTSTAMP:20260422T001313Z
DESCRIPTION:4/24 Rychnov n. K. - Nová Paka 2:0 (7\,12)
DTSTART;TZID=Europe/Berlin:20221113T120000
DTEND;TZID=Europe/Berlin:20221113T140000
LOCATION:Hala VOŠ a SPŠS\, U Stadionu 1166 Rychnov nad Kněžnou
SUMMARY:HK-U16M: Rychnov n. K.-Nová Paka
END:VEVENT
BEGIN:VEVENT
UID:37383331-6166-4232-b339-616536343364
DTSTAMP:20260422T001313Z
DESCRIPTION:5/27 Slavia HK B - Nová Paka 2:1 (-21\,20\,15)
DTSTART;TZID=Europe/Berlin:20221211T100000
DTEND;TZID=Europe/Berlin:20221211T120000
LOCATION:TJ Slavia Hradec Králové\, Víta Nejedlého 1216 Hradec Králové
SUMMARY:HK-U16M: Slavia HK B-Nová Paka
END:VEVENT
BEGIN:VEVENT
UID:34656238-3832-4033-b633-316239623665
DTSTAMP:20260422T001313Z
DESCRIPTION:5/28 Hradec Králové - Nová Paka 2:0 (11\,13)
DTSTART;TZID=Europe/Berlin:20221211T110000
DTEND;TZID=Europe/Berlin:20221211T130000
LOCATION:TJ Slavia Hradec Králové\, Víta Nejedlého 1216 Hradec Králové
SUMMARY:HK-U16M: Hradec Králové-Nová Paka
END:VEVENT
END:VCALENDAR
