BEGIN:VCALENDAR
VERSION:2.0
PRODID:-//SLAVOJ POLNÁ z.s.79795//NONSGML kigkonsult.se iCalcreator 2.41.80//
CALSCALE:GREGORIAN
UID:39663831-6161-4537-a564-616166623836
BEGIN:VEVENT
UID:64313166-6663-4566-a663-653533393764
DTSTAMP:20260422T224303Z
DESCRIPTION:3/6 SLAVOJ POLNÁ z.s. - Základní škola Přibyslav 3:2 (-19\,9\,-
 21\,10\,6)
DTSTART;TZID=Europe/Berlin:20221008T090000
DTEND;TZID=Europe/Berlin:20221008T110000
LOCATION:Školní tělocvična\, Poděbradova 76 Polná
SUMMARY:VY-U18Z: SLAVOJ POLNÁ z.s.-Základní škola Přibyslav
END:VEVENT
BEGIN:VEVENT
UID:35643263-6431-4733-b837-353939663336
DTSTAMP:20260422T224303Z
DESCRIPTION:4/8 SLAVOJ POLNÁ z.s. - Základní škola Přibyslav 3:1 (-17\,16\,
 18\,16)
DTSTART;TZID=Europe/Berlin:20221008T130000
DTEND;TZID=Europe/Berlin:20221008T150000
LOCATION:Školní tělocvična\, Poděbradova 76 Polná
SUMMARY:VY-U18Z: SLAVOJ POLNÁ z.s.-Základní škola Přibyslav
END:VEVENT
BEGIN:VEVENT
UID:36326665-6635-4133-b034-306565636364
DTSTAMP:20260422T224303Z
DESCRIPTION:7/13 SLAVOJ POLNÁ z.s. - Třebíč 0:3 (-16\,-25\,-17)
DTSTART;TZID=Europe/Berlin:20221112T100000
DTEND;TZID=Europe/Berlin:20221112T120000
LOCATION:Školní tělocvična\, Poděbradova 76 Polná
SUMMARY:VY-U18Z: SLAVOJ POLNÁ z.s.-Třebíč
END:VEVENT
BEGIN:VEVENT
UID:37626539-6161-4135-b631-666664363565
DTSTAMP:20260422T224303Z
DESCRIPTION:8/15 SLAVOJ POLNÁ z.s. - Třebíč 3:0 (23\,23\,16)
DTSTART;TZID=Europe/Berlin:20221112T130000
DTEND;TZID=Europe/Berlin:20221112T150000
LOCATION:Školní tělocvična\, Poděbradova 76 Polná
SUMMARY:VY-U18Z: SLAVOJ POLNÁ z.s.-Třebíč
END:VEVENT
BEGIN:VEVENT
UID:39303333-6335-4438-b037-396331313936
DTSTAMP:20260422T224303Z
DESCRIPTION:15/29 SLAVOJ POLNÁ z.s. - TJ Jiskra Humpolec\, z.s. 3:0 (10\,21
 \,19)
DTSTART;TZID=Europe/Berlin:20221217T100000
DTEND;TZID=Europe/Berlin:20221217T120000
LOCATION:Školní tělocvična\, Poděbradova 76 Polná
SUMMARY:VY-U18Z: SLAVOJ POLNÁ z.s.-TJ Jiskra Humpolec\, z.s.
END:VEVENT
BEGIN:VEVENT
UID:62643063-3636-4133-b133-346437363132
DTSTAMP:20260422T224303Z
DESCRIPTION:16/31 SLAVOJ POLNÁ z.s. - TJ Jiskra Humpolec\, z.s. 3:0 (24\,16
 \,10)
DTSTART;TZID=Europe/Berlin:20221217T130000
DTEND;TZID=Europe/Berlin:20221217T150000
LOCATION:Školní tělocvična\, Poděbradova 76 Polná
SUMMARY:VY-U18Z: SLAVOJ POLNÁ z.s.-TJ Jiskra Humpolec\, z.s.
END:VEVENT
BEGIN:VEVENT
UID:37356539-6163-4263-a162-633063383766
DTSTAMP:20260422T224303Z
DESCRIPTION:19/38 SLAVOJ POLNÁ z.s. - SK Telč\, z.s. 3:0 (8\,17\,13)
DTSTART;TZID=Europe/Berlin:20230114T100000
DTEND;TZID=Europe/Berlin:20230114T120000
LOCATION:Školní tělocvična\, Poděbradova 76 Polná
SUMMARY:VY-U18Z: SLAVOJ POLNÁ z.s.-SK Telč\, z.s.
END:VEVENT
BEGIN:VEVENT
UID:37346233-3664-4662-b461-323233646562
DTSTAMP:20260422T224303Z
DESCRIPTION:20/40 SLAVOJ POLNÁ z.s. - SK Telč\, z.s. 3:0 (17\,16\,16)
DTSTART;TZID=Europe/Berlin:20230114T130000
DTEND;TZID=Europe/Berlin:20230114T150000
LOCATION:Školní tělocvična\, Poděbradova 76 Polná
SUMMARY:VY-U18Z: SLAVOJ POLNÁ z.s.-SK Telč\, z.s.
END:VEVENT
BEGIN:VEVENT
UID:66363161-3338-4539-b237-373934366231
DTSTAMP:20260422T224303Z
DESCRIPTION:23/46 SLAVOJ POLNÁ z.s. - Základní škola Přibyslav 3:0 (22\,19\
 ,15)
DTSTART;TZID=Europe/Berlin:20230211T100000
DTEND;TZID=Europe/Berlin:20230211T120000
LOCATION:Školní tělocvična\, Poděbradova 76 Polná
SUMMARY:VY-U18Z: SLAVOJ POLNÁ z.s.-Základní škola Přibyslav
END:VEVENT
BEGIN:VEVENT
UID:63633830-6433-4834-b231-663263323133
DTSTAMP:20260422T224303Z
DESCRIPTION:24/48 SLAVOJ POLNÁ z.s. - Základní škola Přibyslav 3:1 (-16\,23
 \,24\,16)
DTSTART;TZID=Europe/Berlin:20230211T130000
DTEND;TZID=Europe/Berlin:20230211T150000
LOCATION:Školní tělocvična\, Poděbradova 76 Polná
SUMMARY:VY-U18Z: SLAVOJ POLNÁ z.s.-Základní škola Přibyslav
END:VEVENT
BEGIN:VEVENT
UID:36613930-6262-4961-b966-326363313035
DTSTAMP:20260422T224303Z
DESCRIPTION:27/53 SLAVOJ POLNÁ z.s. - Třebíč 1:3 (-13\,-13\,23\,-19)
DTSTART;TZID=Europe/Berlin:20230311T090000
DTEND;TZID=Europe/Berlin:20230311T110000
LOCATION:Školní tělocvična\, Poděbradova 76 Polná
SUMMARY:VY-U18Z: SLAVOJ POLNÁ z.s.-Třebíč
END:VEVENT
BEGIN:VEVENT
UID:39393132-3463-4963-a237-656461383161
DTSTAMP:20260422T224303Z
DESCRIPTION:28/55 SLAVOJ POLNÁ z.s. - Třebíč 2:3 (24\,-13\,-17\,22\,-6)
DTSTART;TZID=Europe/Berlin:20230311T130000
DTEND;TZID=Europe/Berlin:20230311T150000
LOCATION:Školní tělocvična\, Poděbradova 76 Polná
SUMMARY:VY-U18Z: SLAVOJ POLNÁ z.s.-Třebíč
END:VEVENT
BEGIN:VEVENT
UID:64396239-6634-4261-a638-623561373831
DTSTAMP:20260422T224303Z
DESCRIPTION:5/9 TJ Jiskra Humpolec\, z.s. - SLAVOJ POLNÁ z.s. 0:3 (-7\,-15\
 ,-23)
DTSTART;TZID=Europe/Berlin:20221015T090000
DTEND;TZID=Europe/Berlin:20221015T110000
LOCATION:TJ Jiskra Humpolec\, Tyršovo náměstí 745 Humpolec
SUMMARY:VY-U18Z: TJ Jiskra Humpolec\, z.s.-SLAVOJ POLNÁ z.s.
END:VEVENT
BEGIN:VEVENT
UID:65323138-6135-4661-b862-653639336134
DTSTAMP:20260422T224303Z
DESCRIPTION:6/11 TJ Jiskra Humpolec\, z.s. - SLAVOJ POLNÁ z.s. 1:3 (-7\,22\
 ,-16\,-14)
DTSTART;TZID=Europe/Berlin:20221015T120000
DTEND;TZID=Europe/Berlin:20221015T140000
LOCATION:TJ Jiskra Humpolec\, Tyršovo náměstí 745 Humpolec
SUMMARY:VY-U18Z: TJ Jiskra Humpolec\, z.s.-SLAVOJ POLNÁ z.s.
END:VEVENT
BEGIN:VEVENT
UID:34646631-3566-4365-a136-306630373332
DTSTAMP:20260422T224303Z
DESCRIPTION:9/18 SK Telč\, z.s. - SLAVOJ POLNÁ z.s. 0:3 (-11\,-12\,-14)
DTSTART;TZID=Europe/Berlin:20221126T100000
DTEND;TZID=Europe/Berlin:20221126T120000
LOCATION:Sokol Telč\, Masarykova 222 Telč - Telč-Podolí
SUMMARY:VY-U18Z: SK Telč\, z.s.-SLAVOJ POLNÁ z.s.
END:VEVENT
BEGIN:VEVENT
UID:33316262-6464-4439-b165-313139656330
DTSTAMP:20260422T224303Z
DESCRIPTION:10/20 SK Telč\, z.s. - SLAVOJ POLNÁ z.s. 1:3 (-17\,-19\,22\,-8)
DTSTART;TZID=Europe/Berlin:20221126T130000
DTEND;TZID=Europe/Berlin:20221126T150000
LOCATION:Sokol Telč\, Masarykova 222 Telč - Telč-Podolí
SUMMARY:VY-U18Z: SK Telč\, z.s.-SLAVOJ POLNÁ z.s.
END:VEVENT
BEGIN:VEVENT
UID:33633461-6331-4233-b564-376135366263
DTSTAMP:20260422T224303Z
DESCRIPTION:13/26 Základní škola Přibyslav - SLAVOJ POLNÁ z.s. 1:3 (-12\,16
 \,-22\,-13)
DTSTART;TZID=Europe/Berlin:20220917T100000
DTEND;TZID=Europe/Berlin:20220917T120000
LOCATION:Sportovní hala Přibyslav\, Česká 34 Přibyslav
SUMMARY:VY-U18Z: Základní škola Přibyslav-SLAVOJ POLNÁ z.s.
END:VEVENT
BEGIN:VEVENT
UID:35613562-3662-4061-b034-663535646238
DTSTAMP:20260422T224303Z
DESCRIPTION:14/28 Základní škola Přibyslav - SLAVOJ POLNÁ z.s. 0:3 (-18\,-8
 \,-21)
DTSTART;TZID=Europe/Berlin:20220917T130000
DTEND;TZID=Europe/Berlin:20220917T150000
LOCATION:Sportovní hala Přibyslav\, Česká 34 Přibyslav
SUMMARY:VY-U18Z: Základní škola Přibyslav-SLAVOJ POLNÁ z.s.
END:VEVENT
BEGIN:VEVENT
UID:31313661-6330-4234-b463-643862343139
DTSTAMP:20260422T224303Z
DESCRIPTION:17/33 Třebíč - SLAVOJ POLNÁ z.s. 2:3 (23\,-19\,-13\,11\,-11)
DTSTART;TZID=Europe/Berlin:20230107T100000
DTEND;TZID=Europe/Berlin:20230107T120000
LOCATION:tělocvična HŠ a OA Třebíč\, Otmarova 187 Třebíč - Jejkov
SUMMARY:VY-U18Z: Třebíč-SLAVOJ POLNÁ z.s.
END:VEVENT
BEGIN:VEVENT
UID:38313462-6531-4039-b766-306534306635
DTSTAMP:20260422T224303Z
DESCRIPTION:18/35 Třebíč - SLAVOJ POLNÁ z.s. 3:2 (16\,13\,-19\,-20\,11)
DTSTART;TZID=Europe/Berlin:20230107T130000
DTEND;TZID=Europe/Berlin:20230107T150000
LOCATION:tělocvična HŠ a OA Třebíč\, Otmarova 187 Třebíč - Jejkov
SUMMARY:VY-U18Z: Třebíč-SLAVOJ POLNÁ z.s.
END:VEVENT
BEGIN:VEVENT
UID:61663362-6363-4966-b666-626366373738
DTSTAMP:20260422T224303Z
DESCRIPTION:25/49 TJ Jiskra Humpolec\, z.s. - SLAVOJ POLNÁ z.s. 2:3 (22\,22
 \,-25\,-14\,-8)
DTSTART;TZID=Europe/Berlin:20230304T090000
DTEND;TZID=Europe/Berlin:20230304T110000
LOCATION:TJ Jiskra Humpolec\, Tyršovo náměstí 745 Humpolec
SUMMARY:VY-U18Z: TJ Jiskra Humpolec\, z.s.-SLAVOJ POLNÁ z.s.
END:VEVENT
BEGIN:VEVENT
UID:66336437-3136-4936-a265-363265646534
DTSTAMP:20260422T224303Z
DESCRIPTION:26/51 TJ Jiskra Humpolec\, z.s. - SLAVOJ POLNÁ z.s. 0:3 (-24\,-
 23\,-22)
DTSTART;TZID=Europe/Berlin:20230304T120000
DTEND;TZID=Europe/Berlin:20230304T140000
LOCATION:TJ Jiskra Humpolec\, Tyršovo náměstí 745 Humpolec
SUMMARY:VY-U18Z: TJ Jiskra Humpolec\, z.s.-SLAVOJ POLNÁ z.s.
END:VEVENT
BEGIN:VEVENT
UID:37353338-6136-4937-a231-616266633534
DTSTAMP:20260422T224303Z
DESCRIPTION:29/58 SK Telč\, z.s. - SLAVOJ POLNÁ z.s. 0:3 (-21\,-9\,-22)
DTSTART;TZID=Europe/Berlin:20230401T100000
DTEND;TZID=Europe/Berlin:20230401T120000
LOCATION:Sokol Telč\, Masarykova 222 Telč - Telč-Podolí
SUMMARY:VY-U18Z: SK Telč\, z.s.-SLAVOJ POLNÁ z.s.
END:VEVENT
BEGIN:VEVENT
UID:66353336-6265-4430-b539-363837646637
DTSTAMP:20260422T224303Z
DESCRIPTION:30/60 SK Telč\, z.s. - SLAVOJ POLNÁ z.s. 1:3 (-20\,24\,-21\,-20
 )
DTSTART;TZID=Europe/Berlin:20230401T130000
DTEND;TZID=Europe/Berlin:20230401T150000
LOCATION:Sokol Telč\, Masarykova 222 Telč - Telč-Podolí
SUMMARY:VY-U18Z: SK Telč\, z.s.-SLAVOJ POLNÁ z.s.
END:VEVENT
END:VCALENDAR
