BEGIN:VCALENDAR
VERSION:2.0
PRODID:-//Tělovýchovná jednota Třineckých železáren, spolek79846//NONSGML kigkonsult.se iCalcreator 2.41.80//
CALSCALE:GREGORIAN
UID:36636330-6265-4437-a333-353832393033
BEGIN:VEVENT
UID:36333031-3437-4833-b962-333733633533
DTSTAMP:20260423T151823Z
DESCRIPTION:3/7 TJ Třinec - SK Slezan Orlová A 0:3 (-12\,-12\,-22)
DTSTART;TZID=Europe/Berlin:20221016T100000
DTEND;TZID=Europe/Berlin:20221016T120000
LOCATION:Sportovní hala STaRS Tyršova 275 Třinec - Staré Město
SUMMARY:MS-U20Z-B: TJ Třinec-SK Slezan Orlová A
END:VEVENT
BEGIN:VEVENT
UID:39653634-6432-4134-b437-353136333339
DTSTAMP:20260423T151823Z
DESCRIPTION:4/10 TJ Třinec - SK Slezan Orlová A 0:3 (-21\,-18\,-18)
DTSTART;TZID=Europe/Berlin:20221016T140000
DTEND;TZID=Europe/Berlin:20221016T160000
LOCATION:Sportovní hala STaRS Tyršova 275 Třinec - Staré Město
SUMMARY:MS-U20Z-B: TJ Třinec-SK Slezan Orlová A
END:VEVENT
BEGIN:VEVENT
UID:65653065-3839-4362-a431-363035393963
DTSTAMP:20260423T151823Z
DESCRIPTION:7/19 TJ Třinec - VKB Frýdlant n.O. 1:3 (24\,-17\,-18\,-17)
DTSTART;TZID=Europe/Berlin:20221106T100000
DTEND;TZID=Europe/Berlin:20221106T120000
LOCATION:Sportovní hala STaRS\, Tyršova 275 Třinec - Staré Město
SUMMARY:MS-U20Z-B: TJ Třinec-VKB Frýdlant n.O.
END:VEVENT
BEGIN:VEVENT
UID:37626166-6533-4966-a532-353438346338
DTSTAMP:20260423T151823Z
DESCRIPTION:8/22 TJ Třinec - VKB Frýdlant n.O. 1:3 (-15\,-11\,21\,-13)
DTSTART;TZID=Europe/Berlin:20221106T140000
DTEND;TZID=Europe/Berlin:20221106T160000
LOCATION:Sportovní hala STaRS\, Tyršova 275 Třinec - Staré Město
SUMMARY:MS-U20Z-B: TJ Třinec-VKB Frýdlant n.O.
END:VEVENT
BEGIN:VEVENT
UID:64333265-6636-4363-b237-636464623234
DTSTAMP:20260423T151823Z
DESCRIPTION:11/31 TJ Třinec - KV Kopřivnice 2:3 (25\,-18\,-22\,6\,-16)
DTSTART;TZID=Europe/Berlin:20221127T100000
DTEND;TZID=Europe/Berlin:20221127T120000
LOCATION:Sportovní hala STaRS\, Tyršova 275 Třinec - Staré Město
SUMMARY:MS-U20Z-B: TJ Třinec-KV Kopřivnice
END:VEVENT
BEGIN:VEVENT
UID:62336332-3034-4835-a538-356265623264
DTSTAMP:20260423T151823Z
DESCRIPTION:12/34 TJ Třinec - KV Kopřivnice 3:0 (18\,21\,19)
DTSTART;TZID=Europe/Berlin:20221127T140000
DTEND;TZID=Europe/Berlin:20221127T160000
LOCATION:Sportovní hala STaRS\, Tyršova 275 Třinec - Staré Město
SUMMARY:MS-U20Z-B: TJ Třinec-KV Kopřivnice
END:VEVENT
BEGIN:VEVENT
UID:63653065-3466-4938-a235-653638626339
DTSTAMP:20260423T151823Z
DESCRIPTION:15/43 TJ Třinec - Frýdek - Místek B 0:3 (-22\,-13\,-9)
DTSTART;TZID=Europe/Berlin:20221211T100000
DTEND;TZID=Europe/Berlin:20221211T120000
LOCATION:Sportovní hala STaRS\, Tyršova 275 Třinec - Staré Město
SUMMARY:MS-U20Z-B: TJ Třinec-Frýdek - Místek B
END:VEVENT
BEGIN:VEVENT
UID:35353665-3236-4262-a236-643730643731
DTSTAMP:20260423T151823Z
DESCRIPTION:16/46 TJ Třinec - Frýdek - Místek B 0:3 (-11\,-14\,-5)
DTSTART;TZID=Europe/Berlin:20221211T140000
DTEND;TZID=Europe/Berlin:20221211T160000
LOCATION:Sportovní hala STaRS\, Tyršova 275 Třinec - Staré Město
SUMMARY:MS-U20Z-B: TJ Třinec-Frýdek - Místek B
END:VEVENT
BEGIN:VEVENT
UID:35346330-3861-4963-b263-333034636531
DTSTAMP:20260423T151823Z
DESCRIPTION:19/55 TJ Třinec - TJ Krnov 0:3 (-24\,-24\,-20)
DTSTART;TZID=Europe/Berlin:20230122T100000
DTEND;TZID=Europe/Berlin:20230122T120000
LOCATION:Sportovní hala STaRS\, Tyršova 275 Třinec - Staré Město
SUMMARY:MS-U20Z-B: TJ Třinec-TJ Krnov
END:VEVENT
BEGIN:VEVENT
UID:63336137-6564-4231-b161-336633633631
DTSTAMP:20260423T151823Z
DESCRIPTION:20/58 TJ Třinec - TJ Krnov 3:1 (21\,15\,-25\,12)
DTSTART;TZID=Europe/Berlin:20230122T140000
DTEND;TZID=Europe/Berlin:20230122T160000
LOCATION:Sportovní hala STaRS\, Tyršova 275 Třinec - Staré Město
SUMMARY:MS-U20Z-B: TJ Třinec-TJ Krnov
END:VEVENT
BEGIN:VEVENT
UID:63373238-3335-4062-b662-616239363663
DTSTAMP:20260423T151823Z
DESCRIPTION:1/1 KV Kopřivnice - TJ Třinec 3:2 (-18\,15\,23\,-23\,6)
DTSTART;TZID=Europe/Berlin:20221008T100000
DTEND;TZID=Europe/Berlin:20221008T120000
LOCATION:Tělocvičny ZŠ 17.listopadu Kopřivnice\, 17. listopadu 1225 Kopřivn
 ice
SUMMARY:MS-U20Z-B: KV Kopřivnice-TJ Třinec
END:VEVENT
BEGIN:VEVENT
UID:65366362-6531-4964-a137-633636336434
DTSTAMP:20260423T151823Z
DESCRIPTION:2/4 KV Kopřivnice - TJ Třinec 3:0 (24\,18\,23)
DTSTART;TZID=Europe/Berlin:20221008T140000
DTEND;TZID=Europe/Berlin:20221008T160000
LOCATION:Tělocvičny ZŠ 17.listopadu Kopřivnice\, 17. listopadu 1225 Kopřivn
 ice
SUMMARY:MS-U20Z-B: KV Kopřivnice-TJ Třinec
END:VEVENT
BEGIN:VEVENT
UID:62323466-3637-4663-a537-396563313664
DTSTAMP:20260423T151823Z
DESCRIPTION:5/13 Frýdek - Místek B - TJ Třinec 3:0 (13\,15\,17)
DTSTART;TZID=Europe/Berlin:20221023T100000
DTEND;TZID=Europe/Berlin:20221023T120000
LOCATION:Sokolovna Frýdek-Místek\, Novodvorská 667 Frýdek-Místek - Frýdek
SUMMARY:MS-U20Z-B: Frýdek - Místek B-TJ Třinec
END:VEVENT
BEGIN:VEVENT
UID:31393231-3562-4938-b964-313464663739
DTSTAMP:20260423T151823Z
DESCRIPTION:6/16 Frýdek - Místek B - TJ Třinec 3:0 (10\,16\,23)
DTSTART;TZID=Europe/Berlin:20221023T140000
DTEND;TZID=Europe/Berlin:20221023T160000
LOCATION:Sokolovna Frýdek-Místek\, Novodvorská 667 Frýdek-Místek - Frýdek
SUMMARY:MS-U20Z-B: Frýdek - Místek B-TJ Třinec
END:VEVENT
BEGIN:VEVENT
UID:38343630-6634-4462-a434-636664653764
DTSTAMP:20260423T151823Z
DESCRIPTION:9/25 TJ Krnov - TJ Třinec 3:2 (7\,-24\,23\,-23\,5)
DTSTART;TZID=Europe/Berlin:20221113T100000
DTEND;TZID=Europe/Berlin:20221113T120000
LOCATION:Střední pedagogická a zdravotní škola \, Jiráskova 840 Krnov - Pod
  Bezručovým vrchem
SUMMARY:MS-U20Z-B: TJ Krnov-TJ Třinec
END:VEVENT
BEGIN:VEVENT
UID:32616639-6139-4362-b535-376366633563
DTSTAMP:20260423T151823Z
DESCRIPTION:10/28 TJ Krnov - TJ Třinec 3:0 (16\,22\,18)
DTSTART;TZID=Europe/Berlin:20221113T140000
DTEND;TZID=Europe/Berlin:20221113T160000
LOCATION:Střední pedagogická a zdravotní škola \, Jiráskova 840 Krnov - Pod
  Bezručovým vrchem
SUMMARY:MS-U20Z-B: TJ Krnov-TJ Třinec
END:VEVENT
BEGIN:VEVENT
UID:65363937-3535-4465-b930-613330333866
DTSTAMP:20260423T151823Z
DESCRIPTION:13/37 SK Slezan Orlová A - TJ Třinec 3:1 (20\,18\,-23\,20)
DTSTART;TZID=Europe/Berlin:20221204T100000
DTEND;TZID=Europe/Berlin:20221204T120000
LOCATION:Sportovní hala Gymnázium Orlová\, Masarykova třída 1313 Orlová - L
 utyně
SUMMARY:MS-U20Z-B: SK Slezan Orlová A-TJ Třinec
END:VEVENT
BEGIN:VEVENT
UID:39626139-3835-4630-b037-393764623162
DTSTAMP:20260423T151823Z
DESCRIPTION:14/40 SK Slezan Orlová A - TJ Třinec 3:0 (16\,22\,15)
DTSTART;TZID=Europe/Berlin:20221204T140000
DTEND;TZID=Europe/Berlin:20221204T160000
LOCATION:Sportovní hala Gymnázium Orlová\, Masarykova třída 1313 Orlová - L
 utyně
SUMMARY:MS-U20Z-B: SK Slezan Orlová A-TJ Třinec
END:VEVENT
BEGIN:VEVENT
UID:37623638-6261-4465-a334-643437323235
DTSTAMP:20260423T151823Z
DESCRIPTION:17/49 VKB Frýdlant n.O. - TJ Třinec 0:3 (-25\,-18\,-15)
DTSTART;TZID=Europe/Berlin:20230115T100000
DTEND;TZID=Europe/Berlin:20230115T120000
LOCATION:Sokolovna\, Hlavní 401 Frýdlant nad Ostravicí - Frýdlant
SUMMARY:MS-U20Z-B: VKB Frýdlant n.O.-TJ Třinec
END:VEVENT
BEGIN:VEVENT
UID:33313039-3962-4064-b637-393031373531
DTSTAMP:20260423T151823Z
DESCRIPTION:18/52 VKB Frýdlant n.O. - TJ Třinec 0:3 (-20\,-27\,-13)
DTSTART;TZID=Europe/Berlin:20230115T140000
DTEND;TZID=Europe/Berlin:20230115T160000
LOCATION:Sokolovna\, Hlavní 401 Frýdlant nad Ostravicí - Frýdlant
SUMMARY:MS-U20Z-B: VKB Frýdlant n.O.-TJ Třinec
END:VEVENT
BEGIN:VEVENT
UID:65303062-6639-4431-b465-313232323231
DTSTAMP:20260423T151823Z
DESCRIPTION:3/5 TJ Třinec - VK Polanka n.Odrou 0:3 (-22\,-24\,-17)
DTSTART;TZID=Europe/Berlin:20230219T100000
DTEND;TZID=Europe/Berlin:20230219T120000
LOCATION:Sportovní hala STaRS\, Tyršova 275 Třinec - Staré Město
SUMMARY:MS-U20Z-III: TJ Třinec-VK Polanka n.Odrou
END:VEVENT
BEGIN:VEVENT
UID:61613633-3534-4032-b936-633466646437
DTSTAMP:20260423T151823Z
DESCRIPTION:4/7 TJ Třinec - VK Polanka n.Odrou 3:1 (-21\,18\,21\,16)
DTSTART;TZID=Europe/Berlin:20230219T140000
DTEND;TZID=Europe/Berlin:20230219T160000
LOCATION:Sportovní hala STaRS\, Tyršova 275 Třinec - Staré Město
SUMMARY:MS-U20Z-III: TJ Třinec-VK Polanka n.Odrou
END:VEVENT
BEGIN:VEVENT
UID:65353062-3933-4561-b163-396263323234
DTSTAMP:20260423T151823Z
DESCRIPTION:7/13 TJ Třinec - TJ Hlučín\, A 3:2 (-20\,15\,-14\,24\,9)
DTSTART;TZID=Europe/Berlin:20230312T100000
DTEND;TZID=Europe/Berlin:20230312T120000
LOCATION:Základní škola\, Třinec\, Slezská 773 Třinec - Lyžbice
SUMMARY:MS-U20Z-III: TJ Třinec-TJ Hlučín\, A
END:VEVENT
BEGIN:VEVENT
UID:32376338-6237-4135-b262-303837643237
DTSTAMP:20260423T151823Z
DESCRIPTION:8/15 TJ Třinec - TJ Hlučín\, A 3:0 (23\,16\,20)
DTSTART;TZID=Europe/Berlin:20230312T140000
DTEND;TZID=Europe/Berlin:20230312T160000
LOCATION:Základní škola\, Třinec\, Slezská 773 Třinec - Lyžbice
SUMMARY:MS-U20Z-III: TJ Třinec-TJ Hlučín\, A
END:VEVENT
BEGIN:VEVENT
UID:37333439-6532-4534-b732-383132623335
DTSTAMP:20260423T151823Z
DESCRIPTION:11/21 TJ Třinec - KV Kopřivnice 3:X\nUtkání odloženo
DTSTART;TZID=Europe/Berlin:20230326T100000
DTEND;TZID=Europe/Berlin:20230326T120000
LOCATION:Sportovní hala STaRS\, Tyršova 275 Třinec - Staré Město
SUMMARY:MS-U20Z-III: TJ Třinec-KV Kopřivnice
END:VEVENT
BEGIN:VEVENT
UID:64323436-3162-4531-a139-393832303539
DTSTAMP:20260423T151823Z
DESCRIPTION:12/23 TJ Třinec - KV Kopřivnice 3:X\nUtkání odloženo
DTSTART;TZID=Europe/Berlin:20230326T140000
DTEND;TZID=Europe/Berlin:20230326T160000
LOCATION:Sportovní hala STaRS\, Tyršova 275 Třinec - Staré Město
SUMMARY:MS-U20Z-III: TJ Třinec-KV Kopřivnice
END:VEVENT
BEGIN:VEVENT
UID:38333438-3962-4638-b938-633239386366
DTSTAMP:20260423T151823Z
DESCRIPTION:1/1 TJ Hlučín\, A - TJ Třinec 3:0 (20\,20\,16)
DTSTART;TZID=Europe/Berlin:20230212T090000
DTEND;TZID=Europe/Berlin:20230212T110000
LOCATION:Hala Hlučín - Darkovičky\, Nový svět 402 Hlučín - Darkovičky
SUMMARY:MS-U20Z-III: TJ Hlučín\, A-TJ Třinec
END:VEVENT
BEGIN:VEVENT
UID:63376334-6136-4862-b763-373432323262
DTSTAMP:20260423T151823Z
DESCRIPTION:2/3 TJ Hlučín\, A - TJ Třinec 3:2 (-18\,16\,-13\,14\,9)
DTSTART;TZID=Europe/Berlin:20230212T130000
DTEND;TZID=Europe/Berlin:20230212T150000
LOCATION:Hala Hlučín - Darkovičky\, Nový svět 402 Hlučín - Darkovičky
SUMMARY:MS-U20Z-III: TJ Hlučín\, A-TJ Třinec
END:VEVENT
BEGIN:VEVENT
UID:36376163-6337-4636-b764-613763343330
DTSTAMP:20260423T151823Z
DESCRIPTION:5/9 KV Kopřivnice - TJ Třinec X:3\nUtkání odloženo
DTSTART;TZID=Europe/Berlin:20230331T100000
DTEND;TZID=Europe/Berlin:20230331T120000
LOCATION:Tělocvičny ZŠ 17.listopadu Kopřivnice\, 17. listopadu 1225 Kopřivn
 ice
SUMMARY:MS-U20Z-III: KV Kopřivnice-TJ Třinec
END:VEVENT
BEGIN:VEVENT
UID:34656437-3466-4265-a234-313565626139
DTSTAMP:20260423T151823Z
DESCRIPTION:6/11 KV Kopřivnice - TJ Třinec X:3\nUtkání odloženo
DTSTART;TZID=Europe/Berlin:20230331T140000
DTEND;TZID=Europe/Berlin:20230331T160000
LOCATION:Tělocvičny ZŠ 17.listopadu Kopřivnice\, 17. listopadu 1225 Kopřivn
 ice
SUMMARY:MS-U20Z-III: KV Kopřivnice-TJ Třinec
END:VEVENT
BEGIN:VEVENT
UID:66306563-6361-4338-b766-613764656632
DTSTAMP:20260423T151823Z
DESCRIPTION:9/17 VK Polanka n.Odrou - TJ Třinec 3:1 (10\,-22\,26\,25)
DTSTART;TZID=Europe/Berlin:20230319T090000
DTEND;TZID=Europe/Berlin:20230319T110000
LOCATION:Sportovní hala\, Heleny Salichové 1275 Ostrava - Polanka nad Odrou
SUMMARY:MS-U20Z-III: VK Polanka n.Odrou-TJ Třinec
END:VEVENT
BEGIN:VEVENT
UID:38343565-3565-4863-b864-633564313531
DTSTAMP:20260423T151823Z
DESCRIPTION:10/19 VK Polanka n.Odrou - TJ Třinec 3:0 (15\,16\,21)
DTSTART;TZID=Europe/Berlin:20230319T130000
DTEND;TZID=Europe/Berlin:20230319T150000
LOCATION:Sportovní hala\, Heleny Salichové 1275 Ostrava - Polanka nad Odrou
SUMMARY:MS-U20Z-III: VK Polanka n.Odrou-TJ Třinec
END:VEVENT
END:VCALENDAR
