BEGIN:VCALENDAR
VERSION:2.0
PRODID:-//Klub volejbalu Kopřivnice, z.s.79847//NONSGML kigkonsult.se iCalcreator 2.41.80//
CALSCALE:GREGORIAN
UID:33303533-3132-4432-a337-363032613734
BEGIN:VEVENT
UID:65313761-3363-4838-a639-346437326432
DTSTAMP:20260423T151822Z
DESCRIPTION:1/1 KV Kopřivnice - TJ Třinec 3:2 (-18\,15\,23\,-23\,6)
DTSTART;TZID=Europe/Berlin:20221008T100000
DTEND;TZID=Europe/Berlin:20221008T120000
LOCATION:Tělocvičny ZŠ 17.listopadu Kopřivnice\, 17. listopadu 1225 Kopřivn
 ice
SUMMARY:MS-U20Z-B: KV Kopřivnice-TJ Třinec
END:VEVENT
BEGIN:VEVENT
UID:37323535-6463-4236-a565-326331336361
DTSTAMP:20260423T151822Z
DESCRIPTION:2/4 KV Kopřivnice - TJ Třinec 3:0 (24\,18\,23)
DTSTART;TZID=Europe/Berlin:20221008T140000
DTEND;TZID=Europe/Berlin:20221008T160000
LOCATION:Tělocvičny ZŠ 17.listopadu Kopřivnice\, 17. listopadu 1225 Kopřivn
 ice
SUMMARY:MS-U20Z-B: KV Kopřivnice-TJ Třinec
END:VEVENT
BEGIN:VEVENT
UID:35303638-3237-4430-a530-326431303930
DTSTAMP:20260423T151822Z
DESCRIPTION:3/9 KV Kopřivnice - Frýdek - Místek B 0:3 (-16\,-12\,-18)
DTSTART;TZID=Europe/Berlin:20221016T100000
DTEND;TZID=Europe/Berlin:20221016T120000
LOCATION:Tělocvičny ZŠ 17.listopadu Kopřivnice\, 17. listopadu 1225 Kopřivn
 ice
SUMMARY:MS-U20Z-B: KV Kopřivnice-Frýdek - Místek B
END:VEVENT
BEGIN:VEVENT
UID:33636563-6631-4736-b238-623736316131
DTSTAMP:20260423T151822Z
DESCRIPTION:4/12 KV Kopřivnice - Frýdek - Místek B 0:3 (-11\,-20\,-6)
DTSTART;TZID=Europe/Berlin:20221016T140000
DTEND;TZID=Europe/Berlin:20221016T160000
LOCATION:Tělocvičny ZŠ 17.listopadu Kopřivnice\, 17. listopadu 1225 Kopřivn
 ice
SUMMARY:MS-U20Z-B: KV Kopřivnice-Frýdek - Místek B
END:VEVENT
BEGIN:VEVENT
UID:34396265-3662-4537-a639-666163666364
DTSTAMP:20260423T151822Z
DESCRIPTION:7/20 KV Kopřivnice - SK Slezan Orlová A 1:3 (21\,-12\,-24\,-18)
DTSTART;TZID=Europe/Berlin:20221105T100000
DTEND;TZID=Europe/Berlin:20221105T120000
LOCATION:Tělocvičny ZŠ 17.listopadu Kopřivnice\, 17. listopadu 1225 Kopřivn
 ice
SUMMARY:MS-U20Z-B: KV Kopřivnice-SK Slezan Orlová A
END:VEVENT
BEGIN:VEVENT
UID:32383436-3665-4461-a466-386631663566
DTSTAMP:20260423T151822Z
DESCRIPTION:8/23 KV Kopřivnice - SK Slezan Orlová A 0:3 (-12\,-12\,-21)
DTSTART;TZID=Europe/Berlin:20221105T140000
DTEND;TZID=Europe/Berlin:20221105T160000
LOCATION:Tělocvičny ZŠ 17.listopadu Kopřivnice\, 17. listopadu 1225 Kopřivn
 ice
SUMMARY:MS-U20Z-B: KV Kopřivnice-SK Slezan Orlová A
END:VEVENT
BEGIN:VEVENT
UID:36626336-6666-4537-b031-376239623636
DTSTAMP:20260423T151822Z
DESCRIPTION:15/44 KV Kopřivnice - TJ Krnov 3:0 (18\,20\,13)
DTSTART;TZID=Europe/Berlin:20221211T100000
DTEND;TZID=Europe/Berlin:20221211T120000
LOCATION:Tělocvičny ZŠ 17.listopadu Kopřivnice\, 17. listopadu 1225 Kopřivn
 ice
SUMMARY:MS-U20Z-B: KV Kopřivnice-TJ Krnov
END:VEVENT
BEGIN:VEVENT
UID:37346162-6131-4565-b539-323465383966
DTSTAMP:20260423T151822Z
DESCRIPTION:16/47 KV Kopřivnice - TJ Krnov 3:1 (22\,-25\,18\,12)
DTSTART;TZID=Europe/Berlin:20221211T140000
DTEND;TZID=Europe/Berlin:20221211T160000
LOCATION:Tělocvičny ZŠ 17.listopadu Kopřivnice\, 17. listopadu 1225 Kopřivn
 ice
SUMMARY:MS-U20Z-B: KV Kopřivnice-TJ Krnov
END:VEVENT
BEGIN:VEVENT
UID:33613331-3931-4036-a632-396166363132
DTSTAMP:20260423T151822Z
DESCRIPTION:19/57 KV Kopřivnice - VKB Frýdlant n.O. 3:2 (-14\,21\,-14\,22\,
 11)
DTSTART;TZID=Europe/Berlin:20230122T100000
DTEND;TZID=Europe/Berlin:20230122T120000
LOCATION:Tělocvičny ZŠ 17.listopadu Kopřivnice\, 17. listopadu 1225 Kopřivn
 ice
SUMMARY:MS-U20Z-B: KV Kopřivnice-VKB Frýdlant n.O.
END:VEVENT
BEGIN:VEVENT
UID:63393164-6439-4563-a336-643063343362
DTSTAMP:20260423T151822Z
DESCRIPTION:20/60 KV Kopřivnice - VKB Frýdlant n.O. 3:1 (23\,-16\,12\,20)
DTSTART;TZID=Europe/Berlin:20230122T140000
DTEND;TZID=Europe/Berlin:20230122T160000
LOCATION:Tělocvičny ZŠ 17.listopadu Kopřivnice\, 17. listopadu 1225 Kopřivn
 ice
SUMMARY:MS-U20Z-B: KV Kopřivnice-VKB Frýdlant n.O.
END:VEVENT
BEGIN:VEVENT
UID:37663066-3262-4563-b836-666437643230
DTSTAMP:20260423T151822Z
DESCRIPTION:5/14 TJ Krnov - KV Kopřivnice 3:0 (21\,19\,23)
DTSTART;TZID=Europe/Berlin:20221023T100000
DTEND;TZID=Europe/Berlin:20221023T120000
LOCATION:Střední pedagogická a zdravotní škola \, Jiráskova 840 Krnov - Pod
  Bezručovým vrchem
SUMMARY:MS-U20Z-B: TJ Krnov-KV Kopřivnice
END:VEVENT
BEGIN:VEVENT
UID:62646635-3030-4131-b035-303836303731
DTSTAMP:20260423T151822Z
DESCRIPTION:6/17 TJ Krnov - KV Kopřivnice 3:1 (18\,23\,-17\,22)
DTSTART;TZID=Europe/Berlin:20221023T140000
DTEND;TZID=Europe/Berlin:20221023T160000
LOCATION:Střední pedagogická a zdravotní škola \, Jiráskova 840 Krnov - Pod
  Bezručovým vrchem
SUMMARY:MS-U20Z-B: TJ Krnov-KV Kopřivnice
END:VEVENT
BEGIN:VEVENT
UID:64643961-3937-4638-b765-373933313265
DTSTAMP:20260423T151822Z
DESCRIPTION:9/27 VKB Frýdlant n.O. - KV Kopřivnice 3:0 (16\,21\,8)
DTSTART;TZID=Europe/Berlin:20221113T100000
DTEND;TZID=Europe/Berlin:20221113T120000
LOCATION:Sokolovna\, Hlavní 401 Frýdlant nad Ostravicí - Frýdlant
SUMMARY:MS-U20Z-B: VKB Frýdlant n.O.-KV Kopřivnice
END:VEVENT
BEGIN:VEVENT
UID:32313733-6134-4432-b331-333761663330
DTSTAMP:20260423T151822Z
DESCRIPTION:10/30 VKB Frýdlant n.O. - KV Kopřivnice 3:0 (20\,21\,12)
DTSTART;TZID=Europe/Berlin:20221113T140000
DTEND;TZID=Europe/Berlin:20221113T160000
LOCATION:Sokolovna\, Hlavní 401 Frýdlant nad Ostravicí - Frýdlant
SUMMARY:MS-U20Z-B: VKB Frýdlant n.O.-KV Kopřivnice
END:VEVENT
BEGIN:VEVENT
UID:63316138-3165-4135-a135-376665353163
DTSTAMP:20260423T151822Z
DESCRIPTION:11/31 TJ Třinec - KV Kopřivnice 2:3 (25\,-18\,-22\,6\,-16)
DTSTART;TZID=Europe/Berlin:20221127T100000
DTEND;TZID=Europe/Berlin:20221127T120000
LOCATION:Sportovní hala STaRS\, Tyršova 275 Třinec - Staré Město
SUMMARY:MS-U20Z-B: TJ Třinec-KV Kopřivnice
END:VEVENT
BEGIN:VEVENT
UID:38333762-3066-4438-b635-333266373434
DTSTAMP:20260423T151822Z
DESCRIPTION:12/34 TJ Třinec - KV Kopřivnice 3:0 (18\,21\,19)
DTSTART;TZID=Europe/Berlin:20221127T140000
DTEND;TZID=Europe/Berlin:20221127T160000
LOCATION:Sportovní hala STaRS\, Tyršova 275 Třinec - Staré Město
SUMMARY:MS-U20Z-B: TJ Třinec-KV Kopřivnice
END:VEVENT
BEGIN:VEVENT
UID:62336537-3165-4533-b765-623763656631
DTSTAMP:20260423T151822Z
DESCRIPTION:13/39 Frýdek - Místek B - KV Kopřivnice 3:0 (14\,22\,14)
DTSTART;TZID=Europe/Berlin:20221210T090000
DTEND;TZID=Europe/Berlin:20221210T110000
LOCATION:Sokolovna Frýdek-Místek\, Novodvorská 667 Frýdek-Místek - Frýdek
SUMMARY:MS-U20Z-B: Frýdek - Místek B-KV Kopřivnice
END:VEVENT
BEGIN:VEVENT
UID:38306366-3763-4763-b938-366663383539
DTSTAMP:20260423T151822Z
DESCRIPTION:14/42 Frýdek - Místek B - KV Kopřivnice 3:0 (16\,13\,13)
DTSTART;TZID=Europe/Berlin:20221210T130000
DTEND;TZID=Europe/Berlin:20221210T150000
LOCATION:Sokolovna Frýdek-Místek\, Novodvorská 667 Frýdek-Místek - Frýdek
SUMMARY:MS-U20Z-B: Frýdek - Místek B-KV Kopřivnice
END:VEVENT
BEGIN:VEVENT
UID:63666261-3631-4666-b036-386434633438
DTSTAMP:20260423T151822Z
DESCRIPTION:17/50 SK Slezan Orlová A - KV Kopřivnice 3:0 (15\,15\,7)
DTSTART;TZID=Europe/Berlin:20230115T100000
DTEND;TZID=Europe/Berlin:20230115T120000
LOCATION:Sportovní hala Gymnázium Orlová\, Masarykova třída 1313 Orlová - L
 utyně
SUMMARY:MS-U20Z-B: SK Slezan Orlová A-KV Kopřivnice
END:VEVENT
BEGIN:VEVENT
UID:32636531-6137-4736-b233-613333633436
DTSTAMP:20260423T151822Z
DESCRIPTION:18/53 SK Slezan Orlová A - KV Kopřivnice 3:0 (19\,10\,15)
DTSTART;TZID=Europe/Berlin:20230115T140000
DTEND;TZID=Europe/Berlin:20230115T160000
LOCATION:Sportovní hala Gymnázium Orlová\, Masarykova třída 1313 Orlová - L
 utyně
SUMMARY:MS-U20Z-B: SK Slezan Orlová A-KV Kopřivnice
END:VEVENT
BEGIN:VEVENT
UID:63303335-6631-4131-b234-663461636337
DTSTAMP:20260423T151822Z
DESCRIPTION:1/2 KV Kopřivnice - VK Polanka n.Odrou X:3\nUtkání odloženo
DTSTART;TZID=Europe/Berlin:20230225T100000
DTEND;TZID=Europe/Berlin:20230225T120000
LOCATION:Tělocvičny ZŠ 17.listopadu Kopřivnice\, 17. listopadu 1225 Kopřivn
 ice
SUMMARY:MS-U20Z-III: KV Kopřivnice-VK Polanka n.Odrou
END:VEVENT
BEGIN:VEVENT
UID:63313037-3433-4739-a234-633730346333
DTSTAMP:20260423T151822Z
DESCRIPTION:2/4 KV Kopřivnice - VK Polanka n.Odrou X:3\nUtkání odloženo
DTSTART;TZID=Europe/Berlin:20230225T140000
DTEND;TZID=Europe/Berlin:20230225T160000
LOCATION:Tělocvičny ZŠ 17.listopadu Kopřivnice\, 17. listopadu 1225 Kopřivn
 ice
SUMMARY:MS-U20Z-III: KV Kopřivnice-VK Polanka n.Odrou
END:VEVENT
BEGIN:VEVENT
UID:34343165-3639-4539-b933-613835316238
DTSTAMP:20260423T151822Z
DESCRIPTION:5/9 KV Kopřivnice - TJ Třinec X:3\nUtkání odloženo
DTSTART;TZID=Europe/Berlin:20230331T100000
DTEND;TZID=Europe/Berlin:20230331T120000
LOCATION:Tělocvičny ZŠ 17.listopadu Kopřivnice\, 17. listopadu 1225 Kopřivn
 ice
SUMMARY:MS-U20Z-III: KV Kopřivnice-TJ Třinec
END:VEVENT
BEGIN:VEVENT
UID:33626664-6164-4138-b762-636364346635
DTSTAMP:20260423T151822Z
DESCRIPTION:6/11 KV Kopřivnice - TJ Třinec X:3\nUtkání odloženo
DTSTART;TZID=Europe/Berlin:20230331T140000
DTEND;TZID=Europe/Berlin:20230331T160000
LOCATION:Tělocvičny ZŠ 17.listopadu Kopřivnice\, 17. listopadu 1225 Kopřivn
 ice
SUMMARY:MS-U20Z-III: KV Kopřivnice-TJ Třinec
END:VEVENT
BEGIN:VEVENT
UID:33653938-3564-4632-a562-393933323439
DTSTAMP:20260423T151822Z
DESCRIPTION:9/18 KV Kopřivnice - TJ Hlučín\, A 3:2 (16\,12\,-19\,-18\,11)
DTSTART;TZID=Europe/Berlin:20230319T100000
DTEND;TZID=Europe/Berlin:20230319T120000
LOCATION:Tělocvičny ZŠ 17.listopadu Kopřivnice\, 17. listopadu 1225 Kopřivn
 ice
SUMMARY:MS-U20Z-III: KV Kopřivnice-TJ Hlučín\, A
END:VEVENT
BEGIN:VEVENT
UID:34623561-3230-4165-b530-633639313865
DTSTAMP:20260423T151822Z
DESCRIPTION:10/20 KV Kopřivnice - TJ Hlučín\, A 3:1 (-8\,23\,17\,20)
DTSTART;TZID=Europe/Berlin:20230319T140000
DTEND;TZID=Europe/Berlin:20230319T160000
LOCATION:Tělocvičny ZŠ 17.listopadu Kopřivnice\, 17. listopadu 1225 Kopřivn
 ice
SUMMARY:MS-U20Z-III: KV Kopřivnice-TJ Hlučín\, A
END:VEVENT
BEGIN:VEVENT
UID:39383134-3030-4237-b730-316438386634
DTSTAMP:20260423T151822Z
DESCRIPTION:3/6 TJ Hlučín\, A - KV Kopřivnice 3:X\nUtkání odloženo
DTSTART;TZID=Europe/Berlin:20230218T090000
DTEND;TZID=Europe/Berlin:20230218T110000
LOCATION:Sportovní hala\, Tyršova 1668 Hlučín
SUMMARY:MS-U20Z-III: TJ Hlučín\, A-KV Kopřivnice
END:VEVENT
BEGIN:VEVENT
UID:65633233-3066-4364-b562-666431643136
DTSTAMP:20260423T151822Z
DESCRIPTION:4/8 TJ Hlučín\, A - KV Kopřivnice 3:X\nUtkání odloženo
DTSTART;TZID=Europe/Berlin:20230218T130000
DTEND;TZID=Europe/Berlin:20230218T150000
LOCATION:Sportovní hala\, Tyršova 1668 Hlučín
SUMMARY:MS-U20Z-III: TJ Hlučín\, A-KV Kopřivnice
END:VEVENT
BEGIN:VEVENT
UID:65383236-6665-4739-b831-373337343363
DTSTAMP:20260423T151822Z
DESCRIPTION:7/14 VK Polanka n.Odrou - KV Kopřivnice 3:0 (9\,26\,15)
DTSTART;TZID=Europe/Berlin:20230317T170000
DTEND;TZID=Europe/Berlin:20230317T190000
LOCATION:Sportovní hala\, Heleny Salichové 1275 Ostrava - Polanka nad Odrou
SUMMARY:MS-U20Z-III: VK Polanka n.Odrou-KV Kopřivnice
END:VEVENT
BEGIN:VEVENT
UID:37633236-3437-4532-b937-616539386365
DTSTAMP:20260423T151822Z
DESCRIPTION:8/16 VK Polanka n.Odrou - KV Kopřivnice 3:0 (14\,10\,17)
DTSTART;TZID=Europe/Berlin:20230317T190000
DTEND;TZID=Europe/Berlin:20230317T210000
LOCATION:Sportovní hala\, Heleny Salichové 1275 Ostrava - Polanka nad Odrou
SUMMARY:MS-U20Z-III: VK Polanka n.Odrou-KV Kopřivnice
END:VEVENT
BEGIN:VEVENT
UID:33316137-6137-4930-b434-666561386661
DTSTAMP:20260423T151822Z
DESCRIPTION:11/21 TJ Třinec - KV Kopřivnice 3:X\nUtkání odloženo
DTSTART;TZID=Europe/Berlin:20230326T100000
DTEND;TZID=Europe/Berlin:20230326T120000
LOCATION:Sportovní hala STaRS\, Tyršova 275 Třinec - Staré Město
SUMMARY:MS-U20Z-III: TJ Třinec-KV Kopřivnice
END:VEVENT
BEGIN:VEVENT
UID:37343531-6435-4461-b136-376533396663
DTSTAMP:20260423T151822Z
DESCRIPTION:12/23 TJ Třinec - KV Kopřivnice 3:X\nUtkání odloženo
DTSTART;TZID=Europe/Berlin:20230326T140000
DTEND;TZID=Europe/Berlin:20230326T160000
LOCATION:Sportovní hala STaRS\, Tyršova 275 Třinec - Staré Město
SUMMARY:MS-U20Z-III: TJ Třinec-KV Kopřivnice
END:VEVENT
END:VCALENDAR
