BEGIN:VCALENDAR
VERSION:2.0
PRODID:-//TJ Sokol Frýdek - Místek B79852//NONSGML kigkonsult.se iCalcreator 2.41.80//
CALSCALE:GREGORIAN
UID:34653262-3263-4364-b761-326132366432
BEGIN:VEVENT
UID:64633137-6666-4036-b336-316262646334
DTSTAMP:20260423T000330Z
DESCRIPTION:1/2 Frýdek - Místek B - VKB Frýdlant n.O. 3:0 (17\,17\,13)
DTSTART;TZID=Europe/Berlin:20221009T100000
DTEND;TZID=Europe/Berlin:20221009T120000
LOCATION:Sokolovna Frýdek-Místek\, Novodvorská 667 Frýdek-Místek - Frýdek
SUMMARY:MS-U20Z-B: Frýdek - Místek B-VKB Frýdlant n.O.
END:VEVENT
BEGIN:VEVENT
UID:36303665-3635-4266-b030-343765366364
DTSTAMP:20260423T000330Z
DESCRIPTION:2/5 Frýdek - Místek B - VKB Frýdlant n.O. 3:0 (9\,17\,12)
DTSTART;TZID=Europe/Berlin:20221009T140000
DTEND;TZID=Europe/Berlin:20221009T160000
LOCATION:Sokolovna Frýdek-Místek\, Novodvorská 667 Frýdek-Místek - Frýdek
SUMMARY:MS-U20Z-B: Frýdek - Místek B-VKB Frýdlant n.O.
END:VEVENT
BEGIN:VEVENT
UID:62333166-3765-4930-b162-636535663862
DTSTAMP:20260423T000330Z
DESCRIPTION:5/13 Frýdek - Místek B - TJ Třinec 3:0 (13\,15\,17)
DTSTART;TZID=Europe/Berlin:20221023T100000
DTEND;TZID=Europe/Berlin:20221023T120000
LOCATION:Sokolovna Frýdek-Místek\, Novodvorská 667 Frýdek-Místek - Frýdek
SUMMARY:MS-U20Z-B: Frýdek - Místek B-TJ Třinec
END:VEVENT
BEGIN:VEVENT
UID:36363862-3934-4230-a664-323634383630
DTSTAMP:20260423T000330Z
DESCRIPTION:6/16 Frýdek - Místek B - TJ Třinec 3:0 (10\,16\,23)
DTSTART;TZID=Europe/Berlin:20221023T140000
DTEND;TZID=Europe/Berlin:20221023T160000
LOCATION:Sokolovna Frýdek-Místek\, Novodvorská 667 Frýdek-Místek - Frýdek
SUMMARY:MS-U20Z-B: Frýdek - Místek B-TJ Třinec
END:VEVENT
BEGIN:VEVENT
UID:33633037-3132-4735-b639-383462356238
DTSTAMP:20260423T000330Z
DESCRIPTION:7/21 Frýdek - Místek B - TJ Krnov 3:0 (10\,15\,13)
DTSTART;TZID=Europe/Berlin:20221106T100000
DTEND;TZID=Europe/Berlin:20221106T120000
LOCATION:Sokolovna Frýdek-Místek\, Novodvorská 667 Frýdek-Místek - Frýdek
SUMMARY:MS-U20Z-B: Frýdek - Místek B-TJ Krnov
END:VEVENT
BEGIN:VEVENT
UID:36333464-3161-4862-a463-303231666664
DTSTAMP:20260423T000330Z
DESCRIPTION:8/24 Frýdek - Místek B - TJ Krnov 3:0 (15\,14\,19)
DTSTART;TZID=Europe/Berlin:20221106T140000
DTEND;TZID=Europe/Berlin:20221106T160000
LOCATION:Sokolovna Frýdek-Místek\, Novodvorská 667 Frýdek-Místek - Frýdek
SUMMARY:MS-U20Z-B: Frýdek - Místek B-TJ Krnov
END:VEVENT
BEGIN:VEVENT
UID:33353363-3036-4230-b931-386239356330
DTSTAMP:20260423T000330Z
DESCRIPTION:13/39 Frýdek - Místek B - KV Kopřivnice 3:0 (14\,22\,14)
DTSTART;TZID=Europe/Berlin:20221210T090000
DTEND;TZID=Europe/Berlin:20221210T110000
LOCATION:Sokolovna Frýdek-Místek\, Novodvorská 667 Frýdek-Místek - Frýdek
SUMMARY:MS-U20Z-B: Frýdek - Místek B-KV Kopřivnice
END:VEVENT
BEGIN:VEVENT
UID:66386361-3337-4238-b331-303161393934
DTSTAMP:20260423T000330Z
DESCRIPTION:14/42 Frýdek - Místek B - KV Kopřivnice 3:0 (16\,13\,13)
DTSTART;TZID=Europe/Berlin:20221210T130000
DTEND;TZID=Europe/Berlin:20221210T150000
LOCATION:Sokolovna Frýdek-Místek\, Novodvorská 667 Frýdek-Místek - Frýdek
SUMMARY:MS-U20Z-B: Frýdek - Místek B-KV Kopřivnice
END:VEVENT
BEGIN:VEVENT
UID:37663836-3366-4761-b038-643433626462
DTSTAMP:20260423T000330Z
DESCRIPTION:19/56 Frýdek - Místek B - SK Slezan Orlová A 3:1 (-24\,18\,15\,
 14)
DTSTART;TZID=Europe/Berlin:20230122T100000
DTEND;TZID=Europe/Berlin:20230122T120000
LOCATION:Sokolovna Frýdek-Místek\, Novodvorská 667 Frýdek-Místek - Frýdek
SUMMARY:MS-U20Z-B: Frýdek - Místek B-SK Slezan Orlová A
END:VEVENT
BEGIN:VEVENT
UID:39396533-3530-4135-b666-653330303736
DTSTAMP:20260423T000330Z
DESCRIPTION:20/59 Frýdek - Místek B - SK Slezan Orlová A 3:0 (20\,11\,19)
DTSTART;TZID=Europe/Berlin:20230122T140000
DTEND;TZID=Europe/Berlin:20230122T160000
LOCATION:Sokolovna Frýdek-Místek\, Novodvorská 667 Frýdek-Místek - Frýdek
SUMMARY:MS-U20Z-B: Frýdek - Místek B-SK Slezan Orlová A
END:VEVENT
BEGIN:VEVENT
UID:63386237-3232-4166-b737-343030626531
DTSTAMP:20260423T000330Z
DESCRIPTION:3/9 KV Kopřivnice - Frýdek - Místek B 0:3 (-16\,-12\,-18)
DTSTART;TZID=Europe/Berlin:20221016T100000
DTEND;TZID=Europe/Berlin:20221016T120000
LOCATION:Tělocvičny ZŠ 17.listopadu Kopřivnice\, 17. listopadu 1225 Kopřivn
 ice
SUMMARY:MS-U20Z-B: KV Kopřivnice-Frýdek - Místek B
END:VEVENT
BEGIN:VEVENT
UID:63313536-3532-4432-a334-613531633064
DTSTAMP:20260423T000330Z
DESCRIPTION:4/12 KV Kopřivnice - Frýdek - Místek B 0:3 (-11\,-20\,-6)
DTSTART;TZID=Europe/Berlin:20221016T140000
DTEND;TZID=Europe/Berlin:20221016T160000
LOCATION:Tělocvičny ZŠ 17.listopadu Kopřivnice\, 17. listopadu 1225 Kopřivn
 ice
SUMMARY:MS-U20Z-B: KV Kopřivnice-Frýdek - Místek B
END:VEVENT
BEGIN:VEVENT
UID:64393831-3730-4239-b939-333938656335
DTSTAMP:20260423T000330Z
DESCRIPTION:9/26 SK Slezan Orlová A - Frýdek - Místek B 1:3 (23\,-7\,-19\,-
 18)
DTSTART;TZID=Europe/Berlin:20221113T100000
DTEND;TZID=Europe/Berlin:20221113T120000
LOCATION:Sportovní hala Gymnázium Orlová\, Masarykova třída 1313 Orlová - L
 utyně
SUMMARY:MS-U20Z-B: SK Slezan Orlová A-Frýdek - Místek B
END:VEVENT
BEGIN:VEVENT
UID:36383766-3431-4364-b830-373930366630
DTSTAMP:20260423T000330Z
DESCRIPTION:10/29 SK Slezan Orlová A - Frýdek - Místek B 1:3 (-12\,-16\,26\
 ,-23)
DTSTART;TZID=Europe/Berlin:20221113T140000
DTEND;TZID=Europe/Berlin:20221113T160000
LOCATION:Sportovní hala Gymnázium Orlová\, Masarykova třída 1313 Orlová - L
 utyně
SUMMARY:MS-U20Z-B: SK Slezan Orlová A-Frýdek - Místek B
END:VEVENT
BEGIN:VEVENT
UID:64643035-3161-4438-b533-626265633963
DTSTAMP:20260423T000330Z
DESCRIPTION:11/32 VKB Frýdlant n.O. - Frýdek - Místek B 0:3 (-20\,-21\,-23)
DTSTART;TZID=Europe/Berlin:20221127T100000
DTEND;TZID=Europe/Berlin:20221127T120000
LOCATION:Sokolovna\, Hlavní 401 Frýdlant nad Ostravicí - Frýdlant
SUMMARY:MS-U20Z-B: VKB Frýdlant n.O.-Frýdek - Místek B
END:VEVENT
BEGIN:VEVENT
UID:61633638-3139-4333-b665-663838316630
DTSTAMP:20260423T000330Z
DESCRIPTION:12/35 VKB Frýdlant n.O. - Frýdek - Místek B 0:3 (-18\,-18\,-20)
DTSTART;TZID=Europe/Berlin:20221127T140000
DTEND;TZID=Europe/Berlin:20221127T160000
LOCATION:Sokolovna\, Hlavní 401 Frýdlant nad Ostravicí - Frýdlant
SUMMARY:MS-U20Z-B: VKB Frýdlant n.O.-Frýdek - Místek B
END:VEVENT
BEGIN:VEVENT
UID:32393938-3666-4734-a462-343564666639
DTSTAMP:20260423T000330Z
DESCRIPTION:15/43 TJ Třinec - Frýdek - Místek B 0:3 (-22\,-13\,-9)
DTSTART;TZID=Europe/Berlin:20221211T100000
DTEND;TZID=Europe/Berlin:20221211T120000
LOCATION:Sportovní hala STaRS\, Tyršova 275 Třinec - Staré Město
SUMMARY:MS-U20Z-B: TJ Třinec-Frýdek - Místek B
END:VEVENT
BEGIN:VEVENT
UID:31333238-6165-4566-a663-396438643965
DTSTAMP:20260423T000330Z
DESCRIPTION:16/46 TJ Třinec - Frýdek - Místek B 0:3 (-11\,-14\,-5)
DTSTART;TZID=Europe/Berlin:20221211T140000
DTEND;TZID=Europe/Berlin:20221211T160000
LOCATION:Sportovní hala STaRS\, Tyršova 275 Třinec - Staré Město
SUMMARY:MS-U20Z-B: TJ Třinec-Frýdek - Místek B
END:VEVENT
BEGIN:VEVENT
UID:61646332-6533-4862-b165-383066393464
DTSTAMP:20260423T000330Z
DESCRIPTION:17/51 TJ Krnov - Frýdek - Místek B 0:3 (-20\,-15\,-13)\nNH
DTSTART;TZID=Europe/Berlin:20230115T100000
DTEND;TZID=Europe/Berlin:20230115T120000
LOCATION:Střední pedagogická a zdravotní škola \, Jiráskova 840 Krnov - Pod
  Bezručovým vrchem
SUMMARY:MS-U20Z-B: TJ Krnov-Frýdek - Místek B
END:VEVENT
BEGIN:VEVENT
UID:39346439-3366-4263-b438-663234373364
DTSTAMP:20260423T000330Z
DESCRIPTION:18/54 TJ Krnov - Frýdek - Místek B 0:3 (-8\,-9\,-9)\nNH
DTSTART;TZID=Europe/Berlin:20230115T140000
DTEND;TZID=Europe/Berlin:20230115T160000
LOCATION:Střední pedagogická a zdravotní škola \, Jiráskova 840 Krnov - Pod
  Bezručovým vrchem
SUMMARY:MS-U20Z-B: TJ Krnov-Frýdek - Místek B
END:VEVENT
BEGIN:VEVENT
UID:30316139-3363-4337-b538-626137626130
DTSTAMP:20260423T000330Z
DESCRIPTION:1/2 Frýdek - Místek B - ŠSK Bílovec 3:2 (22\,-17\,-19\,15\,7)
DTSTART;TZID=Europe/Berlin:20230212T100000
DTEND;TZID=Europe/Berlin:20230212T120000
LOCATION:Sokolovna Frýdek-Místek\, Novodvorská 667 Frýdek-Místek - Frýdek
SUMMARY:MS-U20Z-I: Frýdek - Místek B-ŠSK Bílovec
END:VEVENT
BEGIN:VEVENT
UID:38663665-3864-4230-a231-376239373137
DTSTAMP:20260423T000330Z
DESCRIPTION:2/4 Frýdek - Místek B - ŠSK Bílovec 3:1 (-18\,13\,19\,22)
DTSTART;TZID=Europe/Berlin:20230212T140000
DTEND;TZID=Europe/Berlin:20230212T160000
LOCATION:Sokolovna Frýdek-Místek\, Novodvorská 667 Frýdek-Místek - Frýdek
SUMMARY:MS-U20Z-I: Frýdek - Místek B-ŠSK Bílovec
END:VEVENT
BEGIN:VEVENT
UID:39353336-3735-4336-a336-313531316237
DTSTAMP:20260423T000330Z
DESCRIPTION:5/9 Frýdek - Místek B - SK Slezan Orlová A 3:0 (5\,15\,8)
DTSTART;TZID=Europe/Berlin:20230226T100000
DTEND;TZID=Europe/Berlin:20230226T120000
LOCATION:Sokolovna Frýdek-Místek\, Novodvorská 667 Frýdek-Místek - Frýdek
SUMMARY:MS-U20Z-I: Frýdek - Místek B-SK Slezan Orlová A
END:VEVENT
BEGIN:VEVENT
UID:64663233-3631-4965-a234-353037346436
DTSTAMP:20260423T000330Z
DESCRIPTION:6/11 Frýdek - Místek B - SK Slezan Orlová A 3:0 (11\,20\,14)
DTSTART;TZID=Europe/Berlin:20230226T140000
DTEND;TZID=Europe/Berlin:20230226T160000
LOCATION:Sokolovna Frýdek-Místek\, Novodvorská 667 Frýdek-Místek - Frýdek
SUMMARY:MS-U20Z-I: Frýdek - Místek B-SK Slezan Orlová A
END:VEVENT
BEGIN:VEVENT
UID:63663130-6132-4965-a434-383231316232
DTSTAMP:20260423T000330Z
DESCRIPTION:9/18 Frýdek - Místek B - TJ ODRY\, z.s. 3:0 (19\,15\,21)
DTSTART;TZID=Europe/Berlin:20230319T100000
DTEND;TZID=Europe/Berlin:20230319T120000
LOCATION:Sokolovna Frýdek-Místek\, Novodvorská 667 Frýdek-Místek - Frýdek
SUMMARY:MS-U20Z-I: Frýdek - Místek B-TJ ODRY\, z.s.
END:VEVENT
BEGIN:VEVENT
UID:35356265-6461-4738-b239-373636306239
DTSTAMP:20260423T000330Z
DESCRIPTION:10/20 Frýdek - Místek B - TJ ODRY\, z.s. 3:0 (23\,14\,16)
DTSTART;TZID=Europe/Berlin:20230319T140000
DTEND;TZID=Europe/Berlin:20230319T160000
LOCATION:Sokolovna Frýdek-Místek\, Novodvorská 667 Frýdek-Místek - Frýdek
SUMMARY:MS-U20Z-I: Frýdek - Místek B-TJ ODRY\, z.s.
END:VEVENT
BEGIN:VEVENT
UID:38363230-3438-4630-b262-656431633166
DTSTAMP:20260423T000330Z
DESCRIPTION:3/6 TJ ODRY\, z.s. - Frýdek - Místek B 0:3 (-21\,-22\,-14)
DTSTART;TZID=Europe/Berlin:20230219T100000
DTEND;TZID=Europe/Berlin:20230219T120000
LOCATION:Tělocvična\, Pohořská 1010 Odry
SUMMARY:MS-U20Z-I: TJ ODRY\, z.s.-Frýdek - Místek B
END:VEVENT
BEGIN:VEVENT
UID:38366362-3663-4439-b238-313230653766
DTSTAMP:20260423T000330Z
DESCRIPTION:4/8 TJ ODRY\, z.s. - Frýdek - Místek B 0:3 (-17\,-19\,-14)
DTSTART;TZID=Europe/Berlin:20230219T140000
DTEND;TZID=Europe/Berlin:20230219T160000
LOCATION:Tělocvična\, Pohořská 1010 Odry
SUMMARY:MS-U20Z-I: TJ ODRY\, z.s.-Frýdek - Místek B
END:VEVENT
BEGIN:VEVENT
UID:65373665-3535-4365-a461-356632373432
DTSTAMP:20260423T000330Z
DESCRIPTION:7/14 ŠSK Bílovec - Frýdek - Místek B 1:3 (23\,-23\,-15\,-23)
DTSTART;TZID=Europe/Berlin:20230312T090000
DTEND;TZID=Europe/Berlin:20230312T110000
LOCATION:Tělocvična GMK Bílovec\, 17. listopadu 526 Bílovec
SUMMARY:MS-U20Z-I: ŠSK Bílovec-Frýdek - Místek B
END:VEVENT
BEGIN:VEVENT
UID:62633030-3937-4363-b439-396130633239
DTSTAMP:20260423T000330Z
DESCRIPTION:8/16 ŠSK Bílovec - Frýdek - Místek B 3:1 (-28\,25\,11\,13)
DTSTART;TZID=Europe/Berlin:20230312T130000
DTEND;TZID=Europe/Berlin:20230312T150000
LOCATION:Tělocvična GMK Bílovec\, 17. listopadu 526 Bílovec
SUMMARY:MS-U20Z-I: ŠSK Bílovec-Frýdek - Místek B
END:VEVENT
BEGIN:VEVENT
UID:32303664-6665-4164-b533-353735316435
DTSTAMP:20260423T000330Z
DESCRIPTION:11/21 SK Slezan Orlová A - Frýdek - Místek B 0:3 (-21\,-10\,-15
 )
DTSTART;TZID=Europe/Berlin:20230326T090000
DTEND;TZID=Europe/Berlin:20230326T110000
LOCATION:Sportovní hala Gymnázium Orlová\, Masarykova třída 1313 Orlová - L
 utyně
SUMMARY:MS-U20Z-I: SK Slezan Orlová A-Frýdek - Místek B
END:VEVENT
BEGIN:VEVENT
UID:35363439-3835-4230-b136-303230383162
DTSTAMP:20260423T000330Z
DESCRIPTION:12/23 SK Slezan Orlová A - Frýdek - Místek B 1:3 (-23\,-13\,17\
 ,-15)
DTSTART;TZID=Europe/Berlin:20230326T140000
DTEND;TZID=Europe/Berlin:20230326T160000
LOCATION:Sportovní hala Gymnázium Orlová\, Masarykova třída 1313 Orlová - L
 utyně
SUMMARY:MS-U20Z-I: SK Slezan Orlová A-Frýdek - Místek B
END:VEVENT
BEGIN:VEVENT
UID:38346363-3830-4662-b430-623438313862
DTSTAMP:20260423T000330Z
DESCRIPTION:1/3 Frýdek - Místek B - Vyškov 2:3 (-22\,19\,11\,-23\,-13)
DTSTART;TZID=Europe/Berlin:20230429T130000
DTEND;TZID=Europe/Berlin:20230429T150000
LOCATION:Tělocvična ZŠ Šlapanice\, Masarykovo náměstí 1594 Šlapanice
SUMMARY:2-U20Z-KC: Frýdek - Místek B-Vyškov
END:VEVENT
BEGIN:VEVENT
UID:36336166-3135-4334-a130-333861343935
DTSTAMP:20260423T000330Z
DESCRIPTION:1/5 Frýdek - Místek B - Prostějov B 0:3 (-16\,-12\,-19)
DTSTART;TZID=Europe/Berlin:20230429T170000
DTEND;TZID=Europe/Berlin:20230429T190000
LOCATION:Tělocvična ZŠ Šlapanice\, Masarykovo náměstí 1594 Šlapanice
SUMMARY:2-U20Z-KC: Frýdek - Místek B-Prostějov B
END:VEVENT
BEGIN:VEVENT
UID:30646633-3038-4038-b262-366166643366
DTSTAMP:20260423T000330Z
DESCRIPTION:2/7 Šlapanice - Frýdek - Místek B 0:3 (-18\,-15\,-17)
DTSTART;TZID=Europe/Berlin:20230430T110000
DTEND;TZID=Europe/Berlin:20230430T130000
LOCATION:Tělocvična ZŠ Šlapanice\, Masarykovo náměstí 1594 Šlapanice
SUMMARY:2-U20Z-KC: Šlapanice-Frýdek - Místek B
END:VEVENT
BEGIN:VEVENT
UID:31363030-3435-4630-b861-383963383537
DTSTAMP:20260423T000330Z
DESCRIPTION:2/9 Vsetín - Frýdek - Místek B 2:3 (-25\,23\,-20\,20\,-8)
DTSTART;TZID=Europe/Berlin:20230430T150000
DTEND;TZID=Europe/Berlin:20230430T170000
LOCATION:Tělocvična ZŠ Šlapanice\, Masarykovo náměstí 1594 Šlapanice
SUMMARY:2-U20Z-KC: Vsetín-Frýdek - Místek B
END:VEVENT
END:VCALENDAR
