BEGIN:VCALENDAR
VERSION:2.0
PRODID:-//VK Polanka nad Odrou, z.s.79854//NONSGML kigkonsult.se iCalcreator 2.41.80//
CALSCALE:GREGORIAN
UID:63363630-3139-4836-b531-366634313438
BEGIN:VEVENT
UID:61653333-3436-4663-b264-626466396563
DTSTAMP:20260423T150651Z
DESCRIPTION:5/15 VK Polanka n.Odrou - VO Slezská Orlice 1:3 (-16\,23\,-7\,-
 12)
DTSTART;TZID=Europe/Berlin:20221023T090000
DTEND;TZID=Europe/Berlin:20221023T110000
LOCATION:Sportovní hala\, Heleny Salichové 1275 Ostrava - Polanka nad Odrou
SUMMARY:MS-U20Z-A: VK Polanka n.Odrou-VO Slezská Orlice
END:VEVENT
BEGIN:VEVENT
UID:30333366-3964-4666-b030-313131376338
DTSTAMP:20260423T150651Z
DESCRIPTION:6/18 VK Polanka n.Odrou - VO Slezská Orlice 0:3 (-12\,-17\,-25)
DTSTART;TZID=Europe/Berlin:20221023T130000
DTEND;TZID=Europe/Berlin:20221023T150000
LOCATION:Sportovní hala\, Heleny Salichové 1275 Ostrava - Polanka nad Odrou
SUMMARY:MS-U20Z-A: VK Polanka n.Odrou-VO Slezská Orlice
END:VEVENT
BEGIN:VEVENT
UID:34616236-3236-4339-b061-366266663266
DTSTAMP:20260423T150651Z
DESCRIPTION:9/26 VK Polanka n.Odrou - TJ ODRY\, z.s. 1:3 (-16\,24\,-16\,-8)
DTSTART;TZID=Europe/Berlin:20221112T140000
DTEND;TZID=Europe/Berlin:20221112T160000
LOCATION:Sportovní hala\, Heleny Salichové 1275 Ostrava - Polanka nad Odrou
SUMMARY:MS-U20Z-A: VK Polanka n.Odrou-TJ ODRY\, z.s.
END:VEVENT
BEGIN:VEVENT
UID:61613538-3061-4166-b661-656362623633
DTSTAMP:20260423T150651Z
DESCRIPTION:10/29 VK Polanka n.Odrou - TJ ODRY\, z.s. 0:3 (-14\,-20\,-10)
DTSTART;TZID=Europe/Berlin:20221112T170000
DTEND;TZID=Europe/Berlin:20221112T190000
LOCATION:Sportovní hala\, Heleny Salichové 1275 Ostrava - Polanka nad Odrou
SUMMARY:MS-U20Z-A: VK Polanka n.Odrou-TJ ODRY\, z.s.
END:VEVENT
BEGIN:VEVENT
UID:30623234-3136-4835-a535-383732653764
DTSTAMP:20260423T150651Z
DESCRIPTION:11/33 VK Polanka n.Odrou - SK Slezan Orlová 3:1 (-21\,19\,19\,2
 1)
DTSTART;TZID=Europe/Berlin:20221126T100000
DTEND;TZID=Europe/Berlin:20221126T120000
LOCATION:Sportovní hala\, Heleny Salichové 1275 Ostrava - Polanka nad Odrou
SUMMARY:MS-U20Z-A: VK Polanka n.Odrou-SK Slezan Orlová
END:VEVENT
BEGIN:VEVENT
UID:61346237-6163-4665-b234-393932316136
DTSTAMP:20260423T150651Z
DESCRIPTION:12/36 VK Polanka n.Odrou - SK Slezan Orlová 1:3 (20\,-17\,-19\,
 -17)
DTSTART;TZID=Europe/Berlin:20221126T130000
DTEND;TZID=Europe/Berlin:20221126T150000
LOCATION:Sportovní hala\, Heleny Salichové 1275 Ostrava - Polanka nad Odrou
SUMMARY:MS-U20Z-A: VK Polanka n.Odrou-SK Slezan Orlová
END:VEVENT
BEGIN:VEVENT
UID:33376561-6139-4933-b431-353163363931
DTSTAMP:20260423T150651Z
DESCRIPTION:13/37 VK Polanka n.Odrou - TJ Hlučín\, A 3:1 (8\,18\,-14\,20)
DTSTART;TZID=Europe/Berlin:20221204T090000
DTEND;TZID=Europe/Berlin:20221204T110000
LOCATION:Sportovní hala\, Heleny Salichové 1275 Ostrava - Polanka nad Odrou
SUMMARY:MS-U20Z-A: VK Polanka n.Odrou-TJ Hlučín\, A
END:VEVENT
BEGIN:VEVENT
UID:33626161-3137-4062-a238-643839326664
DTSTAMP:20260423T150651Z
DESCRIPTION:14/40 VK Polanka n.Odrou - TJ Hlučín\, A 3:0 (15\,23\,8)
DTSTART;TZID=Europe/Berlin:20221204T130000
DTEND;TZID=Europe/Berlin:20221204T150000
LOCATION:Sportovní hala\, Heleny Salichové 1275 Ostrava - Polanka nad Odrou
SUMMARY:MS-U20Z-A: VK Polanka n.Odrou-TJ Hlučín\, A
END:VEVENT
BEGIN:VEVENT
UID:65616333-6433-4639-b132-666130643634
DTSTAMP:20260423T150651Z
DESCRIPTION:17/50 VK Polanka n.Odrou - ŠSK Bílovec 0:3 (-14\,-24\,-17)
DTSTART;TZID=Europe/Berlin:20230115T090000
DTEND;TZID=Europe/Berlin:20230115T110000
LOCATION:Sportovní hala\, Heleny Salichové 1275 Ostrava - Polanka nad Odrou
SUMMARY:MS-U20Z-A: VK Polanka n.Odrou-ŠSK Bílovec
END:VEVENT
BEGIN:VEVENT
UID:62656266-3961-4963-b039-353763333736
DTSTAMP:20260423T150651Z
DESCRIPTION:18/53 VK Polanka n.Odrou - ŠSK Bílovec 0:3 (-10\,-10\,-19)
DTSTART;TZID=Europe/Berlin:20230115T130000
DTEND;TZID=Europe/Berlin:20230115T150000
LOCATION:Sportovní hala\, Heleny Salichové 1275 Ostrava - Polanka nad Odrou
SUMMARY:MS-U20Z-A: VK Polanka n.Odrou-ŠSK Bílovec
END:VEVENT
BEGIN:VEVENT
UID:61333734-3363-4262-a262-663630663533
DTSTAMP:20260423T150651Z
DESCRIPTION:1/3 SK Slezan Orlová - VK Polanka n.Odrou 3:0 (8\,5\,18)
DTSTART;TZID=Europe/Berlin:20221009T100000
DTEND;TZID=Europe/Berlin:20221009T120000
LOCATION:Sportovní hala Gymnázium Orlová\, Masarykova třída 1313 Orlová - L
 utyně
SUMMARY:MS-U20Z-A: SK Slezan Orlová-VK Polanka n.Odrou
END:VEVENT
BEGIN:VEVENT
UID:39353531-3630-4630-a163-653437636562
DTSTAMP:20260423T150651Z
DESCRIPTION:2/6 SK Slezan Orlová - VK Polanka n.Odrou 3:0 (19\,18\,13)
DTSTART;TZID=Europe/Berlin:20221009T140000
DTEND;TZID=Europe/Berlin:20221009T160000
LOCATION:Sportovní hala Gymnázium Orlová\, Masarykova třída 1313 Orlová - L
 utyně
SUMMARY:MS-U20Z-A: SK Slezan Orlová-VK Polanka n.Odrou
END:VEVENT
BEGIN:VEVENT
UID:39313164-3436-4930-a234-356163303962
DTSTAMP:20260423T150651Z
DESCRIPTION:3/7 TJ Hlučín\, A - VK Polanka n.Odrou 3:0 (12\,10\,23)
DTSTART;TZID=Europe/Berlin:20221016T090000
DTEND;TZID=Europe/Berlin:20221016T110000
LOCATION:Sportovní hala\, Tyršova 1668 Hlučín
SUMMARY:MS-U20Z-A: TJ Hlučín\, A-VK Polanka n.Odrou
END:VEVENT
BEGIN:VEVENT
UID:38626531-6639-4033-b461-373335303032
DTSTAMP:20260423T150651Z
DESCRIPTION:4/10 TJ Hlučín\, A - VK Polanka n.Odrou 3:1 (23\,6\,-21\,6)
DTSTART;TZID=Europe/Berlin:20221016T130000
DTEND;TZID=Europe/Berlin:20221016T150000
LOCATION:Sportovní hala\, Tyršova 1668 Hlučín
SUMMARY:MS-U20Z-A: TJ Hlučín\, A-VK Polanka n.Odrou
END:VEVENT
BEGIN:VEVENT
UID:64303063-3763-4232-a137-383637303565
DTSTAMP:20260423T150651Z
DESCRIPTION:7/20 ŠSK Bílovec - VK Polanka n.Odrou 3:0 (20\,19\,23)
DTSTART;TZID=Europe/Berlin:20221106T100000
DTEND;TZID=Europe/Berlin:20221106T120000
LOCATION:Tělocvična GMK Bílovec\, 17. listopadu 526 Bílovec
SUMMARY:MS-U20Z-A: ŠSK Bílovec-VK Polanka n.Odrou
END:VEVENT
BEGIN:VEVENT
UID:63376264-6637-4735-b163-356362316231
DTSTAMP:20260423T150651Z
DESCRIPTION:8/23 ŠSK Bílovec - VK Polanka n.Odrou 3:0 (20\,16\,23)
DTSTART;TZID=Europe/Berlin:20221106T140000
DTEND;TZID=Europe/Berlin:20221106T160000
LOCATION:Tělocvična GMK Bílovec\, 17. listopadu 526 Bílovec
SUMMARY:MS-U20Z-A: ŠSK Bílovec-VK Polanka n.Odrou
END:VEVENT
BEGIN:VEVENT
UID:62363236-3330-4637-b137-643739356631
DTSTAMP:20260423T150651Z
DESCRIPTION:15/45 VO Slezská Orlice - VK Polanka n.Odrou 3:0 (12\,13\,13)
DTSTART;TZID=Europe/Berlin:20230108T100000
DTEND;TZID=Europe/Berlin:20230108T120000
LOCATION:ZŠ Janáčkovo náměstí 17\, Janáčkovo náměstí 1970 Krnov - Pod Bezru
 čovým vrchem
SUMMARY:MS-U20Z-A: VO Slezská Orlice-VK Polanka n.Odrou
END:VEVENT
BEGIN:VEVENT
UID:34646631-6139-4661-a330-666530653836
DTSTAMP:20260423T150651Z
DESCRIPTION:16/48 VO Slezská Orlice - VK Polanka n.Odrou 3:0 (15\,20\,26)
DTSTART;TZID=Europe/Berlin:20230108T140000
DTEND;TZID=Europe/Berlin:20230108T160000
LOCATION:ZŠ Janáčkovo náměstí 17\, Janáčkovo náměstí 1970 Krnov - Pod Bezru
 čovým vrchem
SUMMARY:MS-U20Z-A: VO Slezská Orlice-VK Polanka n.Odrou
END:VEVENT
BEGIN:VEVENT
UID:30613862-3639-4462-b131-363336333133
DTSTAMP:20260423T150651Z
DESCRIPTION:19/56 TJ ODRY\, z.s. - VK Polanka n.Odrou 3:0 (12\,16\,22)
DTSTART;TZID=Europe/Berlin:20230121T100000
DTEND;TZID=Europe/Berlin:20230121T120000
LOCATION:Tělocvična\, Pohořská 1010 Odry
SUMMARY:MS-U20Z-A: TJ ODRY\, z.s.-VK Polanka n.Odrou
END:VEVENT
BEGIN:VEVENT
UID:66383630-6237-4438-a538-346630303961
DTSTAMP:20260423T150651Z
DESCRIPTION:20/59 TJ ODRY\, z.s. - VK Polanka n.Odrou 3:0 (18\,15\,9)
DTSTART;TZID=Europe/Berlin:20230121T140000
DTEND;TZID=Europe/Berlin:20230121T160000
LOCATION:Tělocvična\, Pohořská 1010 Odry
SUMMARY:MS-U20Z-A: TJ ODRY\, z.s.-VK Polanka n.Odrou
END:VEVENT
BEGIN:VEVENT
UID:39376139-3163-4061-b861-383533366136
DTSTAMP:20260423T150651Z
DESCRIPTION:5/10 VK Polanka n.Odrou - TJ Hlučín\, A 3:0 (19\,16\,19)
DTSTART;TZID=Europe/Berlin:20230331T170000
DTEND;TZID=Europe/Berlin:20230331T190000
LOCATION:Sportovní hala\, Heleny Salichové 1275 Ostrava - Polanka nad Odrou
SUMMARY:MS-U20Z-III: VK Polanka n.Odrou-TJ Hlučín\, A
END:VEVENT
BEGIN:VEVENT
UID:35383766-3761-4639-a231-356637356263
DTSTAMP:20260423T150651Z
DESCRIPTION:6/12 VK Polanka n.Odrou - TJ Hlučín\, A 3:0 (15\,20\,22)
DTSTART;TZID=Europe/Berlin:20230331T190000
DTEND;TZID=Europe/Berlin:20230331T210000
LOCATION:Sportovní hala\, Heleny Salichové 1275 Ostrava - Polanka nad Odrou
SUMMARY:MS-U20Z-III: VK Polanka n.Odrou-TJ Hlučín\, A
END:VEVENT
BEGIN:VEVENT
UID:62333632-3131-4563-b931-646635383461
DTSTAMP:20260423T150651Z
DESCRIPTION:7/14 VK Polanka n.Odrou - KV Kopřivnice 3:0 (9\,26\,15)
DTSTART;TZID=Europe/Berlin:20230317T170000
DTEND;TZID=Europe/Berlin:20230317T190000
LOCATION:Sportovní hala\, Heleny Salichové 1275 Ostrava - Polanka nad Odrou
SUMMARY:MS-U20Z-III: VK Polanka n.Odrou-KV Kopřivnice
END:VEVENT
BEGIN:VEVENT
UID:38643737-3130-4331-b930-306138383531
DTSTAMP:20260423T150651Z
DESCRIPTION:8/16 VK Polanka n.Odrou - KV Kopřivnice 3:0 (14\,10\,17)
DTSTART;TZID=Europe/Berlin:20230317T190000
DTEND;TZID=Europe/Berlin:20230317T210000
LOCATION:Sportovní hala\, Heleny Salichové 1275 Ostrava - Polanka nad Odrou
SUMMARY:MS-U20Z-III: VK Polanka n.Odrou-KV Kopřivnice
END:VEVENT
BEGIN:VEVENT
UID:30653865-3665-4239-b231-373539356266
DTSTAMP:20260423T150651Z
DESCRIPTION:9/17 VK Polanka n.Odrou - TJ Třinec 3:1 (10\,-22\,26\,25)
DTSTART;TZID=Europe/Berlin:20230319T090000
DTEND;TZID=Europe/Berlin:20230319T110000
LOCATION:Sportovní hala\, Heleny Salichové 1275 Ostrava - Polanka nad Odrou
SUMMARY:MS-U20Z-III: VK Polanka n.Odrou-TJ Třinec
END:VEVENT
BEGIN:VEVENT
UID:36333630-6136-4438-a566-376666356566
DTSTAMP:20260423T150651Z
DESCRIPTION:10/19 VK Polanka n.Odrou - TJ Třinec 3:0 (15\,16\,21)
DTSTART;TZID=Europe/Berlin:20230319T130000
DTEND;TZID=Europe/Berlin:20230319T150000
LOCATION:Sportovní hala\, Heleny Salichové 1275 Ostrava - Polanka nad Odrou
SUMMARY:MS-U20Z-III: VK Polanka n.Odrou-TJ Třinec
END:VEVENT
BEGIN:VEVENT
UID:39336130-6138-4235-b761-623238663030
DTSTAMP:20260423T150651Z
DESCRIPTION:1/2 KV Kopřivnice - VK Polanka n.Odrou X:3\nUtkání odloženo
DTSTART;TZID=Europe/Berlin:20230225T100000
DTEND;TZID=Europe/Berlin:20230225T120000
LOCATION:Tělocvičny ZŠ 17.listopadu Kopřivnice\, 17. listopadu 1225 Kopřivn
 ice
SUMMARY:MS-U20Z-III: KV Kopřivnice-VK Polanka n.Odrou
END:VEVENT
BEGIN:VEVENT
UID:62393062-6266-4637-a534-366238643963
DTSTAMP:20260423T150651Z
DESCRIPTION:2/4 KV Kopřivnice - VK Polanka n.Odrou X:3\nUtkání odloženo
DTSTART;TZID=Europe/Berlin:20230225T140000
DTEND;TZID=Europe/Berlin:20230225T160000
LOCATION:Tělocvičny ZŠ 17.listopadu Kopřivnice\, 17. listopadu 1225 Kopřivn
 ice
SUMMARY:MS-U20Z-III: KV Kopřivnice-VK Polanka n.Odrou
END:VEVENT
BEGIN:VEVENT
UID:32376564-6631-4166-b735-383039363336
DTSTAMP:20260423T150651Z
DESCRIPTION:3/5 TJ Třinec - VK Polanka n.Odrou 0:3 (-22\,-24\,-17)
DTSTART;TZID=Europe/Berlin:20230219T100000
DTEND;TZID=Europe/Berlin:20230219T120000
LOCATION:Sportovní hala STaRS\, Tyršova 275 Třinec - Staré Město
SUMMARY:MS-U20Z-III: TJ Třinec-VK Polanka n.Odrou
END:VEVENT
BEGIN:VEVENT
UID:37633331-3332-4264-b166-643062303762
DTSTAMP:20260423T150651Z
DESCRIPTION:4/7 TJ Třinec - VK Polanka n.Odrou 3:1 (-21\,18\,21\,16)
DTSTART;TZID=Europe/Berlin:20230219T140000
DTEND;TZID=Europe/Berlin:20230219T160000
LOCATION:Sportovní hala STaRS\, Tyršova 275 Třinec - Staré Město
SUMMARY:MS-U20Z-III: TJ Třinec-VK Polanka n.Odrou
END:VEVENT
BEGIN:VEVENT
UID:66336332-6361-4136-a263-666238663364
DTSTAMP:20260423T150651Z
DESCRIPTION:11/22 TJ Hlučín\, A - VK Polanka n.Odrou 3:2 (-19\,22\,16\,-23\
 ,7)
DTSTART;TZID=Europe/Berlin:20230325T090000
DTEND;TZID=Europe/Berlin:20230325T110000
LOCATION:Hala Hlučín - Darkovičky\, Nový svět 402 Hlučín - Darkovičky
SUMMARY:MS-U20Z-III: TJ Hlučín\, A-VK Polanka n.Odrou
END:VEVENT
BEGIN:VEVENT
UID:65656438-6432-4761-a365-386637643137
DTSTAMP:20260423T150651Z
DESCRIPTION:12/24 TJ Hlučín\, A - VK Polanka n.Odrou 3:0 (26\,16\,20)
DTSTART;TZID=Europe/Berlin:20230325T130000
DTEND;TZID=Europe/Berlin:20230325T150000
LOCATION:Hala Hlučín - Darkovičky\, Nový svět 402 Hlučín - Darkovičky
SUMMARY:MS-U20Z-III: TJ Hlučín\, A-VK Polanka n.Odrou
END:VEVENT
END:VCALENDAR
